BEGIN:VCALENDAR
VERSION:2.0
PRODID:-//Rangiora Photographic Society - ECPv6.15.20//NONSGML v1.0//EN
CALSCALE:GREGORIAN
METHOD:PUBLISH
X-ORIGINAL-URL:https://rps.nz
X-WR-CALDESC:Events for Rangiora Photographic Society
REFRESH-INTERVAL;VALUE=DURATION:PT1H
X-Robots-Tag:noindex
X-PUBLISHED-TTL:PT1H
BEGIN:VTIMEZONE
TZID:Pacific/Auckland
BEGIN:STANDARD
TZOFFSETFROM:+1300
TZOFFSETTO:+1200
TZNAME:NZST
DTSTART:20250405T140000
END:STANDARD
BEGIN:DAYLIGHT
TZOFFSETFROM:+1200
TZOFFSETTO:+1300
TZNAME:NZDT
DTSTART:20250927T140000
END:DAYLIGHT
BEGIN:STANDARD
TZOFFSETFROM:+1300
TZOFFSETTO:+1200
TZNAME:NZST
DTSTART:20260404T140000
END:STANDARD
BEGIN:DAYLIGHT
TZOFFSETFROM:+1200
TZOFFSETTO:+1300
TZNAME:NZDT
DTSTART:20260926T140000
END:DAYLIGHT
BEGIN:STANDARD
TZOFFSETFROM:+1300
TZOFFSETTO:+1200
TZNAME:NZST
DTSTART:20270403T140000
END:STANDARD
BEGIN:DAYLIGHT
TZOFFSETFROM:+1200
TZOFFSETTO:+1300
TZNAME:NZDT
DTSTART:20270925T140000
END:DAYLIGHT
END:VTIMEZONE
BEGIN:VEVENT
DTSTART;TZID=Pacific/Auckland:20260901T190000
DTEND;TZID=Pacific/Auckland:20260901T210000
DTSTAMP:20260425T085924
CREATED:20260105T011637Z
LAST-MODIFIED:20260105T011709Z
UID:11258-1788289200-1788296400@rps.nz
SUMMARY:Club Night
DESCRIPTION:Show and Tell \nTextures tutorial
URL:https://rps.nz/event/club-night-dup-17/
END:VEVENT
BEGIN:VEVENT
DTSTART;TZID=Pacific/Auckland:20260915T190000
DTEND;TZID=Pacific/Auckland:20260915T210000
DTSTAMP:20260425T085924
CREATED:20260105T011721Z
LAST-MODIFIED:20260105T011748Z
UID:11260-1789498800-1789506000@rps.nz
SUMMARY:Club Night
DESCRIPTION:Bridges tutorial \n2nd Open judged \n2nd Dianne White judged
URL:https://rps.nz/event/club-night-dup-18/
END:VEVENT
BEGIN:VEVENT
DTSTART;TZID=Pacific/Auckland:20260916T234500
DTEND;TZID=Pacific/Auckland:20260916T234500
DTSTAMP:20260425T085924
CREATED:20260105T011802Z
LAST-MODIFIED:20260105T011844Z
UID:11262-1789602300-1789602300@rps.nz
SUMMARY:Combined Photojournalism / Travel NZ / Street Closes
DESCRIPTION:Combined Photojournalism / Travel NZ / Street Closes
URL:https://rps.nz/event/2nd-dianne-white-creative-cup-closes-dup/
END:VEVENT
END:VCALENDAR