BEGIN:VCALENDAR
VERSION:2.0
PRODID:-//Rangiora Photographic Society - ECPv6.15.20//NONSGML v1.0//EN
CALSCALE:GREGORIAN
METHOD:PUBLISH
X-WR-CALNAME:Rangiora Photographic Society
X-ORIGINAL-URL:https://rps.nz
X-WR-CALDESC:Events for Rangiora Photographic Society
REFRESH-INTERVAL;VALUE=DURATION:PT1H
X-Robots-Tag:noindex
X-PUBLISHED-TTL:PT1H
BEGIN:VTIMEZONE
TZID:Pacific/Auckland
BEGIN:STANDARD
TZOFFSETFROM:+1300
TZOFFSETTO:+1200
TZNAME:NZST
DTSTART:20250405T140000
END:STANDARD
BEGIN:DAYLIGHT
TZOFFSETFROM:+1200
TZOFFSETTO:+1300
TZNAME:NZDT
DTSTART:20250927T140000
END:DAYLIGHT
BEGIN:STANDARD
TZOFFSETFROM:+1300
TZOFFSETTO:+1200
TZNAME:NZST
DTSTART:20260404T140000
END:STANDARD
BEGIN:DAYLIGHT
TZOFFSETFROM:+1200
TZOFFSETTO:+1300
TZNAME:NZDT
DTSTART:20260926T140000
END:DAYLIGHT
BEGIN:STANDARD
TZOFFSETFROM:+1300
TZOFFSETTO:+1200
TZNAME:NZST
DTSTART:20270403T140000
END:STANDARD
BEGIN:DAYLIGHT
TZOFFSETFROM:+1200
TZOFFSETTO:+1300
TZNAME:NZDT
DTSTART:20270925T140000
END:DAYLIGHT
END:VTIMEZONE
BEGIN:VEVENT
DTSTART;TZID=Pacific/Auckland:20260707T190000
DTEND;TZID=Pacific/Auckland:20260707T210000
DTSTAMP:20260425T055304
CREATED:20260105T010933Z
LAST-MODIFIED:20260105T011004Z
UID:11242-1783450800-1783458000@rps.nz
SUMMARY:Club Night
DESCRIPTION:Show and Tell \nWinter sports tutorial
URL:https://rps.nz/event/club-night-dup-13/
END:VEVENT
BEGIN:VEVENT
DTSTART;TZID=Pacific/Auckland:20260721T190000
DTEND;TZID=Pacific/Auckland:20260721T210000
DTSTAMP:20260425T055304
CREATED:20260105T011026Z
LAST-MODIFIED:20260105T011049Z
UID:11244-1784660400-1784667600@rps.nz
SUMMARY:Club Night
DESCRIPTION:Light Painting tutorial \nArchitecture judged
URL:https://rps.nz/event/club-night-dup-14/
END:VEVENT
BEGIN:VEVENT
DTSTART;TZID=Pacific/Auckland:20260722T234500
DTEND;TZID=Pacific/Auckland:20260722T234500
DTSTAMP:20260425T055304
CREATED:20260105T011105Z
LAST-MODIFIED:20260105T011153Z
UID:11246-1784763900-1784763900@rps.nz
SUMMARY:Environmental Portraiture closes
DESCRIPTION:Environmental Portraiture closes
URL:https://rps.nz/event/architecture-closes-dup/
END:VEVENT
BEGIN:VEVENT
DTSTART;TZID=Pacific/Auckland:20260722T234500
DTEND;TZID=Pacific/Auckland:20260722T234500
DTSTAMP:20260425T055304
CREATED:20260105T011202Z
LAST-MODIFIED:20260105T011222Z
UID:11248-1784763900-1784763900@rps.nz
SUMMARY:2nd Online closes
DESCRIPTION:2nd Online closes
URL:https://rps.nz/event/environmental-portraiture-closes-dup/
END:VEVENT
END:VCALENDAR