BEGIN:VCALENDAR
VERSION:2.0
PRODID:-//Rangiora Photographic Society - ECPv6.15.20//NONSGML v1.0//EN
CALSCALE:GREGORIAN
METHOD:PUBLISH
X-WR-CALNAME:Rangiora Photographic Society
X-ORIGINAL-URL:https://rps.nz
X-WR-CALDESC:Events for Rangiora Photographic Society
REFRESH-INTERVAL;VALUE=DURATION:PT1H
X-Robots-Tag:noindex
X-PUBLISHED-TTL:PT1H
BEGIN:VTIMEZONE
TZID:Pacific/Auckland
BEGIN:STANDARD
TZOFFSETFROM:+1300
TZOFFSETTO:+1200
TZNAME:NZST
DTSTART:20250405T140000
END:STANDARD
BEGIN:DAYLIGHT
TZOFFSETFROM:+1200
TZOFFSETTO:+1300
TZNAME:NZDT
DTSTART:20250927T140000
END:DAYLIGHT
BEGIN:STANDARD
TZOFFSETFROM:+1300
TZOFFSETTO:+1200
TZNAME:NZST
DTSTART:20260404T140000
END:STANDARD
BEGIN:DAYLIGHT
TZOFFSETFROM:+1200
TZOFFSETTO:+1300
TZNAME:NZDT
DTSTART:20260926T140000
END:DAYLIGHT
BEGIN:STANDARD
TZOFFSETFROM:+1300
TZOFFSETTO:+1200
TZNAME:NZST
DTSTART:20270403T140000
END:STANDARD
BEGIN:DAYLIGHT
TZOFFSETFROM:+1200
TZOFFSETTO:+1300
TZNAME:NZDT
DTSTART:20270925T140000
END:DAYLIGHT
END:VTIMEZONE
BEGIN:VEVENT
DTSTART;TZID=Pacific/Auckland:20260505T190000
DTEND;TZID=Pacific/Auckland:20260505T210000
DTSTAMP:20260425T023214
CREATED:20260105T010355Z
LAST-MODIFIED:20260105T010434Z
UID:11230-1778007600-1778014800@rps.nz
SUMMARY:Club Night
DESCRIPTION:Show and Tell \nClose up macros and stacking tutorial
URL:https://rps.nz/event/club-night-dup-9/
END:VEVENT
BEGIN:VEVENT
DTSTART;TZID=Pacific/Auckland:20260519T190000
DTEND;TZID=Pacific/Auckland:20260519T210000
DTSTAMP:20260425T023214
CREATED:20260105T010458Z
LAST-MODIFIED:20260105T010550Z
UID:11232-1779217200-1779224400@rps.nz
SUMMARY:Club Night
DESCRIPTION:Still life – glass photos tutorial \nLandscape judged \n1st Diane White judged
URL:https://rps.nz/event/club-night-dup-10/
END:VEVENT
BEGIN:VEVENT
DTSTART;TZID=Pacific/Auckland:20260520T234500
DTEND;TZID=Pacific/Auckland:20260520T234500
DTSTAMP:20260425T023214
CREATED:20260105T010246Z
LAST-MODIFIED:20260421T091734Z
UID:11228-1779320700-1779320700@rps.nz
SUMMARY:1st Dianne White Creative Cup closes
DESCRIPTION:1st Dianne White Creative Cup closes
URL:https://rps.nz/event/landscape-closes-dup/
END:VEVENT
BEGIN:VEVENT
DTSTART;TZID=Pacific/Auckland:20260520T234500
DTEND;TZID=Pacific/Auckland:20260520T234500
DTSTAMP:20260425T023214
CREATED:20260105T010801Z
LAST-MODIFIED:20260105T010832Z
UID:11238-1779320700-1779320700@rps.nz
SUMMARY:Macro closes
DESCRIPTION:Macro closes
URL:https://rps.nz/event/landscape-closes-dup-2/
END:VEVENT
END:VCALENDAR