BEGIN:VCALENDAR
VERSION:2.0
PRODID:-//Rangiora Photographic Society - ECPv6.15.20//NONSGML v1.0//EN
CALSCALE:GREGORIAN
METHOD:PUBLISH
X-ORIGINAL-URL:https://rps.nz
X-WR-CALDESC:Events for Rangiora Photographic Society
REFRESH-INTERVAL;VALUE=DURATION:PT1H
X-Robots-Tag:noindex
X-PUBLISHED-TTL:PT1H
BEGIN:VTIMEZONE
TZID:Pacific/Auckland
BEGIN:STANDARD
TZOFFSETFROM:+1300
TZOFFSETTO:+1200
TZNAME:NZST
DTSTART:20250405T140000
END:STANDARD
BEGIN:DAYLIGHT
TZOFFSETFROM:+1200
TZOFFSETTO:+1300
TZNAME:NZDT
DTSTART:20250927T140000
END:DAYLIGHT
BEGIN:STANDARD
TZOFFSETFROM:+1300
TZOFFSETTO:+1200
TZNAME:NZST
DTSTART:20260404T140000
END:STANDARD
BEGIN:DAYLIGHT
TZOFFSETFROM:+1200
TZOFFSETTO:+1300
TZNAME:NZDT
DTSTART:20260926T140000
END:DAYLIGHT
BEGIN:STANDARD
TZOFFSETFROM:+1300
TZOFFSETTO:+1200
TZNAME:NZST
DTSTART:20270403T140000
END:STANDARD
BEGIN:DAYLIGHT
TZOFFSETFROM:+1200
TZOFFSETTO:+1300
TZNAME:NZDT
DTSTART:20270925T140000
END:DAYLIGHT
END:VTIMEZONE
BEGIN:VEVENT
DTSTART;TZID=Pacific/Auckland:20260203T190000
DTEND;TZID=Pacific/Auckland:20260203T210000
DTSTAMP:20260425T041747
CREATED:20260105T005109Z
LAST-MODIFIED:20260105T005220Z
UID:11206-1770145200-1770152400@rps.nz
SUMMARY:Club Night
DESCRIPTION:First night back cafe style \nOld School- Bring along two 5×7 prints (70 cents each at (WS) of something you shot during the holiday break.
URL:https://rps.nz/event/club-night-dup-3/
END:VEVENT
BEGIN:VEVENT
DTSTART;TZID=Pacific/Auckland:20260204T234500
DTEND;TZID=Pacific/Auckland:20260204T234500
DTSTAMP:20260425T041747
CREATED:20260105T005331Z
LAST-MODIFIED:20260105T005456Z
UID:11209-1770248700-1770248700@rps.nz
SUMMARY:1st Open closes
DESCRIPTION:1st Open closes
URL:https://rps.nz/event/2nd-creative-closes-dup/
END:VEVENT
BEGIN:VEVENT
DTSTART;TZID=Pacific/Auckland:20260217T190000
DTEND;TZID=Pacific/Auckland:20260217T210000
DTSTAMP:20260425T041747
CREATED:20260105T005513Z
LAST-MODIFIED:20260105T005611Z
UID:11212-1771354800-1771362000@rps.nz
SUMMARY:Club Night
DESCRIPTION:Printing with Jurgen \nLittle and large – how to shoot scale tutorial
URL:https://rps.nz/event/club-night-dup-4/
END:VEVENT
END:VCALENDAR