BEGIN:VCALENDAR
VERSION:2.0
PRODID:-//Rangiora Photographic Society - ECPv6.15.20//NONSGML v1.0//EN
CALSCALE:GREGORIAN
METHOD:PUBLISH
X-ORIGINAL-URL:https://rps.nz
X-WR-CALDESC:Events for Rangiora Photographic Society
REFRESH-INTERVAL;VALUE=DURATION:PT1H
X-Robots-Tag:noindex
X-PUBLISHED-TTL:PT1H
BEGIN:VTIMEZONE
TZID:Pacific/Auckland
BEGIN:STANDARD
TZOFFSETFROM:+1300
TZOFFSETTO:+1200
TZNAME:NZST
DTSTART:20240406T140000
END:STANDARD
BEGIN:DAYLIGHT
TZOFFSETFROM:+1200
TZOFFSETTO:+1300
TZNAME:NZDT
DTSTART:20240928T140000
END:DAYLIGHT
BEGIN:STANDARD
TZOFFSETFROM:+1300
TZOFFSETTO:+1200
TZNAME:NZST
DTSTART:20250405T140000
END:STANDARD
BEGIN:DAYLIGHT
TZOFFSETFROM:+1200
TZOFFSETTO:+1300
TZNAME:NZDT
DTSTART:20250927T140000
END:DAYLIGHT
BEGIN:STANDARD
TZOFFSETFROM:+1300
TZOFFSETTO:+1200
TZNAME:NZST
DTSTART:20260404T140000
END:STANDARD
BEGIN:DAYLIGHT
TZOFFSETFROM:+1200
TZOFFSETTO:+1300
TZNAME:NZDT
DTSTART:20260926T140000
END:DAYLIGHT
END:VTIMEZONE
BEGIN:VEVENT
DTSTART;TZID=Pacific/Auckland:20251104T190000
DTEND;TZID=Pacific/Auckland:20251104T210000
DTSTAMP:20260425T085925
CREATED:20250829T034647Z
LAST-MODIFIED:20250829T034721Z
UID:10897-1762282800-1762290000@rps.nz
SUMMARY:Club Night
DESCRIPTION:Judging of triptych.
URL:https://rps.nz/event/club-night-dup-2/
END:VEVENT
BEGIN:VEVENT
DTSTART;TZID=Pacific/Auckland:20251105T233000
DTEND;TZID=Pacific/Auckland:20251105T233000
DTSTAMP:20260425T085925
CREATED:20250121T013342Z
LAST-MODIFIED:20250121T013342Z
UID:10000-1762385400-1762385400@rps.nz
SUMMARY:2nd Online closes [Anything with Wheels]
DESCRIPTION:
URL:https://rps.nz/event/2nd-online-closes-anything-with-wheels/
END:VEVENT
BEGIN:VEVENT
DTSTART;TZID=Pacific/Auckland:20251105T233000
DTEND;TZID=Pacific/Auckland:20251105T233000
DTSTAMP:20260425T085925
CREATED:20250121T014008Z
LAST-MODIFIED:20250121T014008Z
UID:10020-1762385400-1762385400@rps.nz
SUMMARY:Supreme Image closes
DESCRIPTION:
URL:https://rps.nz/event/supreme-image-closes-2/
END:VEVENT
BEGIN:VEVENT
DTSTART;TZID=Pacific/Auckland:20251118T190000
DTEND;TZID=Pacific/Auckland:20251118T210000
DTSTAMP:20260425T085925
CREATED:20250121T013130Z
LAST-MODIFIED:20251024T045845Z
UID:9996-1763492400-1763499600@rps.nz
SUMMARY:AGM
DESCRIPTION:
URL:https://rps.nz/event/club-night-134/
END:VEVENT
BEGIN:VEVENT
DTSTART;TZID=Pacific/Auckland:20251122T180000
DTEND;TZID=Pacific/Auckland:20251122T200000
DTSTAMP:20260425T085925
CREATED:20250829T034145Z
LAST-MODIFIED:20251105T194410Z
UID:10892-1763834400-1763841600@rps.nz
SUMMARY:End of Year meal / Prizegiving
DESCRIPTION:
URL:https://rps.nz/event/club-night-dup/
LOCATION:Club Rooms
END:VEVENT
END:VCALENDAR