BEGIN:VCALENDAR
VERSION:2.0
PRODID:-//Rangiora Photographic Society - ECPv6.15.20//NONSGML v1.0//EN
CALSCALE:GREGORIAN
METHOD:PUBLISH
X-WR-CALNAME:Rangiora Photographic Society
X-ORIGINAL-URL:https://rps.nz
X-WR-CALDESC:Events for Rangiora Photographic Society
REFRESH-INTERVAL;VALUE=DURATION:PT1H
X-Robots-Tag:noindex
X-PUBLISHED-TTL:PT1H
BEGIN:VTIMEZONE
TZID:Pacific/Auckland
BEGIN:STANDARD
TZOFFSETFROM:+1300
TZOFFSETTO:+1200
TZNAME:NZST
DTSTART:20240406T140000
END:STANDARD
BEGIN:DAYLIGHT
TZOFFSETFROM:+1200
TZOFFSETTO:+1300
TZNAME:NZDT
DTSTART:20240928T140000
END:DAYLIGHT
BEGIN:STANDARD
TZOFFSETFROM:+1300
TZOFFSETTO:+1200
TZNAME:NZST
DTSTART:20250405T140000
END:STANDARD
BEGIN:DAYLIGHT
TZOFFSETFROM:+1200
TZOFFSETTO:+1300
TZNAME:NZDT
DTSTART:20250927T140000
END:DAYLIGHT
BEGIN:STANDARD
TZOFFSETFROM:+1300
TZOFFSETTO:+1200
TZNAME:NZST
DTSTART:20260404T140000
END:STANDARD
BEGIN:DAYLIGHT
TZOFFSETFROM:+1200
TZOFFSETTO:+1300
TZNAME:NZDT
DTSTART:20260926T140000
END:DAYLIGHT
END:VTIMEZONE
BEGIN:VEVENT
DTSTART;TZID=Pacific/Auckland:20250902T190000
DTEND;TZID=Pacific/Auckland:20250902T210000
DTSTAMP:20260425T120246
CREATED:20250121T012244Z
LAST-MODIFIED:20250827T051727Z
UID:9988-1756839600-1756846800@rps.nz
SUMMARY:Club Night
DESCRIPTION:Judging of Natural History competition \nTutorial on masking \n 
URL:https://rps.nz/event/club-night-130/
END:VEVENT
BEGIN:VEVENT
DTSTART;TZID=Pacific/Auckland:20250903T233000
DTEND;TZID=Pacific/Auckland:20250903T233000
DTSTAMP:20260425T120246
CREATED:20250121T013828Z
LAST-MODIFIED:20250121T013828Z
UID:10016-1756942200-1756942200@rps.nz
SUMMARY:2nd Open closes
DESCRIPTION:
URL:https://rps.nz/event/2nd-open-closes-4/
END:VEVENT
BEGIN:VEVENT
DTSTART;TZID=Pacific/Auckland:20250916T190000
DTEND;TZID=Pacific/Auckland:20250916T210000
DTSTAMP:20260425T120246
CREATED:20250121T012346Z
LAST-MODIFIED:20250827T051907Z
UID:9990-1758049200-1758056400@rps.nz
SUMMARY:Club Night
DESCRIPTION:Guest speaker – Members corner \nJudging of 2nd Creative
URL:https://rps.nz/event/club-night-131/
END:VEVENT
END:VCALENDAR