BEGIN:VCALENDAR
VERSION:2.0
PRODID:-//Rangiora Photographic Society - ECPv6.15.20//NONSGML v1.0//EN
CALSCALE:GREGORIAN
METHOD:PUBLISH
X-WR-CALNAME:Rangiora Photographic Society
X-ORIGINAL-URL:https://rps.nz
X-WR-CALDESC:Events for Rangiora Photographic Society
REFRESH-INTERVAL;VALUE=DURATION:PT1H
X-Robots-Tag:noindex
X-PUBLISHED-TTL:PT1H
BEGIN:VTIMEZONE
TZID:Pacific/Auckland
BEGIN:STANDARD
TZOFFSETFROM:+1300
TZOFFSETTO:+1200
TZNAME:NZST
DTSTART:20240406T140000
END:STANDARD
BEGIN:DAYLIGHT
TZOFFSETFROM:+1200
TZOFFSETTO:+1300
TZNAME:NZDT
DTSTART:20240928T140000
END:DAYLIGHT
BEGIN:STANDARD
TZOFFSETFROM:+1300
TZOFFSETTO:+1200
TZNAME:NZST
DTSTART:20250405T140000
END:STANDARD
BEGIN:DAYLIGHT
TZOFFSETFROM:+1200
TZOFFSETTO:+1300
TZNAME:NZDT
DTSTART:20250927T140000
END:DAYLIGHT
BEGIN:STANDARD
TZOFFSETFROM:+1300
TZOFFSETTO:+1200
TZNAME:NZST
DTSTART:20260404T140000
END:STANDARD
BEGIN:DAYLIGHT
TZOFFSETFROM:+1200
TZOFFSETTO:+1300
TZNAME:NZDT
DTSTART:20260926T140000
END:DAYLIGHT
END:VTIMEZONE
BEGIN:VEVENT
DTSTART;TZID=Pacific/Auckland:20250805T190000
DTEND;TZID=Pacific/Auckland:20250805T210000
DTSTAMP:20260425T133804
CREATED:20250121T012051Z
LAST-MODIFIED:20250121T012051Z
UID:9984-1754420400-1754427600@rps.nz
SUMMARY:Club night
DESCRIPTION:TBA
URL:https://rps.nz/event/club-night-128/
END:VEVENT
BEGIN:VEVENT
DTSTART;TZID=Pacific/Auckland:20250819T190000
DTEND;TZID=Pacific/Auckland:20250819T210000
DTSTAMP:20260425T133804
CREATED:20250121T012137Z
LAST-MODIFIED:20250510T214434Z
UID:9986-1755630000-1755637200@rps.nz
SUMMARY:Club Night
DESCRIPTION:Judging of Black & White
URL:https://rps.nz/event/club-night-129/
END:VEVENT
BEGIN:VEVENT
DTSTART;TZID=Pacific/Auckland:20250831T234500
DTEND;TZID=Pacific/Auckland:20250831T234500
DTSTAMP:20260425T133804
CREATED:20250121T013744Z
LAST-MODIFIED:20250810T221626Z
UID:10014-1756683900-1756683900@rps.nz
SUMMARY:2nd Creative closes
DESCRIPTION:
URL:https://rps.nz/event/2nd-creative-closes-2/
END:VEVENT
END:VCALENDAR