BEGIN:VCALENDAR
VERSION:2.0
PRODID:-//Rangiora Photographic Society - ECPv6.15.20//NONSGML v1.0//EN
CALSCALE:GREGORIAN
METHOD:PUBLISH
X-WR-CALNAME:Rangiora Photographic Society
X-ORIGINAL-URL:https://rps.nz
X-WR-CALDESC:Events for Rangiora Photographic Society
REFRESH-INTERVAL;VALUE=DURATION:PT1H
X-Robots-Tag:noindex
X-PUBLISHED-TTL:PT1H
BEGIN:VTIMEZONE
TZID:Pacific/Auckland
BEGIN:STANDARD
TZOFFSETFROM:+1300
TZOFFSETTO:+1200
TZNAME:NZST
DTSTART:20190406T140000
END:STANDARD
BEGIN:DAYLIGHT
TZOFFSETFROM:+1200
TZOFFSETTO:+1300
TZNAME:NZDT
DTSTART:20190928T140000
END:DAYLIGHT
BEGIN:STANDARD
TZOFFSETFROM:+1300
TZOFFSETTO:+1200
TZNAME:NZST
DTSTART:20200404T140000
END:STANDARD
BEGIN:DAYLIGHT
TZOFFSETFROM:+1200
TZOFFSETTO:+1300
TZNAME:NZDT
DTSTART:20200926T140000
END:DAYLIGHT
BEGIN:STANDARD
TZOFFSETFROM:+1300
TZOFFSETTO:+1200
TZNAME:NZST
DTSTART:20210403T140000
END:STANDARD
BEGIN:DAYLIGHT
TZOFFSETFROM:+1200
TZOFFSETTO:+1300
TZNAME:NZDT
DTSTART:20210925T140000
END:DAYLIGHT
END:VTIMEZONE
BEGIN:VEVENT
DTSTART;TZID=Pacific/Auckland:20200204T190000
DTEND;TZID=Pacific/Auckland:20200204T210000
DTSTAMP:20260425T154721
CREATED:20200108T232633Z
LAST-MODIFIED:20200129T061057Z
UID:2452-1580842800-1580850000@rps.nz
SUMMARY:New Year Welcome - 6x4 Holiday Shots
DESCRIPTION:This is first night of the year and it is traditional have a small competition\, helps get the creative photography juices flowing. This competition is a 6 x 4 challenge\, your 6 x 4 should be something you did/saw etc over the break. What you need to do to enter is\, print up your favourite summer snap onto a 6 x 4. This can be done at one of the photo outlets\, like Stationary Warehouse etc or at home on the printer which ever works best for you. This competition is for 6 x 4 prints only\, any other size will not be accepted. Then we will get all the members to have a vote on all the images and bang\, you have won the first competition of the year. The prize will be one of the much sort after\, but rarely received RPS chocolate fish.
URL:https://rps.nz/event/new-year-welcome-6x4-holiday-shots/
LOCATION:McAlpines Pavilion\, 291/319 Coldstream Rd\, Rangiora\, Canterbury\, 7473\, New Zealand
CATEGORIES:Club night
END:VEVENT
BEGIN:VEVENT
DTSTART;TZID=Pacific/Auckland:20200218T190000
DTEND;TZID=Pacific/Auckland:20200218T213000
DTSTAMP:20260425T154721
CREATED:20200108T232756Z
LAST-MODIFIED:20200212T052945Z
UID:2454-1582052400-1582061400@rps.nz
SUMMARY:Club Night
DESCRIPTION:Guest Speaker – Daniel Wong\n\n\n\nDaniel is a very talented landscape photographer who lives in Christchurch. He has his PSNZ and international letters and is also a doctor.\n\n \n\nWhat a wonderful opportunity for the club to have him speak especially with landscape submissions due March 18th.\n\n \n\nThis is his face book page https://www.facebook.com/pg/DanielWongPhotography/about/?ref=page_internal
URL:https://rps.nz/event/club-night/
LOCATION:McAlpines Pavilion\, 291/319 Coldstream Rd\, Rangiora\, Canterbury\, 7473\, New Zealand
CATEGORIES:Club night
END:VEVENT
BEGIN:VEVENT
DTSTART;TZID=Pacific/Auckland:20200219T233000
DTEND;TZID=Pacific/Auckland:20200219T233000
DTSTAMP:20260425T154721
CREATED:20200121T074145Z
LAST-MODIFIED:20200121T074145Z
UID:2539-1582155000-1582155000@rps.nz
SUMMARY:1st Open closes
DESCRIPTION:
URL:https://rps.nz/event/1st-open-closes/
CATEGORIES:Competition closes
END:VEVENT
BEGIN:VEVENT
DTSTART;VALUE=DATE:20200229
DTEND;VALUE=DATE:20200301
DTSTAMP:20260425T154721
CREATED:20200108T232933Z
LAST-MODIFIED:20200228T051443Z
UID:2456-1582934400-1583020799@rps.nz
SUMMARY:Mt Hutt Open Day - this is postponed till Sunday 1st March
DESCRIPTION:https://www.mthutt.co.nz/open-day \n\n\n\nMembers wanting to come along meet at the cafe on Mount Hutt at 10am – the road will be open from 9am. Admission for sightseeing will be $20 per adult and will include free travel on the chairlift 10am – 4pm \n\n\n\nIf you are coming along please register by Friday 28th February tabs692@slingshot.co.nz \n\n\n\nIf the weather is unsuitable\, the alternative weather day will be Sunday 1st March 2020. Information will be available on the Mt Hutt Snow Phone (03 305 5074)\, Mt Hutt website & Facebook page.
URL:https://rps.nz/event/mt-hutt-open-day/
CATEGORIES:Field trip
END:VEVENT
END:VCALENDAR