BEGIN:VCALENDAR
VERSION:2.0
PRODID:-//Rangiora Photographic Society - ECPv6.15.20//NONSGML v1.0//EN
CALSCALE:GREGORIAN
METHOD:PUBLISH
X-WR-CALNAME:Rangiora Photographic Society
X-ORIGINAL-URL:https://rps.nz
X-WR-CALDESC:Events for Rangiora Photographic Society
REFRESH-INTERVAL;VALUE=DURATION:PT1H
X-Robots-Tag:noindex
X-PUBLISHED-TTL:PT1H
BEGIN:VTIMEZONE
TZID:Pacific/Auckland
BEGIN:STANDARD
TZOFFSETFROM:+1300
TZOFFSETTO:+1200
TZNAME:NZST
DTSTART:20200404T140000
END:STANDARD
BEGIN:DAYLIGHT
TZOFFSETFROM:+1200
TZOFFSETTO:+1300
TZNAME:NZDT
DTSTART:20200926T140000
END:DAYLIGHT
BEGIN:STANDARD
TZOFFSETFROM:+1300
TZOFFSETTO:+1200
TZNAME:NZST
DTSTART:20210403T140000
END:STANDARD
BEGIN:DAYLIGHT
TZOFFSETFROM:+1200
TZOFFSETTO:+1300
TZNAME:NZDT
DTSTART:20210925T140000
END:DAYLIGHT
BEGIN:STANDARD
TZOFFSETFROM:+1300
TZOFFSETTO:+1200
TZNAME:NZST
DTSTART:20220402T140000
END:STANDARD
BEGIN:DAYLIGHT
TZOFFSETFROM:+1200
TZOFFSETTO:+1300
TZNAME:NZDT
DTSTART:20220924T140000
END:DAYLIGHT
BEGIN:STANDARD
TZOFFSETFROM:+1300
TZOFFSETTO:+1200
TZNAME:NZST
DTSTART:20230401T140000
END:STANDARD
BEGIN:DAYLIGHT
TZOFFSETFROM:+1200
TZOFFSETTO:+1300
TZNAME:NZDT
DTSTART:20230923T140000
END:DAYLIGHT
END:VTIMEZONE
BEGIN:VEVENT
DTSTART;TZID=Pacific/Auckland:20210921T190000
DTEND;TZID=Pacific/Auckland:20210921T210000
DTSTAMP:20260426T013557
CREATED:20210112T084309Z
LAST-MODIFIED:20210918T032736Z
UID:4570-1632250800-1632258000@rps.nz
SUMMARY:Club Night postponed till 28th Sept
DESCRIPTION:
URL:https://rps.nz/event/club-night-72/
CATEGORIES:Club night,Judging
END:VEVENT
BEGIN:VEVENT
DTSTART;TZID=Pacific/Auckland:20210928T190000
DTEND;TZID=Pacific/Auckland:20210928T210000
DTSTAMP:20260426T013557
CREATED:20210918T032935Z
LAST-MODIFIED:20210926T023754Z
UID:5958-1632855600-1632862800@rps.nz
SUMMARY:Club night - Showtime
DESCRIPTION:This Tuesday 28th September we will be holding “Showtime” at the clubrooms. Start time 7pm \nIt will be a little different this year. Normally we have a shared supper and drinks \nIf you are wanting to bring some supper and drinks then you will need to bring your own. These can not be shared \nWith the current lockdown level we will have the seating arranged at a the guideline distance. You will be required to wear a mask and sign in with social distancing being observed
URL:https://rps.nz/event/club-night-showtime/
END:VEVENT
BEGIN:VEVENT
DTSTART;TZID=Pacific/Auckland:20210929T190000
DTEND;TZID=Pacific/Auckland:20210929T210000
DTSTAMP:20260426T013557
CREATED:20210112T084422Z
LAST-MODIFIED:20210926T023300Z
UID:4573-1632942000-1632949200@rps.nz
SUMMARY:Camera Craft postponed
DESCRIPTION:Software Workshop
URL:https://rps.nz/event/camera-craft-4/
CATEGORIES:Camera craft,Workshop
END:VEVENT
BEGIN:VEVENT
DTSTART;TZID=Pacific/Auckland:20211005T190000
DTEND;TZID=Pacific/Auckland:20211005T210000
DTSTAMP:20260426T013557
CREATED:20210112T084557Z
LAST-MODIFIED:20210929T054658Z
UID:4576-1633460400-1633467600@rps.nz
SUMMARY:Club Night - portfolio presentation and Custard in your Face
DESCRIPTION:We will be having a short presentation on creating a portfolio. This is closing soon ( Nov 3rd) so time to really get started if you haven’t already! If you have never created a portfolio or have any questions then we can offer some guidance. \nPlease wear a mask and use COVID app to sign in. \nAfter this we move to the main event! “CUSTARD IN YA FACE!” and yes it is exactly what it sounds like\, we will be throwing stuff at people (they are all willing volunteers\, Mr President for one) Bring along your cameras and capture some fun times\, even maybe portfolio worthy!!!
URL:https://rps.nz/event/club-night-73/
CATEGORIES:Camera craft,Club night
END:VEVENT
BEGIN:VEVENT
DTSTART;VALUE=DATE:20211006
DTEND;VALUE=DATE:20211007
DTSTAMP:20260426T013557
CREATED:20210112T080150Z
LAST-MODIFIED:20210112T080150Z
UID:4501-1633478400-1633564799@rps.nz
SUMMARY:Architecture closes
DESCRIPTION:
URL:https://rps.nz/event/architecture-closes/
CATEGORIES:Competition closes
END:VEVENT
BEGIN:VEVENT
DTSTART;TZID=Pacific/Auckland:20211012T190000
DTEND;TZID=Pacific/Auckland:20211012T210000
DTSTAMP:20260426T013557
CREATED:20210929T074703Z
LAST-MODIFIED:20210929T074703Z
UID:5979-1634065200-1634072400@rps.nz
SUMMARY:AGM
DESCRIPTION:Start time 7pm at clubrooms \n 
URL:https://rps.nz/event/agm-5/
CATEGORIES:Club night
END:VEVENT
BEGIN:VEVENT
DTSTART;TZID=Pacific/Auckland:20211019T190000
DTEND;TZID=Pacific/Auckland:20211019T210000
DTSTAMP:20260426T013557
CREATED:20210112T084755Z
LAST-MODIFIED:20210112T084929Z
UID:4579-1634670000-1634677200@rps.nz
SUMMARY:Club Night
DESCRIPTION:Judging – Set Subject [Abstract]
URL:https://rps.nz/event/club-night-74/
CATEGORIES:Club night,Judging
END:VEVENT
BEGIN:VEVENT
DTSTART;VALUE=DATE:20211022
DTEND;VALUE=DATE:20211025
DTSTAMP:20260426T013557
CREATED:20210112T085109Z
LAST-MODIFIED:20210112T085109Z
UID:4583-1634860800-1635119999@rps.nz
SUMMARY:Field Trip
DESCRIPTION:Okarito [Labour Weekend]
URL:https://rps.nz/event/field-trip-7/
CATEGORIES:Field trip
END:VEVENT
BEGIN:VEVENT
DTSTART;TZID=Pacific/Auckland:20211102T190000
DTEND;TZID=Pacific/Auckland:20211102T210000
DTSTAMP:20260426T013557
CREATED:20210112T085227Z
LAST-MODIFIED:20210112T085227Z
UID:4586-1635879600-1635886800@rps.nz
SUMMARY:Club Night
DESCRIPTION:Judging – Architecture
URL:https://rps.nz/event/club-night-75/
CATEGORIES:Club night,Judging
END:VEVENT
BEGIN:VEVENT
DTSTART;VALUE=DATE:20211103
DTEND;VALUE=DATE:20211104
DTSTAMP:20260426T013557
CREATED:20210112T080246Z
LAST-MODIFIED:20210112T080246Z
UID:4504-1635897600-1635983999@rps.nz
SUMMARY:Portfolio closes
DESCRIPTION:
URL:https://rps.nz/event/portfolio-closes/
CATEGORIES:Competition closes
END:VEVENT
BEGIN:VEVENT
DTSTART;VALUE=DATE:20211110
DTEND;VALUE=DATE:20211111
DTSTAMP:20260426T013557
CREATED:20210112T080330Z
LAST-MODIFIED:20210112T080330Z
UID:4507-1636502400-1636588799@rps.nz
SUMMARY:Supreme Image of the Year closes
DESCRIPTION:
URL:https://rps.nz/event/supreme-image-of-the-year-closes-2/
CATEGORIES:Competition closes
END:VEVENT
BEGIN:VEVENT
DTSTART;TZID=Pacific/Auckland:20211116T190000
DTEND;TZID=Pacific/Auckland:20211116T210000
DTSTAMP:20260426T013557
CREATED:20210112T085325Z
LAST-MODIFIED:20211107T073610Z
UID:4589-1637089200-1637096400@rps.nz
SUMMARY:Club Night
DESCRIPTION:Judging – Themed Portfolio \n7 pm at clubrooms \nBYO drinks and supper
URL:https://rps.nz/event/club-night-76/
CATEGORIES:Club night,Judging
END:VEVENT
BEGIN:VEVENT
DTSTART;TZID=Pacific/Auckland:20211127T190000
DTEND;TZID=Pacific/Auckland:20211127T235900
DTSTAMP:20260426T013557
CREATED:20210112T085433Z
LAST-MODIFIED:20210930T041212Z
UID:4592-1638039600-1638057540@rps.nz
SUMMARY:Final Night - "Baller or Boobie Xmas Bingo"
DESCRIPTION:Final Night – “Baller or Boobie Xmas Bingo” \nSo what is that you ask. Instead of having door prizes or lucky tickets we will be playing several rounds of bingo over the evening. Prizes will be “Baller” pretty good ones or “Boobie” a gag gift – should be some good laughs!!!! The Xmas part is – If you would like to take part in a Secret Santa Sack please bring along a gender-neutral wrapped gift under the value of $10\, Santa will hand these out later in the evening to all those who contributed \nALL THE DETAILS FOR YOU: \nWhen: Saturday 27th November\, start time 7pm \nWhere: Saracens Rugby Club\, South Belt\, Rangiora \nCost: Free entry!!!!! There is a bar to purchase drinks on the night. \nSupper will be provided \nDress: Feel free to get dressed up in a Xmas theme or just wear whatever you are comfortable in (make sure it is socialably acceptable though) I for one will be getting decked out in Xmas \nThere will also be presentations of trophies and Supreme Image Of The Year \nRegistration: Please email me (Tabitha) tabs692@slingshot.co.nz if you are wanting to attend and let me know if you are bring a plus one. We need numbers by 31 October – this is so the club can get a bar licence in time \nAny questions please email
URL:https://rps.nz/event/final-night-3/
LOCATION:Rangiora Saracens\, South Belt\, Rangiora\, New Zealand\, 7400\, New Zealand
CATEGORIES:Judging
END:VEVENT
BEGIN:VEVENT
DTSTART;TZID=Pacific/Auckland:20220123T170000
DTEND;TZID=Pacific/Auckland:20220123T210000
DTSTAMP:20260426T013557
CREATED:20211130T032807Z
LAST-MODIFIED:20220116T085443Z
UID:6852-1642957200-1642971600@rps.nz
SUMMARY:Launch
DESCRIPTION:243 Mt Thomas Rd\, starting at 5pm \nPlease bring a salad to share and BBQ will be available if you wish to cook something.  BYO drinks of your choosing\, picnic ‘stuff’ (plate\, cup\, cutlery etc).  Seats are limited so if you are not keen to sit on the floor\, then please bring a picnic chair.  Diesel the dog and the horses will be available if you wish to bring your camera…..
URL:https://rps.nz/event/launch/
END:VEVENT
BEGIN:VEVENT
DTSTART;TZID=Pacific/Auckland:20220201T190000
DTEND;TZID=Pacific/Auckland:20220201T213000
DTSTAMP:20260426T013557
CREATED:20211130T033023Z
LAST-MODIFIED:20211130T033023Z
UID:6854-1643742000-1643751000@rps.nz
SUMMARY:Club Night
DESCRIPTION:Cafe Style Welcome. Bring your holiday Snapshots
URL:https://rps.nz/event/club-night-77/
LOCATION:McAlpines Pavilion\, 291/319 Coldstream Rd\, Rangiora\, Canterbury\, 7473\, New Zealand
CATEGORIES:Club night
END:VEVENT
BEGIN:VEVENT
DTSTART;TZID=Pacific/Auckland:20220215T190000
DTEND;TZID=Pacific/Auckland:20220215T213000
DTSTAMP:20260426T013557
CREATED:20211130T033723Z
LAST-MODIFIED:20211130T033723Z
UID:6861-1644951600-1644960600@rps.nz
SUMMARY:Club Night - Guest Speaker
DESCRIPTION:
URL:https://rps.nz/event/club-night-guest-speaker/
CATEGORIES:Club night
END:VEVENT
BEGIN:VEVENT
DTSTART;VALUE=DATE:20220216
DTEND;VALUE=DATE:20220217
DTSTAMP:20260426T013557
CREATED:20211130T033141Z
LAST-MODIFIED:20211130T033544Z
UID:6856-1644969600-1645055999@rps.nz
SUMMARY:Landscape  Competition Closes
DESCRIPTION:
URL:https://rps.nz/event/guest-speaker/
CATEGORIES:Competition closes
END:VEVENT
BEGIN:VEVENT
DTSTART;TZID=Pacific/Auckland:20220301T190000
DTEND;TZID=Pacific/Auckland:20220301T213000
DTSTAMP:20260426T013557
CREATED:20211130T033903Z
LAST-MODIFIED:20211130T034152Z
UID:6863-1646161200-1646170200@rps.nz
SUMMARY:Club Night
DESCRIPTION:Pets in Action with Sarah Perrins
URL:https://rps.nz/event/club-night-78/
LOCATION:McAlpines Pavilion\, 291/319 Coldstream Rd\, Rangiora\, Canterbury\, 7473\, New Zealand
CATEGORIES:Camera craft
END:VEVENT
BEGIN:VEVENT
DTSTART;TZID=Pacific/Auckland:20220315T190000
DTEND;TZID=Pacific/Auckland:20220315T213000
DTSTAMP:20260426T013557
CREATED:20211130T034025Z
LAST-MODIFIED:20211130T034220Z
UID:6866-1647370800-1647379800@rps.nz
SUMMARY:Club Night
DESCRIPTION:Judging for Landscape
URL:https://rps.nz/event/club-night-79/
LOCATION:McAlpines Pavilion\, 291/319 Coldstream Rd\, Rangiora\, Canterbury\, 7473\, New Zealand
CATEGORIES:Club night,Judging
END:VEVENT
BEGIN:VEVENT
DTSTART;VALUE=DATE:20220316
DTEND;VALUE=DATE:20220317
DTSTAMP:20260426T013557
CREATED:20211130T044114Z
LAST-MODIFIED:20211130T044114Z
UID:6919-1647388800-1647475199@rps.nz
SUMMARY:1st Open - Closes
DESCRIPTION:
URL:https://rps.nz/event/1st-open-closes-2/
CATEGORIES:Competition closes
END:VEVENT
BEGIN:VEVENT
DTSTART;TZID=Pacific/Auckland:20220329T190000
DTEND;TZID=Pacific/Auckland:20220329T213000
DTSTAMP:20260426T013557
CREATED:20211130T034347Z
LAST-MODIFIED:20211130T034347Z
UID:6870-1648580400-1648589400@rps.nz
SUMMARY:Judging Workshop
DESCRIPTION:
URL:https://rps.nz/event/judging-workshop/
LOCATION:McAlpines Pavilion\, 291/319 Coldstream Rd\, Rangiora\, Canterbury\, 7473\, New Zealand
CATEGORIES:Judging,Workshop
END:VEVENT
BEGIN:VEVENT
DTSTART;VALUE=DATE:20220331
DTEND;VALUE=DATE:20220401
DTSTAMP:20260426T013557
CREATED:20211130T044719Z
LAST-MODIFIED:20211130T044719Z
UID:6939-1648684800-1648771199@rps.nz
SUMMARY:Online Challenge Closes - Earth
DESCRIPTION:
URL:https://rps.nz/event/online-challenge-closes-earth/
CATEGORIES:Competition closes
END:VEVENT
BEGIN:VEVENT
DTSTART;TZID=Pacific/Auckland:20220405T190000
DTEND;TZID=Pacific/Auckland:20220405T213000
DTSTAMP:20260426T013557
CREATED:20211130T034453Z
LAST-MODIFIED:20211130T034453Z
UID:6872-1649185200-1649194200@rps.nz
SUMMARY:Club Night
DESCRIPTION:Guest Speaker – Portraiture
URL:https://rps.nz/event/club-night-80/
LOCATION:McAlpines Pavilion\, 291/319 Coldstream Rd\, Rangiora\, Canterbury\, 7473\, New Zealand
CATEGORIES:Club night
END:VEVENT
BEGIN:VEVENT
DTSTART;TZID=Pacific/Auckland:20220419T190000
DTEND;TZID=Pacific/Auckland:20220419T213000
DTSTAMP:20260426T013557
CREATED:20211130T034559Z
LAST-MODIFIED:20211130T034559Z
UID:6874-1650394800-1650403800@rps.nz
SUMMARY:Club Night
DESCRIPTION:Judging of the 1st Open
URL:https://rps.nz/event/club-night-81/
LOCATION:McAlpines Pavilion\, 291/319 Coldstream Rd\, Rangiora\, Canterbury\, 7473\, New Zealand
CATEGORIES:Club night,Judging
END:VEVENT
BEGIN:VEVENT
DTSTART;VALUE=DATE:20220420
DTEND;VALUE=DATE:20220421
DTSTAMP:20260426T013557
CREATED:20211130T044145Z
LAST-MODIFIED:20211130T044145Z
UID:6921-1650412800-1650499199@rps.nz
SUMMARY:Natural History Closes
DESCRIPTION:
URL:https://rps.nz/event/natural-history-closes-3/
CATEGORIES:Competition closes
END:VEVENT
BEGIN:VEVENT
DTSTART;VALUE=DATE:20220422
DTEND;VALUE=DATE:20220426
DTSTAMP:20260426T013557
CREATED:20211130T034821Z
LAST-MODIFIED:20211130T034821Z
UID:6876-1650585600-1650931199@rps.nz
SUMMARY:Field Trip
DESCRIPTION:Nelson Lakes/St Arnaud
URL:https://rps.nz/event/field-trip-8/
LOCATION:Lake Rotoiti\, St Arnaud\, New Zealand
CATEGORIES:Field trip
END:VEVENT
BEGIN:VEVENT
DTSTART;TZID=Pacific/Auckland:20220503T190000
DTEND;TZID=Pacific/Auckland:20220503T213000
DTSTAMP:20260426T013557
CREATED:20211130T034930Z
LAST-MODIFIED:20211130T034930Z
UID:6880-1651604400-1651613400@rps.nz
SUMMARY:Club Night
DESCRIPTION:
URL:https://rps.nz/event/club-night-82/
LOCATION:McAlpines Pavilion\, 291/319 Coldstream Rd\, Rangiora\, Canterbury\, 7473\, New Zealand
CATEGORIES:Camera craft
END:VEVENT
BEGIN:VEVENT
DTSTART;TZID=Pacific/Auckland:20220517T190000
DTEND;TZID=Pacific/Auckland:20220517T213000
DTSTAMP:20260426T013557
CREATED:20211130T035043Z
LAST-MODIFIED:20211130T035043Z
UID:6882-1652814000-1652823000@rps.nz
SUMMARY:Club Night
DESCRIPTION:Judging of Natural History
URL:https://rps.nz/event/club-night-83/
LOCATION:McAlpines Pavilion\, 291/319 Coldstream Rd\, Rangiora\, Canterbury\, 7473\, New Zealand
CATEGORIES:Club night,Judging
END:VEVENT
BEGIN:VEVENT
DTSTART;VALUE=DATE:20220518
DTEND;VALUE=DATE:20220519
DTSTAMP:20260426T013557
CREATED:20211130T044217Z
LAST-MODIFIED:20211130T044217Z
UID:6923-1652832000-1652918399@rps.nz
SUMMARY:Portraiture Closes
DESCRIPTION:
URL:https://rps.nz/event/portraiture-closes-3/
CATEGORIES:Competition closes
END:VEVENT
BEGIN:VEVENT
DTSTART;VALUE=DATE:20220531
DTEND;VALUE=DATE:20220601
DTSTAMP:20260426T013557
CREATED:20211130T044805Z
LAST-MODIFIED:20211130T044805Z
UID:6941-1653955200-1654041599@rps.nz
SUMMARY:Online Challenge Closes - Wind
DESCRIPTION:
URL:https://rps.nz/event/online-challenge-closes-wind/
CATEGORIES:Competition closes
END:VEVENT
END:VCALENDAR