BEGIN:VCALENDAR
VERSION:2.0
PRODID:-//Rangiora Photographic Society - ECPv6.15.20//NONSGML v1.0//EN
CALSCALE:GREGORIAN
METHOD:PUBLISH
X-ORIGINAL-URL:https://rps.nz
X-WR-CALDESC:Events for Rangiora Photographic Society
REFRESH-INTERVAL;VALUE=DURATION:PT1H
X-Robots-Tag:noindex
X-PUBLISHED-TTL:PT1H
BEGIN:VTIMEZONE
TZID:Pacific/Auckland
BEGIN:STANDARD
TZOFFSETFROM:+1300
TZOFFSETTO:+1200
TZNAME:NZST
DTSTART:20190406T140000
END:STANDARD
BEGIN:DAYLIGHT
TZOFFSETFROM:+1200
TZOFFSETTO:+1300
TZNAME:NZDT
DTSTART:20190928T140000
END:DAYLIGHT
BEGIN:STANDARD
TZOFFSETFROM:+1300
TZOFFSETTO:+1200
TZNAME:NZST
DTSTART:20200404T140000
END:STANDARD
BEGIN:DAYLIGHT
TZOFFSETFROM:+1200
TZOFFSETTO:+1300
TZNAME:NZDT
DTSTART:20200926T140000
END:DAYLIGHT
BEGIN:STANDARD
TZOFFSETFROM:+1300
TZOFFSETTO:+1200
TZNAME:NZST
DTSTART:20210403T140000
END:STANDARD
BEGIN:DAYLIGHT
TZOFFSETFROM:+1200
TZOFFSETTO:+1300
TZNAME:NZDT
DTSTART:20210925T140000
END:DAYLIGHT
BEGIN:STANDARD
TZOFFSETFROM:+1300
TZOFFSETTO:+1200
TZNAME:NZST
DTSTART:20220402T140000
END:STANDARD
BEGIN:DAYLIGHT
TZOFFSETFROM:+1200
TZOFFSETTO:+1300
TZNAME:NZDT
DTSTART:20220924T140000
END:DAYLIGHT
END:VTIMEZONE
BEGIN:VEVENT
DTSTART;TZID=Pacific/Auckland:20200908T193000
DTEND;TZID=Pacific/Auckland:20200908T213000
DTSTAMP:20260426T013127
CREATED:20200121T072243Z
LAST-MODIFIED:20200121T072243Z
UID:2517-1599593400-1599600600@rps.nz
SUMMARY:AGM
DESCRIPTION:
URL:https://rps.nz/event/agm/
LOCATION:McAlpines Pavilion\, 291/319 Coldstream Rd\, Rangiora\, Canterbury\, 7473\, New Zealand
END:VEVENT
BEGIN:VEVENT
DTSTART;TZID=Pacific/Auckland:20200915T190000
DTEND;TZID=Pacific/Auckland:20200915T213000
DTSTAMP:20260426T013127
CREATED:20200121T072414Z
LAST-MODIFIED:20200914T231637Z
UID:2519-1600196400-1600205400@rps.nz
SUMMARY:Club Night - Moved to Livestream
DESCRIPTION:Judging – 2nd Open \nAs the Alert Level 2 restrictions have been extended\, we are still not going to be meeting in person for this club night. We are going to stream the latest results live again. This time it is for the 2nd Open 2020 competition\, judged by Adair Wilson. \nIf you are a member of the RPS Facebook group you can watch the livestream there. Otherwise there will be a recording uploaded to YouTube.
URL:https://rps.nz/event/club-night-49/
LOCATION:McAlpines Pavilion\, 291/319 Coldstream Rd\, Rangiora\, Canterbury\, 7473\, New Zealand
CATEGORIES:Club night,Judging
END:VEVENT
BEGIN:VEVENT
DTSTART;TZID=Pacific/Auckland:20200916T233000
DTEND;TZID=Pacific/Auckland:20200916T233000
DTSTAMP:20260426T013127
CREATED:20200121T074833Z
LAST-MODIFIED:20200121T074833Z
UID:2553-1600299000-1600299000@rps.nz
SUMMARY:Set Subject closes
DESCRIPTION:
URL:https://rps.nz/event/set-subject-closes/
CATEGORIES:Competition closes
END:VEVENT
BEGIN:VEVENT
DTSTART;VALUE=DATE:20200926
DTEND;VALUE=DATE:20200927
DTSTAMP:20260426T013127
CREATED:20200121T072621Z
LAST-MODIFIED:20200829T040317Z
UID:2521-1601078400-1601164799@rps.nz
SUMMARY:Little River Field Trip - Full Day
DESCRIPTION:26th SEPTEMBER\nExpressions of intent required \nWe will split into 2 groups 1. Bird photographers  2. All others\, landscape\, street etc \nWe have been very privileged to have been offered the services of the eminent bird photographer Steve Attwood to show us around his favourite spots in the Little River area. He has asked for approximate numbers for who would go with him. He has room for 4 others in his vehicle and recommends 4wd vehicles for where he plans to take you. So carpooling will be best. Also does 2 to 3 hrs sound about right for this or longer? Please let Maxine Cooper know if you would like to join in with Steve Attwood for this once in a lifetime adventure. Contact Maxine at maxinecooper01@gmail.com  or ring her on 021 228 5877\nFor those not interested in bird photography there is a lot to do and see in Little River and a map with suggestions will be handed out on the day. The scenery is spectacular and the township interesting. Birdlings Flat is nearby and always worth a look. There are some really lovely old cottages nearby and a fabulous nature reserve full of birdlife. You can choose from 3 roads to go up to the hilltops. One overlooking Port Levy\, one above Akaroa and the other overlooking the Kaitorete Spit and out over the plains to the foothills.\nWe will all meet at 10 am outside the information station at Little River. \nPlease book this into your diary and let us know asap.
URL:https://rps.nz/event/field-trip-full-day/
CATEGORIES:Field trip
END:VEVENT
BEGIN:VEVENT
DTSTART;TZID=Pacific/Auckland:20200929T190000
DTEND;TZID=Pacific/Auckland:20200929T210000
DTSTAMP:20260426T013127
CREATED:20200922T093030Z
LAST-MODIFIED:20200922T093030Z
UID:4052-1601406000-1601413200@rps.nz
SUMMARY:Extra club meeting
DESCRIPTION:We are holding an extra meeting next Tuesday (29th September) at the clubrooms – start time at 7 pm. This will be cafe style – please BYO drinks and a small plate of supper to share\n\n \n\nThis evening we will be reshowing the showtime slideshow\, presenting the online challenge (doors)\, suitcase challenge and showing AV’s so if you have an AV that you were going to bring to the postponed Showtime then please bring it along on a USB stick this evening. This will be a social evening and we will be back to holding raffles so bring those coins\n\n \n\nSuitcase challenge – Forks! If you were participating in this please get your images to Dave Woodcock woodcockdesignltd@gmail.com before Monday evening 9.30 pm\n\n \n\nHope to see you all there!!!!!
URL:https://rps.nz/event/extra-club-meeting/
CATEGORIES:Club night
END:VEVENT
BEGIN:VEVENT
DTSTART;TZID=Pacific/Auckland:20201006T190000
DTEND;TZID=Pacific/Auckland:20201006T213000
DTSTAMP:20260426T013127
CREATED:20200121T072824Z
LAST-MODIFIED:20200928T094327Z
UID:2523-1602010800-1602019800@rps.nz
SUMMARY:Club Night - Guest speaker
DESCRIPTION:Tonight we have Bevan Tullet speaking\, check out his website http://www.gophoto.co.nz/ He is currently Chair of the Nature Society of NZ \nHis plan for the evening will be: \n\nphotos of a selection of his best images and how he got them\nwill cover Landscape and Natural History\nwill cover a variety of subjects\, including fungi\, alpine plants\, birds and where to find\nexplain basic techniques and tips on lighting\, camera settings\, getting to know your subject
URL:https://rps.nz/event/club-night-50/
LOCATION:McAlpines Pavilion\, 291/319 Coldstream Rd\, Rangiora\, Canterbury\, 7473\, New Zealand
CATEGORIES:Club night
END:VEVENT
BEGIN:VEVENT
DTSTART;TZID=Pacific/Auckland:20201007T233000
DTEND;TZID=Pacific/Auckland:20201007T233000
DTSTAMP:20260426T013127
CREATED:20200121T075003Z
LAST-MODIFIED:20200625T222345Z
UID:2555-1602113400-1602113400@rps.nz
SUMMARY:Street Photography closes
DESCRIPTION:
URL:https://rps.nz/event/best-field-trip-closes-2/
CATEGORIES:Competition closes
END:VEVENT
BEGIN:VEVENT
DTSTART;TZID=Pacific/Auckland:20201014T190000
DTEND;TZID=Pacific/Auckland:20201014T213000
DTSTAMP:20260426T013127
CREATED:20200121T072928Z
LAST-MODIFIED:20200928T094214Z
UID:2525-1602702000-1602711000@rps.nz
SUMMARY:Club Night - Nature: Taking Great Shots
DESCRIPTION:We have our super talented\, amazing Sandra Fleet presenting this evening \nShe will be covering: \n\nSettings\nTechniques\nWhat Can Possibly Go Wrong?\n\nAs Henri Cartier-Bressen said\, the first 10\,000 photos are your worst\nI’m past 10\,000 just with birds\, how can they still be going wrong!!\n\n\nHunting and Shooting\nRPS Rules for Natural History\n\nBring: \n\nCamera (with card and battery – in the past these have been forgotten by some!)\n\n\nTelephoto lens and macro/extension tubes\n\n\nPen and paper\n\nPre-work:\nIt is a very full night\, so come along with the familiarity of knowing how to quickly change settings for ISO\, Shutter and Aperture. Using Auto ISO – find out where in your camera you go to you set the limit for your ISO range
URL:https://rps.nz/event/club-night-51/
CATEGORIES:Camera craft,Club night
END:VEVENT
BEGIN:VEVENT
DTSTART;VALUE=DATE:20201017
DTEND;VALUE=DATE:20201018
DTSTAMP:20260426T013127
CREATED:20200121T073107Z
LAST-MODIFIED:20200928T094923Z
UID:2527-1602892800-1602979199@rps.nz
SUMMARY:Field Trip - Mesopotamia Station
DESCRIPTION:Colleen has sent out information about this any further queries direct them to her at colleenlinnell@gmail.com she would like registrations before 3 Oct \n 
URL:https://rps.nz/event/field-trip-5/
CATEGORIES:Field trip
END:VEVENT
BEGIN:VEVENT
DTSTART;TZID=Pacific/Auckland:20201020T190000
DTEND;TZID=Pacific/Auckland:20201020T213000
DTSTAMP:20260426T013127
CREATED:20200121T073228Z
LAST-MODIFIED:20200121T073228Z
UID:2529-1603220400-1603229400@rps.nz
SUMMARY:Club Night
DESCRIPTION:Judging – Set Subject
URL:https://rps.nz/event/club-night-52/
LOCATION:McAlpines Pavilion\, 291/319 Coldstream Rd\, Rangiora\, Canterbury\, 7473\, New Zealand
CATEGORIES:Club night,Judging
END:VEVENT
BEGIN:VEVENT
DTSTART;TZID=Pacific/Auckland:20201031T080000
DTEND;TZID=Pacific/Auckland:20201031T233000
DTSTAMP:20260426T013127
CREATED:20200928T094647Z
LAST-MODIFIED:20200928T094647Z
UID:4069-1604131200-1604187000@rps.nz
SUMMARY:Online challenge closes - Prompt "Shoes" closes
DESCRIPTION:Get those entries in!!!!
URL:https://rps.nz/event/online-challenge-closes-prompt-shoes-closes/
END:VEVENT
BEGIN:VEVENT
DTSTART;TZID=Pacific/Auckland:20201103T190000
DTEND;TZID=Pacific/Auckland:20201103T213000
DTSTAMP:20260426T013127
CREATED:20200121T073640Z
LAST-MODIFIED:20200625T222702Z
UID:2531-1604430000-1604439000@rps.nz
SUMMARY:Club Night
DESCRIPTION:Judging – Street photography
URL:https://rps.nz/event/club-night-53/
LOCATION:McAlpines Pavilion\, 291/319 Coldstream Rd\, Rangiora\, Canterbury\, 7473\, New Zealand
CATEGORIES:Club night,Judging
END:VEVENT
BEGIN:VEVENT
DTSTART;TZID=Pacific/Auckland:20201104T233000
DTEND;TZID=Pacific/Auckland:20201104T233000
DTSTAMP:20260426T013127
CREATED:20200121T075106Z
LAST-MODIFIED:20200121T075106Z
UID:2557-1604532600-1604532600@rps.nz
SUMMARY:Themed Portfolio closes
DESCRIPTION:
URL:https://rps.nz/event/themed-portfolio-closes/
CATEGORIES:Competition closes
END:VEVENT
BEGIN:VEVENT
DTSTART;TZID=Pacific/Auckland:20201107T080000
DTEND;TZID=Pacific/Auckland:20201107T233000
DTSTAMP:20260426T013127
CREATED:20201104T221158Z
LAST-MODIFIED:20201104T221158Z
UID:4242-1604736000-1604791800@rps.nz
SUMMARY:Last day to purchase Final night tickets
DESCRIPTION:75th Diamond Anniversary Celebration and Final night – DON’T FORGET TO GET YOUR TICKETS!!!! Must be paid for by 7th Nov \n$15 per person \nHow to get tickets: For registration and ticket purchase please contact Dave Woodcock woodcockdesignltd@gmail.com or 027 738 7708. \nYou can give him cash at any meetings or pay straight into the club bank account online 03 0674 0092300 00 This is the preferred option. Please include as a reference (“Final night” and your name) \nThe tickets are non-refundable but in the event we have to cancel due to COVID-19 there will be refunds. Get those tickets please as we need to confirm numbers
URL:https://rps.nz/event/last-day-to-purchase-final-night-tickets/
END:VEVENT
BEGIN:VEVENT
DTSTART;TZID=Pacific/Auckland:20201110T233000
DTEND;TZID=Pacific/Auckland:20201110T233000
DTSTAMP:20260426T013127
CREATED:20200121T075205Z
LAST-MODIFIED:20201104T220746Z
UID:2559-1605051000-1605051000@rps.nz
SUMMARY:Supreme Image of the Year closes
DESCRIPTION:
URL:https://rps.nz/event/supreme-image-of-the-year-closes/
CATEGORIES:Competition closes
END:VEVENT
BEGIN:VEVENT
DTSTART;TZID=Pacific/Auckland:20201111T190000
DTEND;TZID=Pacific/Auckland:20201111T213000
DTSTAMP:20260426T013127
CREATED:20200121T073836Z
LAST-MODIFIED:20200625T222618Z
UID:2533-1605121200-1605130200@rps.nz
SUMMARY:Club Night
DESCRIPTION:Camera Craft – macro photography
URL:https://rps.nz/event/club-night-54/
LOCATION:McAlpines Pavilion\, 291/319 Coldstream Rd\, Rangiora\, Canterbury\, 7473\, New Zealand
CATEGORIES:Camera craft,Club night
END:VEVENT
BEGIN:VEVENT
DTSTART;TZID=Pacific/Auckland:20201117T190000
DTEND;TZID=Pacific/Auckland:20201117T213000
DTSTAMP:20260426T013127
CREATED:20200121T073949Z
LAST-MODIFIED:20200121T073949Z
UID:2535-1605639600-1605648600@rps.nz
SUMMARY:Club Night
DESCRIPTION:Judging – Portfolio
URL:https://rps.nz/event/club-night-55/
LOCATION:McAlpines Pavilion\, 291/319 Coldstream Rd\, Rangiora\, Canterbury\, 7473\, New Zealand
CATEGORIES:Club night,Judging
END:VEVENT
BEGIN:VEVENT
DTSTART;TZID=Pacific/Auckland:20201121T180000
DTEND;TZID=Pacific/Auckland:20201121T233000
DTSTAMP:20260426T013127
CREATED:20200121T074053Z
LAST-MODIFIED:20201119T224808Z
UID:2537-1605981600-1606001400@rps.nz
SUMMARY:Final Night -75 Diamond Anniversary Celebration
DESCRIPTION:Rangiora RSA\, 6 pm start \nOfficial welcome 6.50 pm \nDinner will start at 7 pm \nA fun evening to celebrate with guest speakers\, awards\, dinner and dancing \nA courtesy coach is available but if you live out of Rangiora please see Bar Manager beforehand \n  \n  \n 
URL:https://rps.nz/event/final-night-2/
END:VEVENT
BEGIN:VEVENT
DTSTART;TZID=Pacific/Auckland:20210124T140000
DTEND;TZID=Pacific/Auckland:20210124T170000
DTSTAMP:20260426T013127
CREATED:20201210T184753Z
LAST-MODIFIED:20201210T214723Z
UID:4417-1611496800-1611507600@rps.nz
SUMMARY:Opening Day
DESCRIPTION:Quiz at Five Stags Rangiora. 2pm start. Bring significant other\, family and your best quiz brain for a fun filled afternoon to get our RPS year kicked off. 
URL:https://rps.nz/event/opening-day/
LOCATION:Five Stags\, 29 Huntingdon Drive\, Rangiora\, 7400\, New Zealand
ORGANIZER;CN="RPS":MAILTO:admin@rps.nz
END:VEVENT
BEGIN:VEVENT
DTSTART;TZID=Pacific/Auckland:20210202T190000
DTEND;TZID=Pacific/Auckland:20210202T210000
DTSTAMP:20260426T013127
CREATED:20210112T080511Z
LAST-MODIFIED:20210112T080511Z
UID:4510-1612292400-1612299600@rps.nz
SUMMARY:Club Night
DESCRIPTION:1st Club Night of the year. 6 x 4 holiday snaps\, cafe style\, BYO drinks/nibbles.
URL:https://rps.nz/event/club-night-57/
CATEGORIES:Club night
END:VEVENT
BEGIN:VEVENT
DTSTART;TZID=Pacific/Auckland:20210216T080000
DTEND;TZID=Pacific/Auckland:20210216T170000
DTSTAMP:20260426T013127
CREATED:20210112T080633Z
LAST-MODIFIED:20210215T062034Z
UID:4513-1613462400-1613494800@rps.nz
SUMMARY:Club Night - cancelled due to level 2 restrictions
DESCRIPTION:Guest speaker.
URL:https://rps.nz/event/club-night-58/
CATEGORIES:Club night
END:VEVENT
BEGIN:VEVENT
DTSTART;TZID=Pacific/Auckland:20210217T233000
DTEND;TZID=Pacific/Auckland:20210217T233000
DTSTAMP:20260426T013127
CREATED:20210112T073530Z
LAST-MODIFIED:20210112T085639Z
UID:4476-1613604600-1613604600@rps.nz
SUMMARY:First Open closes
DESCRIPTION:
URL:https://rps.nz/event/first-open-closes/
CATEGORIES:Competition closes
END:VEVENT
BEGIN:VEVENT
DTSTART;TZID=Pacific/Auckland:20210302T190000
DTEND;TZID=Pacific/Auckland:20210302T210000
DTSTAMP:20260426T013127
CREATED:20210112T080751Z
LAST-MODIFIED:20210302T082753Z
UID:4516-1614711600-1614718800@rps.nz
SUMMARY:Club Night - Online
DESCRIPTION:How to Critique 101 \nNext up is the How to Critique 101 event. This will be livestreamed as we are under Alert Level 2 restrictions. We will be broadcasting from the clubrooms with protocols in place. \nTonight we will have three speakers who will be looking at your photos and giving their critiques – anyone who was at the last event where this happened will agree that is is an awesome night getting to hear different opinions and get a glimpse into what judges are looking for. \nCheck out the Online Events link under the Resources tab in the main menu (you need to be logged in to access this). There you can join a live Q&A session for the evening. \n 
URL:https://rps.nz/event/club-night-59/
CATEGORIES:Club night
END:VEVENT
BEGIN:VEVENT
DTSTART;TZID=Pacific/Auckland:20210316T190000
DTEND;TZID=Pacific/Auckland:20210316T210000
DTSTAMP:20260426T013127
CREATED:20210112T080852Z
LAST-MODIFIED:20210219T210445Z
UID:4519-1615921200-1615928400@rps.nz
SUMMARY:Club Night
DESCRIPTION:Judging 1st Open
URL:https://rps.nz/event/4519/
CATEGORIES:Club night,Judging
END:VEVENT
BEGIN:VEVENT
DTSTART;VALUE=DATE:20210317
DTEND;VALUE=DATE:20210318
DTSTAMP:20260426T013127
CREATED:20210112T075334Z
LAST-MODIFIED:20210112T085647Z
UID:4480-1615939200-1616025599@rps.nz
SUMMARY:Landscape closes
DESCRIPTION:
URL:https://rps.nz/event/landscape-closes-2/
CATEGORIES:Competition closes
END:VEVENT
BEGIN:VEVENT
DTSTART;TZID=Pacific/Auckland:20210330T190000
DTEND;TZID=Pacific/Auckland:20210330T210000
DTSTAMP:20260426T013127
CREATED:20210112T081449Z
LAST-MODIFIED:20210112T081742Z
UID:4522-1617130800-1617138000@rps.nz
SUMMARY:Club Night
DESCRIPTION:Speaker – Rina Sjardin-Thompson
URL:https://rps.nz/event/club-night-60/
CATEGORIES:Club night
END:VEVENT
BEGIN:VEVENT
DTSTART;TZID=Pacific/Auckland:20210331T190000
DTEND;TZID=Pacific/Auckland:20210331T210000
DTSTAMP:20260426T013127
CREATED:20210112T081832Z
LAST-MODIFIED:20210330T083447Z
UID:4525-1617217200-1617224400@rps.nz
SUMMARY:Camera Craft - Creating abstract
DESCRIPTION:We are lucky enough to have Rina take us on a short feild trip \nWhere: Waikuku Beach Surf Club car park \nWhen: 6 pm or whenever you can make it after that \nWhat to bring: camera\, tripod\, lenses\, SD card\, battery and spare\, remote trigger and anything else you think you will need
URL:https://rps.nz/event/camera-craft/
CATEGORIES:Camera craft
END:VEVENT
BEGIN:VEVENT
DTSTART;TZID=Pacific/Auckland:20210406T190000
DTEND;TZID=Pacific/Auckland:20210406T210000
DTSTAMP:20260426T013127
CREATED:20210112T081948Z
LAST-MODIFIED:20210112T081948Z
UID:4528-1617735600-1617742800@rps.nz
SUMMARY:Club Night
DESCRIPTION:Creative Approach \nC Grade Comp
URL:https://rps.nz/event/club-night-61/
CATEGORIES:Club night
END:VEVENT
BEGIN:VEVENT
DTSTART;TZID=Pacific/Auckland:20210420T190000
DTEND;TZID=Pacific/Auckland:20210420T210000
DTSTAMP:20260426T013127
CREATED:20210112T082108Z
LAST-MODIFIED:20210112T082108Z
UID:4531-1618945200-1618952400@rps.nz
SUMMARY:Club Night
DESCRIPTION:Judging of Landscape comp
URL:https://rps.nz/event/club-night-62/
CATEGORIES:Club night,Judging
END:VEVENT
BEGIN:VEVENT
DTSTART;VALUE=DATE:20210421
DTEND;VALUE=DATE:20210422
DTSTAMP:20260426T013127
CREATED:20210112T075624Z
LAST-MODIFIED:20210112T085701Z
UID:4483-1618963200-1619049599@rps.nz
SUMMARY:Natural History closes
DESCRIPTION:
URL:https://rps.nz/event/natural-history-closes-2/
CATEGORIES:Competition closes
END:VEVENT
END:VCALENDAR