BEGIN:VCALENDAR
VERSION:2.0
PRODID:-//Rangiora Photographic Society - ECPv6.15.20//NONSGML v1.0//EN
CALSCALE:GREGORIAN
METHOD:PUBLISH
X-ORIGINAL-URL:https://rps.nz
X-WR-CALDESC:Events for Rangiora Photographic Society
REFRESH-INTERVAL;VALUE=DURATION:PT1H
X-Robots-Tag:noindex
X-PUBLISHED-TTL:PT1H
BEGIN:VTIMEZONE
TZID:Pacific/Auckland
BEGIN:STANDARD
TZOFFSETFROM:+1300
TZOFFSETTO:+1200
TZNAME:NZST
DTSTART:20190406T140000
END:STANDARD
BEGIN:DAYLIGHT
TZOFFSETFROM:+1200
TZOFFSETTO:+1300
TZNAME:NZDT
DTSTART:20190928T140000
END:DAYLIGHT
BEGIN:STANDARD
TZOFFSETFROM:+1300
TZOFFSETTO:+1200
TZNAME:NZST
DTSTART:20200404T140000
END:STANDARD
BEGIN:DAYLIGHT
TZOFFSETFROM:+1200
TZOFFSETTO:+1300
TZNAME:NZDT
DTSTART:20200926T140000
END:DAYLIGHT
BEGIN:STANDARD
TZOFFSETFROM:+1300
TZOFFSETTO:+1200
TZNAME:NZST
DTSTART:20210403T140000
END:STANDARD
BEGIN:DAYLIGHT
TZOFFSETFROM:+1200
TZOFFSETTO:+1300
TZNAME:NZDT
DTSTART:20210925T140000
END:DAYLIGHT
END:VTIMEZONE
BEGIN:VEVENT
DTSTART;TZID=Pacific/Auckland:20200331T080000
DTEND;TZID=Pacific/Auckland:20200331T233000
DTSTAMP:20260425T234343
CREATED:20200301T193619Z
LAST-MODIFIED:20200301T193710Z
UID:2750-1585641600-1585697400@rps.nz
SUMMARY:Extra C grade competition closes
DESCRIPTION:Entry closes at 11.30pm
URL:https://rps.nz/event/extra-c-grade-competition/
CATEGORIES:Competition closes
ORGANIZER;CN="RPS":MAILTO:admin@rps.nz
END:VEVENT
BEGIN:VEVENT
DTSTART;TZID=Pacific/Auckland:20200407T190000
DTEND;TZID=Pacific/Auckland:20200407T213000
DTSTAMP:20260425T234343
CREATED:20200110T072557Z
LAST-MODIFIED:20200301T201056Z
UID:2465-1586286000-1586295000@rps.nz
SUMMARY:Club Night and informal judging of extra C grade competition
DESCRIPTION:Guest Speaker
URL:https://rps.nz/event/club-night-34/
LOCATION:McAlpines Pavilion\, 291/319 Coldstream Rd\, Rangiora\, Canterbury\, 7473\, New Zealand
CATEGORIES:Club night
END:VEVENT
BEGIN:VEVENT
DTSTART;VALUE=DATE:20200410
DTEND;VALUE=DATE:20200413
DTSTAMP:20260425T234343
CREATED:20200110T072755Z
LAST-MODIFIED:20200110T072755Z
UID:2467-1586476800-1586735999@rps.nz
SUMMARY:Field Trip
DESCRIPTION:Okarito
URL:https://rps.nz/event/field-trip/
CATEGORIES:Field trip
END:VEVENT
BEGIN:VEVENT
DTSTART;TZID=Pacific/Auckland:20200415T190000
DTEND;TZID=Pacific/Auckland:20200415T213000
DTSTAMP:20260425T234343
CREATED:20200110T073002Z
LAST-MODIFIED:20200110T073002Z
UID:2469-1586977200-1586986200@rps.nz
SUMMARY:Club Night
DESCRIPTION:Camera craft
URL:https://rps.nz/event/club-night-35/
LOCATION:McAlpines Pavilion\, 291/319 Coldstream Rd\, Rangiora\, Canterbury\, 7473\, New Zealand
CATEGORIES:Camera craft,Club night
END:VEVENT
BEGIN:VEVENT
DTSTART;TZID=Pacific/Auckland:20200421T190000
DTEND;TZID=Pacific/Auckland:20200421T213000
DTSTAMP:20260425T234343
CREATED:20200110T073139Z
LAST-MODIFIED:20200110T073139Z
UID:2471-1587495600-1587504600@rps.nz
SUMMARY:Club Night
DESCRIPTION:Judging – Landscape
URL:https://rps.nz/event/club-night-36/
LOCATION:McAlpines Pavilion\, 291/319 Coldstream Rd\, Rangiora\, Canterbury\, 7473\, New Zealand
CATEGORIES:Club night,Judging
END:VEVENT
BEGIN:VEVENT
DTSTART;TZID=Pacific/Auckland:20200422T233000
DTEND;TZID=Pacific/Auckland:20200422T233000
DTSTAMP:20260425T234343
CREATED:20200121T074346Z
LAST-MODIFIED:20200121T074346Z
UID:2543-1587598200-1587598200@rps.nz
SUMMARY:Natural History closes
DESCRIPTION:
URL:https://rps.nz/event/natural-history-closes/
CATEGORIES:Competition closes
END:VEVENT
BEGIN:VEVENT
DTSTART;VALUE=DATE:20200502
DTEND;VALUE=DATE:20200503
DTSTAMP:20260425T234343
CREATED:20200110T073338Z
LAST-MODIFIED:20200422T050004Z
UID:2473-1588377600-1588463999@rps.nz
SUMMARY:Field Trip -postponed
DESCRIPTION:Astro Shoot – Ashworths Beach
URL:https://rps.nz/event/field-trip-2/
CATEGORIES:Field trip
END:VEVENT
BEGIN:VEVENT
DTSTART;TZID=Pacific/Auckland:20200505T190000
DTEND;TZID=Pacific/Auckland:20200505T213000
DTSTAMP:20260425T234343
CREATED:20200110T073605Z
LAST-MODIFIED:20200422T051352Z
UID:2475-1588705200-1588714200@rps.nz
SUMMARY:Club Night - postponed
DESCRIPTION:Tutorial – Creative Images
URL:https://rps.nz/event/club-night-37/
LOCATION:McAlpines Pavilion\, 291/319 Coldstream Rd\, Rangiora\, Canterbury\, 7473\, New Zealand
CATEGORIES:Club night,Workshop
END:VEVENT
BEGIN:VEVENT
DTSTART;TZID=Pacific/Auckland:20200513T190000
DTEND;TZID=Pacific/Auckland:20200513T213000
DTSTAMP:20260425T234343
CREATED:20200110T073731Z
LAST-MODIFIED:20200422T051500Z
UID:2477-1589396400-1589405400@rps.nz
SUMMARY:Club Night - postponed
DESCRIPTION:Camera Craft
URL:https://rps.nz/event/club-night-38/
LOCATION:McAlpines Pavilion\, 291/319 Coldstream Rd\, Rangiora\, Canterbury\, 7473\, New Zealand
CATEGORIES:Camera craft,Club night
END:VEVENT
BEGIN:VEVENT
DTSTART;TZID=Pacific/Auckland:20200519T190000
DTEND;TZID=Pacific/Auckland:20200519T213000
DTSTAMP:20260425T234343
CREATED:20200110T073908Z
LAST-MODIFIED:20200422T052016Z
UID:2479-1589914800-1589923800@rps.nz
SUMMARY:Club Night
DESCRIPTION:Judging – Natural History \nWe are still not meeting at the club rooms \nResults will be published to website
URL:https://rps.nz/event/club-night-39/
LOCATION:McAlpines Pavilion\, 291/319 Coldstream Rd\, Rangiora\, Canterbury\, 7473\, New Zealand
CATEGORIES:Club night,Judging
END:VEVENT
BEGIN:VEVENT
DTSTART;TZID=Pacific/Auckland:20200520T233000
DTEND;TZID=Pacific/Auckland:20200520T233000
DTSTAMP:20260425T234343
CREATED:20200121T074428Z
LAST-MODIFIED:20200121T074428Z
UID:2545-1590017400-1590017400@rps.nz
SUMMARY:Portraiture closes
DESCRIPTION:
URL:https://rps.nz/event/portraiture-closes/
CATEGORIES:Competition closes
END:VEVENT
BEGIN:VEVENT
DTSTART;VALUE=DATE:20200524
DTEND;VALUE=DATE:20200525
DTSTAMP:20260425T234343
CREATED:20200110T074022Z
LAST-MODIFIED:20200518T071905Z
UID:2481-1590278400-1590364799@rps.nz
SUMMARY:Workshop - field trip postponed
DESCRIPTION:
URL:https://rps.nz/event/workshop-2/
LOCATION:McAlpines Pavilion\, 291/319 Coldstream Rd\, Rangiora\, Canterbury\, 7473\, New Zealand
CATEGORIES:Workshop
END:VEVENT
BEGIN:VEVENT
DTSTART;TZID=Pacific/Auckland:20200602T190000
DTEND;TZID=Pacific/Auckland:20200602T213000
DTSTAMP:20260425T234343
CREATED:20200110T074300Z
LAST-MODIFIED:20200601T084231Z
UID:2483-1591124400-1591133400@rps.nz
SUMMARY:Club Night - cancelled due to clubroom not being available
DESCRIPTION:The plan for this club night will be postponed until 16 June when we will also hold the judging of the portrait competition.
URL:https://rps.nz/event/club-night-40/
LOCATION:McAlpines Pavilion\, 291/319 Coldstream Rd\, Rangiora\, Canterbury\, 7473\, New Zealand
CATEGORIES:Club night
END:VEVENT
BEGIN:VEVENT
DTSTART;VALUE=DATE:20200607
DTEND;VALUE=DATE:20200608
DTSTAMP:20260425T234343
CREATED:20200110T074408Z
LAST-MODIFIED:20200110T074408Z
UID:2485-1591488000-1591574399@rps.nz
SUMMARY:Field Trip
DESCRIPTION:Full Day
URL:https://rps.nz/event/field-trip-3/
CATEGORIES:Workshop
END:VEVENT
BEGIN:VEVENT
DTSTART;TZID=Pacific/Auckland:20200610T190000
DTEND;TZID=Pacific/Auckland:20200610T213000
DTSTAMP:20260425T234343
CREATED:20200110T074642Z
LAST-MODIFIED:20200609T074208Z
UID:2487-1591815600-1591824600@rps.nz
SUMMARY:Club Night - Postponed
DESCRIPTION:Camera Craft – AV \nWe have decided to postpone this to to combine with the Club Night on Tuesday 7 July.
URL:https://rps.nz/event/club-night-41/
CATEGORIES:Camera craft,Club night
END:VEVENT
BEGIN:VEVENT
DTSTART;TZID=Pacific/Auckland:20200616T190000
DTEND;TZID=Pacific/Auckland:20200616T213000
DTSTAMP:20260425T234343
CREATED:20200110T074915Z
LAST-MODIFIED:20200613T225708Z
UID:2489-1592334000-1592343000@rps.nz
SUMMARY:Club Night - Portrait Judging
DESCRIPTION:It is all go for us to use the club rooms now. There will be hand sanitiser at the door. This evening we have Scott Fowler as our judge. Looking forward to hearing his feedback. Hot drinks will be available and bring your dollars as the raffle is back up and running. We will also have the suitcase challenge. \nWe are looking for people to volunteer to help out in the kitchen on club nights. Julie will be getting things ready so you don’t have to come early. There will be rubber gloves for serving drinks and food etc and collecting cups after the supper. If you can help there will be a sheet at the meeting where you can put your name\, contact details and which evenings you can help on. \nFor those who are not ready to come out to a meeting the evening will be live streamed and you can find the link to watch the club night here.
URL:https://rps.nz/event/club-night-42/
LOCATION:McAlpines Pavilion\, 291/319 Coldstream Rd\, Rangiora\, Canterbury\, 7473\, New Zealand
CATEGORIES:Club night,Judging
END:VEVENT
BEGIN:VEVENT
DTSTART;TZID=Pacific/Auckland:20200617T233000
DTEND;TZID=Pacific/Auckland:20200617T233000
DTSTAMP:20260425T234343
CREATED:20200121T074506Z
LAST-MODIFIED:20200121T074506Z
UID:2547-1592436600-1592436600@rps.nz
SUMMARY:Black & White closes
DESCRIPTION:
URL:https://rps.nz/event/black-white-closes/
CATEGORIES:Competition closes
END:VEVENT
BEGIN:VEVENT
DTSTART;TZID=Pacific/Auckland:20200707T190000
DTEND;TZID=Pacific/Auckland:20200707T213000
DTSTAMP:20260425T234343
CREATED:20200110T080042Z
LAST-MODIFIED:20200627T064908Z
UID:2491-1594148400-1594157400@rps.nz
SUMMARY:Club Night
DESCRIPTION:Guest Speaker – Steve Lloyd – AV
URL:https://rps.nz/event/club-night-43/
CATEGORIES:Club night
END:VEVENT
BEGIN:VEVENT
DTSTART;VALUE=DATE:20200710
DTEND;VALUE=DATE:20200713
DTSTAMP:20260425T234343
CREATED:20200110T080315Z
LAST-MODIFIED:20200609T073737Z
UID:2493-1594339200-1594598399@rps.nz
SUMMARY:Field Trip - Cancelled
DESCRIPTION:Mid Winter Weekend – Twizel
URL:https://rps.nz/event/field-trip-4/
CATEGORIES:Field trip
END:VEVENT
BEGIN:VEVENT
DTSTART;TZID=Pacific/Auckland:20200711T170000
DTEND;TZID=Pacific/Auckland:20200711T233000
DTSTAMP:20260425T234343
CREATED:20200625T221304Z
LAST-MODIFIED:20200709T213418Z
UID:3520-1594486800-1594510200@rps.nz
SUMMARY:Astro shoot at Waikuku Beach -postponed till 25thJuly
DESCRIPTION:Things to start thinking about getting ready are your camera\, a fully charged battery and spare\, memory card(s)\, what lenses you will need (wide angle)\, tripod\, head lamp (one with red night vision light is ideal)\, chair and lots of warm clothing and a flask of something warm to drink
URL:https://rps.nz/event/astro-shoot-at-ashworths-beach/
CATEGORIES:Field trip
END:VEVENT
BEGIN:VEVENT
DTSTART;TZID=Pacific/Auckland:20200715T190000
DTEND;TZID=Pacific/Auckland:20200715T210000
DTSTAMP:20260425T234343
CREATED:20200610T093939Z
LAST-MODIFIED:20200610T094019Z
UID:3420-1594839600-1594846800@rps.nz
SUMMARY:Club night
DESCRIPTION:Camera craft – AV
URL:https://rps.nz/event/club-night-56/
CATEGORIES:Camera craft
END:VEVENT
BEGIN:VEVENT
DTSTART;TZID=Pacific/Auckland:20200721T190000
DTEND;TZID=Pacific/Auckland:20200721T213000
DTSTAMP:20260425T234343
CREATED:20200121T071222Z
LAST-MODIFIED:20200721T034655Z
UID:2503-1595358000-1595367000@rps.nz
SUMMARY:Club Night - B&W Judging
DESCRIPTION:The judge this evening will be Simon Forsyth. \nFor those not able to attend\, you can watch the livestream on Facebook using this link. \nThe live video will be uploaded to YouTube following the event.
URL:https://rps.nz/event/club-night-44/
LOCATION:McAlpines Pavilion\, 291/319 Coldstream Rd\, Rangiora\, Canterbury\, 7473\, New Zealand
CATEGORIES:Club night,Judging
END:VEVENT
BEGIN:VEVENT
DTSTART;TZID=Pacific/Auckland:20200722T233000
DTEND;TZID=Pacific/Auckland:20200722T233000
DTSTAMP:20260425T234343
CREATED:20200121T074550Z
LAST-MODIFIED:20200121T074550Z
UID:2549-1595460600-1595460600@rps.nz
SUMMARY:Photojournalism closes
DESCRIPTION:
URL:https://rps.nz/event/photojournalism-closes/
CATEGORIES:Competition closes
END:VEVENT
BEGIN:VEVENT
DTSTART;VALUE=DATE:20200724
DTEND;VALUE=DATE:20200725
DTSTAMP:20260425T234343
CREATED:20200121T071328Z
LAST-MODIFIED:20200609T074547Z
UID:2505-1595548800-1595635199@rps.nz
SUMMARY:RPS Exhibition - Winter Festival TBC
DESCRIPTION:
URL:https://rps.nz/event/rps-exhibition-winter-festival/
END:VEVENT
BEGIN:VEVENT
DTSTART;TZID=Pacific/Auckland:20200725T193000
DTEND;TZID=Pacific/Auckland:20200725T233000
DTSTAMP:20260425T234343
CREATED:20200709T211530Z
LAST-MODIFIED:20200716T223442Z
UID:3560-1595705400-1595719800@rps.nz
SUMMARY:Astro shoot - Ashworths Beach 7.30pm
DESCRIPTION:What you need to know:\n\n\n\nDate: Saturday 25th July \n\n\n\nTime: 7.30pm \n\n\n\nPlace: Ashworths Beach – meet in the car park. \n\n\n\nIt will take about 15 – 18 minutes to drive there. Head towards Amberley and take a right on to Ashworths Beach Road about 9km north of Waikuku. If you get to Pukeko Junction you have gone too far \n\n\n\nIf anyone is needing a ride I (Tabitha if you don’t know who writes these) will have a couple of spare seats. Hit me up at a meeting on Tuesday or flick me a text 021 235 2334 \n\n\n\nWhat to bring: Camera\, wide-angle lens\, sturdy tripod\, trigger (if you don’t have a trigger then your camera’s timer will do fine) lots of warm clothes\, and a head torch with red light \n\n\n\nA red light helps with night vision. If you don’t have a head torch with a red light then some red cellophane over the torch or clear tape with red marker pen works also. Check out youtube for more ideas \n\n\n\nCancellation: if for some reason we do need to cancel again (weather not right) this will be posted on the website and an email will be sent on the day
URL:https://rps.nz/event/astro-shoot/
CATEGORIES:Field trip
END:VEVENT
BEGIN:VEVENT
DTSTART;TZID=Pacific/Auckland:20200804T190000
DTEND;TZID=Pacific/Auckland:20200804T213000
DTSTAMP:20260425T234343
CREATED:20200121T071646Z
LAST-MODIFIED:20200801T070827Z
UID:2507-1596567600-1596576600@rps.nz
SUMMARY:Club Night
DESCRIPTION:Starts 7 pm in the clubrooms\, Francis will be talking “Day trips in Canterbury” And if that wasn’t enough we have Cheryl Muirson and Graham Dean who will be inspiring us with their knowledge about planning and creating a portfolio. Also this evening we will be having the suitcase challenge and Lisa will be offering her wee gems from the ‘tips book’ and passing this along. Supper and raffles are running so don’t forget to bring some change. Super excited for this evening. Hope to see you there!
URL:https://rps.nz/event/club-night-45/
LOCATION:McAlpines Pavilion\, 291/319 Coldstream Rd\, Rangiora\, Canterbury\, 7473\, New Zealand
CATEGORIES:Club night
END:VEVENT
BEGIN:VEVENT
DTSTART;TZID=Pacific/Auckland:20200812T190000
DTEND;TZID=Pacific/Auckland:20200812T213000
DTSTAMP:20260425T234343
CREATED:20200121T071820Z
LAST-MODIFIED:20200801T071003Z
UID:2509-1597258800-1597267800@rps.nz
SUMMARY:Camera craft – Flash for fun
DESCRIPTION:Starts at 7 pm in the clubrooms. Please bring along your camera\, flash and pen and paper for notes if you want. If you don’t have a flash there will be plenty there for you to have a go with. Steven will be sending out for registrations – he will want to know what type of camera you have
URL:https://rps.nz/event/club-night-46/
LOCATION:McAlpines Pavilion\, 291/319 Coldstream Rd\, Rangiora\, Canterbury\, 7473\, New Zealand
CATEGORIES:Camera craft,Club night
END:VEVENT
BEGIN:VEVENT
DTSTART;VALUE=DATE:20200816
DTEND;VALUE=DATE:20200817
DTSTAMP:20260425T234343
CREATED:20200121T071914Z
LAST-MODIFIED:20200808T082403Z
UID:2511-1597536000-1597622399@rps.nz
SUMMARY:Field Trip - Dawn Shoot Christchurch City
DESCRIPTION:full details on blog post
URL:https://rps.nz/event/field-trip-dawn-shoot/
CATEGORIES:Field trip
END:VEVENT
BEGIN:VEVENT
DTSTART;TZID=Pacific/Auckland:20200818T190000
DTEND;TZID=Pacific/Auckland:20200818T213000
DTSTAMP:20260425T234343
CREATED:20200121T072030Z
LAST-MODIFIED:20200817T210359Z
UID:2513-1597777200-1597786200@rps.nz
SUMMARY:Club Night - Moved to Livestream
DESCRIPTION:The judging of our Photojournalism 2020 competition by Dave Wethey. \nThe committee has decided to move this online due to the current Alert Level 2 situation. To still have a club night to look forward to we will instead be streaming the judging slideshow only\, so do tune in at 7pm. \nYou can watch the livestream here. A recording will be uploaded to YouTube afterwards.
URL:https://rps.nz/event/club-night-47/
LOCATION:McAlpines Pavilion\, 291/319 Coldstream Rd\, Rangiora\, Canterbury\, 7473\, New Zealand
CATEGORIES:Club night,Judging
END:VEVENT
BEGIN:VEVENT
DTSTART;TZID=Pacific/Auckland:20200819T233000
DTEND;TZID=Pacific/Auckland:20200819T233000
DTSTAMP:20260425T234343
CREATED:20200121T074640Z
LAST-MODIFIED:20200121T074640Z
UID:2551-1597879800-1597879800@rps.nz
SUMMARY:2nd Open closes
DESCRIPTION:
URL:https://rps.nz/event/2nd-open-closes/
CATEGORIES:Competition closes
END:VEVENT
END:VCALENDAR