BEGIN:VCALENDAR
VERSION:2.0
PRODID:-//Rangiora Photographic Society - ECPv6.15.20//NONSGML v1.0//EN
CALSCALE:GREGORIAN
METHOD:PUBLISH
X-WR-CALNAME:Rangiora Photographic Society
X-ORIGINAL-URL:https://rps.nz
X-WR-CALDESC:Events for Rangiora Photographic Society
REFRESH-INTERVAL;VALUE=DURATION:PT1H
X-Robots-Tag:noindex
X-PUBLISHED-TTL:PT1H
BEGIN:VTIMEZONE
TZID:Pacific/Auckland
BEGIN:STANDARD
TZOFFSETFROM:+1300
TZOFFSETTO:+1200
TZNAME:NZST
DTSTART:20200404T140000
END:STANDARD
BEGIN:DAYLIGHT
TZOFFSETFROM:+1200
TZOFFSETTO:+1300
TZNAME:NZDT
DTSTART:20200926T140000
END:DAYLIGHT
BEGIN:STANDARD
TZOFFSETFROM:+1300
TZOFFSETTO:+1200
TZNAME:NZST
DTSTART:20210403T140000
END:STANDARD
BEGIN:DAYLIGHT
TZOFFSETFROM:+1200
TZOFFSETTO:+1300
TZNAME:NZDT
DTSTART:20210925T140000
END:DAYLIGHT
BEGIN:STANDARD
TZOFFSETFROM:+1300
TZOFFSETTO:+1200
TZNAME:NZST
DTSTART:20220402T140000
END:STANDARD
BEGIN:DAYLIGHT
TZOFFSETFROM:+1200
TZOFFSETTO:+1300
TZNAME:NZDT
DTSTART:20220924T140000
END:DAYLIGHT
END:VTIMEZONE
BEGIN:VEVENT
DTSTART;TZID=Pacific/Auckland:20211102T190000
DTEND;TZID=Pacific/Auckland:20211102T210000
DTSTAMP:20260426T025332
CREATED:20210112T085227Z
LAST-MODIFIED:20210112T085227Z
UID:4586-1635879600-1635886800@rps.nz
SUMMARY:Club Night
DESCRIPTION:Judging – Architecture
URL:https://rps.nz/event/club-night-75/
LOCATION:Canterbury
CATEGORIES:Club night,Judging
END:VEVENT
BEGIN:VEVENT
DTSTART;VALUE=DATE:20211022
DTEND;VALUE=DATE:20211025
DTSTAMP:20260426T025332
CREATED:20210112T085109Z
LAST-MODIFIED:20210112T085109Z
UID:4583-1634860800-1635119999@rps.nz
SUMMARY:Field Trip
DESCRIPTION:Okarito [Labour Weekend]
URL:https://rps.nz/event/field-trip-7/
LOCATION:Canterbury
CATEGORIES:Field trip
END:VEVENT
BEGIN:VEVENT
DTSTART;TZID=Pacific/Auckland:20211019T190000
DTEND;TZID=Pacific/Auckland:20211019T210000
DTSTAMP:20260426T025332
CREATED:20210112T084755Z
LAST-MODIFIED:20210112T084929Z
UID:4579-1634670000-1634677200@rps.nz
SUMMARY:Club Night
DESCRIPTION:Judging – Set Subject [Abstract]
URL:https://rps.nz/event/club-night-74/
LOCATION:Canterbury
CATEGORIES:Club night,Judging
END:VEVENT
BEGIN:VEVENT
DTSTART;TZID=Pacific/Auckland:20211012T190000
DTEND;TZID=Pacific/Auckland:20211012T210000
DTSTAMP:20260426T025332
CREATED:20210929T074703Z
LAST-MODIFIED:20210929T074703Z
UID:5979-1634065200-1634072400@rps.nz
SUMMARY:AGM
DESCRIPTION:Start time 7pm at clubrooms \n 
URL:https://rps.nz/event/agm-5/
LOCATION:Canterbury
CATEGORIES:Club night
END:VEVENT
BEGIN:VEVENT
DTSTART;VALUE=DATE:20211006
DTEND;VALUE=DATE:20211007
DTSTAMP:20260426T025332
CREATED:20210112T080150Z
LAST-MODIFIED:20210112T080150Z
UID:4501-1633478400-1633564799@rps.nz
SUMMARY:Architecture closes
DESCRIPTION:
URL:https://rps.nz/event/architecture-closes/
LOCATION:Canterbury
CATEGORIES:Competition closes
END:VEVENT
BEGIN:VEVENT
DTSTART;TZID=Pacific/Auckland:20211005T190000
DTEND;TZID=Pacific/Auckland:20211005T210000
DTSTAMP:20260426T025332
CREATED:20210112T084557Z
LAST-MODIFIED:20210929T054658Z
UID:4576-1633460400-1633467600@rps.nz
SUMMARY:Club Night - portfolio presentation and Custard in your Face
DESCRIPTION:We will be having a short presentation on creating a portfolio. This is closing soon ( Nov 3rd) so time to really get started if you haven’t already! If you have never created a portfolio or have any questions then we can offer some guidance. \nPlease wear a mask and use COVID app to sign in. \nAfter this we move to the main event! “CUSTARD IN YA FACE!” and yes it is exactly what it sounds like\, we will be throwing stuff at people (they are all willing volunteers\, Mr President for one) Bring along your cameras and capture some fun times\, even maybe portfolio worthy!!!
URL:https://rps.nz/event/club-night-73/
LOCATION:Canterbury
CATEGORIES:Camera craft,Club night
END:VEVENT
BEGIN:VEVENT
DTSTART;TZID=Pacific/Auckland:20210929T190000
DTEND;TZID=Pacific/Auckland:20210929T210000
DTSTAMP:20260426T025332
CREATED:20210112T084422Z
LAST-MODIFIED:20210926T023300Z
UID:4573-1632942000-1632949200@rps.nz
SUMMARY:Camera Craft postponed
DESCRIPTION:Software Workshop
URL:https://rps.nz/event/camera-craft-4/
LOCATION:Canterbury
CATEGORIES:Camera craft,Workshop
END:VEVENT
BEGIN:VEVENT
DTSTART;TZID=Pacific/Auckland:20210928T190000
DTEND;TZID=Pacific/Auckland:20210928T210000
DTSTAMP:20260426T025332
CREATED:20210918T032935Z
LAST-MODIFIED:20210926T023754Z
UID:5958-1632855600-1632862800@rps.nz
SUMMARY:Club night - Showtime
DESCRIPTION:This Tuesday 28th September we will be holding “Showtime” at the clubrooms. Start time 7pm \nIt will be a little different this year. Normally we have a shared supper and drinks \nIf you are wanting to bring some supper and drinks then you will need to bring your own. These can not be shared \nWith the current lockdown level we will have the seating arranged at a the guideline distance. You will be required to wear a mask and sign in with social distancing being observed
URL:https://rps.nz/event/club-night-showtime/
LOCATION:Canterbury
END:VEVENT
BEGIN:VEVENT
DTSTART;TZID=Pacific/Auckland:20210921T190000
DTEND;TZID=Pacific/Auckland:20210921T210000
DTSTAMP:20260426T025332
CREATED:20210112T084309Z
LAST-MODIFIED:20210918T032736Z
UID:4570-1632250800-1632258000@rps.nz
SUMMARY:Club Night postponed till 28th Sept
DESCRIPTION:
URL:https://rps.nz/event/club-night-72/
LOCATION:Canterbury
CATEGORIES:Club night,Judging
END:VEVENT
BEGIN:VEVENT
DTSTART;VALUE=DATE:20210915
DTEND;VALUE=DATE:20210916
DTSTAMP:20260426T025332
CREATED:20210112T080101Z
LAST-MODIFIED:20210112T080101Z
UID:4498-1631664000-1631750399@rps.nz
SUMMARY:Set Subject [Abstract] closes
DESCRIPTION:
URL:https://rps.nz/event/set-subject-abstract-closes/
LOCATION:Canterbury
CATEGORIES:Competition closes
END:VEVENT
BEGIN:VEVENT
DTSTART;TZID=Pacific/Auckland:20210914T190000
DTEND;TZID=Pacific/Auckland:20210914T210000
DTSTAMP:20260426T025332
CREATED:20210714T075429Z
LAST-MODIFIED:20210714T075429Z
UID:5566-1631646000-1631653200@rps.nz
SUMMARY:AGM
DESCRIPTION:Starts 7 pm \nLight supper will be provided \n 
URL:https://rps.nz/event/agm-4/
LOCATION:Canterbury
CATEGORIES:Club night
END:VEVENT
BEGIN:VEVENT
DTSTART;TZID=Pacific/Auckland:20210907T190000
DTEND;TZID=Pacific/Auckland:20210907T210000
DTSTAMP:20260426T025332
CREATED:20210112T084149Z
LAST-MODIFIED:20210901T080549Z
UID:4567-1631041200-1631048400@rps.nz
SUMMARY:Club Night - Online
DESCRIPTION:This was to have been our annual “Showtime”\, now swapped with the meeting scheduled for 21st September (Judging of the 2nd Open competition). \nJust to be clear\, this will be the online presentation of the 2nd Open Judging. Desmond Downs is the Judge and will LIVE deliver his comments and judgements. We will also have the results of the latest online challenge\, “Creatures”. \nPlease check the Online Events page on the RPS website for details on how to join in live on the night. \n 
URL:https://rps.nz/event/club-night-71/
LOCATION:Canterbury
CATEGORIES:Club night
END:VEVENT
BEGIN:VEVENT
DTSTART;VALUE=DATE:20210831
DTEND;VALUE=DATE:20210901
DTSTAMP:20260426T025332
CREATED:20210721T094515Z
LAST-MODIFIED:20210721T094759Z
UID:5575-1630368000-1630454399@rps.nz
SUMMARY:Online challenge closes: Creatures
DESCRIPTION:
URL:https://rps.nz/event/online-challenge-closes-creatures/
LOCATION:Canterbury
END:VEVENT
BEGIN:VEVENT
DTSTART;VALUE=DATE:20210818
DTEND;VALUE=DATE:20210819
DTSTAMP:20260426T025332
CREATED:20210112T080015Z
LAST-MODIFIED:20210112T080015Z
UID:4495-1629244800-1629331199@rps.nz
SUMMARY:2nd Open closes
DESCRIPTION:
URL:https://rps.nz/event/2nd-open-closes-2/
LOCATION:Canterbury
CATEGORIES:Competition closes
END:VEVENT
BEGIN:VEVENT
DTSTART;TZID=Pacific/Auckland:20210817T190000
DTEND;TZID=Pacific/Auckland:20210817T210000
DTSTAMP:20260426T025332
CREATED:20210112T083956Z
LAST-MODIFIED:20210112T083956Z
UID:4564-1629226800-1629234000@rps.nz
SUMMARY:Club Night
DESCRIPTION:Judging Sports PJ
URL:https://rps.nz/event/club-night-70/
LOCATION:Canterbury
CATEGORIES:Club night,Judging
END:VEVENT
BEGIN:VEVENT
DTSTART;TZID=Pacific/Auckland:20210803T190000
DTEND;TZID=Pacific/Auckland:20210803T210000
DTSTAMP:20260426T025332
CREATED:20210112T083831Z
LAST-MODIFIED:20210112T083831Z
UID:4561-1628017200-1628024400@rps.nz
SUMMARY:Club Night
DESCRIPTION:Motion Capture
URL:https://rps.nz/event/club-night-69/
LOCATION:Canterbury
CATEGORIES:Camera craft,Club night
END:VEVENT
BEGIN:VEVENT
DTSTART;TZID=Pacific/Auckland:20210721T190000
DTEND;TZID=Pacific/Auckland:20210721T210000
DTSTAMP:20260426T025332
CREATED:20210112T083658Z
LAST-MODIFIED:20210706T102704Z
UID:4558-1626894000-1626901200@rps.nz
SUMMARY:Camera Craft
DESCRIPTION:Camera Craft: Light Painting
URL:https://rps.nz/event/camera-craft-3/
LOCATION:Canterbury
CATEGORIES:Camera craft
END:VEVENT
BEGIN:VEVENT
DTSTART;VALUE=DATE:20210721
DTEND;VALUE=DATE:20210722
DTSTAMP:20260426T025332
CREATED:20210112T075910Z
LAST-MODIFIED:20210112T075910Z
UID:4492-1626825600-1626911999@rps.nz
SUMMARY:Sports Photojournalism closes
DESCRIPTION:
URL:https://rps.nz/event/sports-photojournalism-closes/
LOCATION:Canterbury
CATEGORIES:Competition closes
END:VEVENT
BEGIN:VEVENT
DTSTART;TZID=Pacific/Auckland:20210720T190000
DTEND;TZID=Pacific/Auckland:20210720T210000
DTSTAMP:20260426T025332
CREATED:20210112T083330Z
LAST-MODIFIED:20210112T083330Z
UID:4555-1626807600-1626814800@rps.nz
SUMMARY:Club Night
DESCRIPTION:Judging Black & White
URL:https://rps.nz/event/club-night-68/
LOCATION:Canterbury
CATEGORIES:Club night,Judging
END:VEVENT
BEGIN:VEVENT
DTSTART;TZID=Pacific/Auckland:20210706T190000
DTEND;TZID=Pacific/Auckland:20210706T210000
DTSTAMP:20260426T025332
CREATED:20210112T083152Z
LAST-MODIFIED:20210526T185608Z
UID:4552-1625598000-1625605200@rps.nz
SUMMARY:Club Night
DESCRIPTION:Portrait Lighting basics workshop @ 7pm \n  \nYou will need: notepad and pen
URL:https://rps.nz/event/club-night-67/
LOCATION:Canterbury
CATEGORIES:Club night,Workshop
END:VEVENT
BEGIN:VEVENT
DTSTART;TZID=Pacific/Auckland:20210630T000000
DTEND;TZID=Pacific/Auckland:20210630T000000
DTSTAMP:20260426T025332
CREATED:20210612T032402Z
LAST-MODIFIED:20210612T032402Z
UID:5444-1625011200-1625011200@rps.nz
SUMMARY:Online challenge - Composite - closes
DESCRIPTION:
URL:https://rps.nz/event/online-challenge-composite-closes/
LOCATION:Canterbury
END:VEVENT
BEGIN:VEVENT
DTSTART;VALUE=DATE:20210616
DTEND;VALUE=DATE:20210617
DTSTAMP:20260426T025332
CREATED:20210112T075815Z
LAST-MODIFIED:20210112T075815Z
UID:4489-1623801600-1623887999@rps.nz
SUMMARY:Black & White closes
DESCRIPTION:
URL:https://rps.nz/event/black-white-closes-2/
LOCATION:Canterbury
CATEGORIES:Competition closes
END:VEVENT
BEGIN:VEVENT
DTSTART;TZID=Pacific/Auckland:20210615T190000
DTEND;TZID=Pacific/Auckland:20210615T210000
DTSTAMP:20260426T025332
CREATED:20210112T083006Z
LAST-MODIFIED:20210112T083006Z
UID:4549-1623783600-1623790800@rps.nz
SUMMARY:Club Night
DESCRIPTION:Judging Portrait
URL:https://rps.nz/event/club-night-66/
LOCATION:Canterbury
CATEGORIES:Club night,Judging
END:VEVENT
BEGIN:VEVENT
DTSTART;TZID=Pacific/Auckland:20210602T190000
DTEND;TZID=Pacific/Auckland:20210602T210000
DTSTAMP:20260426T025332
CREATED:20210112T082649Z
LAST-MODIFIED:20210112T082649Z
UID:4546-1622660400-1622667600@rps.nz
SUMMARY:Camera Craft
DESCRIPTION:Get creative with Jill Jackson
URL:https://rps.nz/event/camera-craft-2/
LOCATION:Canterbury
CATEGORIES:Camera craft
END:VEVENT
BEGIN:VEVENT
DTSTART;TZID=Pacific/Auckland:20210601T190000
DTEND;TZID=Pacific/Auckland:20210601T210000
DTSTAMP:20260426T025332
CREATED:20210112T082531Z
LAST-MODIFIED:20210112T082531Z
UID:4543-1622574000-1622581200@rps.nz
SUMMARY:Club Night
DESCRIPTION:Sports PJ tutorial [bring camera]
URL:https://rps.nz/event/club-night-65/
LOCATION:Canterbury
CATEGORIES:Camera craft,Club night
END:VEVENT
BEGIN:VEVENT
DTSTART;TZID=Pacific/Auckland:20210530T153000
DTEND;TZID=Pacific/Auckland:20210530T233000
DTSTAMP:20260426T025332
CREATED:20210513T023131Z
LAST-MODIFIED:20210513T023131Z
UID:5321-1622388600-1622417400@rps.nz
SUMMARY:Architecture Field Trip Christchurch
DESCRIPTION:Time: Meet at 3:30 pm outside the foyer of Christchurch Art Gallery\, Montreal Street. Pay parking is available under the building\, (open to midnight). Free Parking at Gardens in Park Terrace entrance. \nfor more information see blog \n\nArchitecture Field Trip Christchurch
URL:https://rps.nz/event/architecture-field-trip-christchurch/
LOCATION:Canterbury
END:VEVENT
BEGIN:VEVENT
DTSTART;TZID=Pacific/Auckland:20210523T100000
DTEND;TZID=Pacific/Auckland:20210523T140000
DTSTAMP:20260426T025332
CREATED:20210516T184311Z
LAST-MODIFIED:20210516T184311Z
UID:5336-1621764000-1621778400@rps.nz
SUMMARY:Youth Workshop
DESCRIPTION:Open to all under 18’s –  no need to be members \n● At Mainpower Cricket Oval\, Coldstream Road \n● Pre-register at president@rps.nz with name & age & contact number \nCost is only $5 including lunch. Camera or phone OK.  \n\n 
URL:https://rps.nz/event/youth-workshop/
LOCATION:McAlpines Pavilion\, 291/319 Coldstream Rd\, Rangiora\, Canterbury\, 7473\, New Zealand
ORGANIZER;CN="RPS President":MAILTO:president@rps.nz
END:VEVENT
BEGIN:VEVENT
DTSTART;VALUE=DATE:20210519
DTEND;VALUE=DATE:20210520
DTSTAMP:20260426T025332
CREATED:20210112T075710Z
LAST-MODIFIED:20210112T085540Z
UID:4486-1621382400-1621468799@rps.nz
SUMMARY:Portraiture closes
DESCRIPTION:
URL:https://rps.nz/event/portraiture-closes-2/
LOCATION:Canterbury
CATEGORIES:Competition closes
END:VEVENT
BEGIN:VEVENT
DTSTART;TZID=Pacific/Auckland:20210518T190000
DTEND;TZID=Pacific/Auckland:20210518T210000
DTSTAMP:20260426T025332
CREATED:20210112T082413Z
LAST-MODIFIED:20210112T082413Z
UID:4540-1621364400-1621371600@rps.nz
SUMMARY:Club Night
DESCRIPTION:Judging Natural History
URL:https://rps.nz/event/club-night-64/
LOCATION:Canterbury
CATEGORIES:Club night,Judging
END:VEVENT
BEGIN:VEVENT
DTSTART;TZID=Pacific/Auckland:20210511T080000
DTEND;TZID=Pacific/Auckland:20210511T170000
DTSTAMP:20260426T025332
CREATED:20210511T075531Z
LAST-MODIFIED:20210511T075531Z
UID:5313-1620720000-1620752400@rps.nz
SUMMARY:Twilight City Field Trip
DESCRIPTION:Contact Russell Falconer for details. 
URL:https://rps.nz/event/twilight-city-field-trip/
LOCATION:Canterbury
END:VEVENT
END:VCALENDAR