BEGIN:VCALENDAR
VERSION:2.0
PRODID:-//Rangiora Photographic Society - ECPv6.15.20//NONSGML v1.0//EN
CALSCALE:GREGORIAN
METHOD:PUBLISH
X-ORIGINAL-URL:https://rps.nz
X-WR-CALDESC:Events for Rangiora Photographic Society
REFRESH-INTERVAL;VALUE=DURATION:PT1H
X-Robots-Tag:noindex
X-PUBLISHED-TTL:PT1H
BEGIN:VTIMEZONE
TZID:Pacific/Auckland
BEGIN:STANDARD
TZOFFSETFROM:+1300
TZOFFSETTO:+1200
TZNAME:NZST
DTSTART:20220402T140000
END:STANDARD
BEGIN:DAYLIGHT
TZOFFSETFROM:+1200
TZOFFSETTO:+1300
TZNAME:NZDT
DTSTART:20220924T140000
END:DAYLIGHT
BEGIN:STANDARD
TZOFFSETFROM:+1300
TZOFFSETTO:+1200
TZNAME:NZST
DTSTART:20230401T140000
END:STANDARD
BEGIN:DAYLIGHT
TZOFFSETFROM:+1200
TZOFFSETTO:+1300
TZNAME:NZDT
DTSTART:20230923T140000
END:DAYLIGHT
BEGIN:STANDARD
TZOFFSETFROM:+1300
TZOFFSETTO:+1200
TZNAME:NZST
DTSTART:20240406T140000
END:STANDARD
BEGIN:DAYLIGHT
TZOFFSETFROM:+1200
TZOFFSETTO:+1300
TZNAME:NZDT
DTSTART:20240928T140000
END:DAYLIGHT
BEGIN:STANDARD
TZOFFSETFROM:+1300
TZOFFSETTO:+1200
TZNAME:NZST
DTSTART:20250405T140000
END:STANDARD
BEGIN:DAYLIGHT
TZOFFSETFROM:+1200
TZOFFSETTO:+1300
TZNAME:NZDT
DTSTART:20250927T140000
END:DAYLIGHT
END:VTIMEZONE
BEGIN:VEVENT
DTSTART;TZID=Pacific/Auckland:20231031T190000
DTEND;TZID=Pacific/Auckland:20231031T210000
DTSTAMP:20260426T043029
CREATED:20221220T011722Z
LAST-MODIFIED:20221220T011722Z
UID:8171-1698778800-1698786000@rps.nz
SUMMARY:AGM
DESCRIPTION:
URL:https://rps.nz/event/agm-7/
END:VEVENT
BEGIN:VEVENT
DTSTART;TZID=Pacific/Auckland:20231107T190000
DTEND;TZID=Pacific/Auckland:20231107T210000
DTSTAMP:20260426T043029
CREATED:20221220T011836Z
LAST-MODIFIED:20221220T011836Z
UID:8173-1699383600-1699390800@rps.nz
SUMMARY:Club Night
DESCRIPTION:Judging – Macro
URL:https://rps.nz/event/club-night-113/
CATEGORIES:Club night,Judging
END:VEVENT
BEGIN:VEVENT
DTSTART;TZID=Pacific/Auckland:20231108T233000
DTEND;TZID=Pacific/Auckland:20231108T233000
DTSTAMP:20260426T043029
CREATED:20221220T012721Z
LAST-MODIFIED:20221220T012721Z
UID:8197-1699486200-1699486200@rps.nz
SUMMARY:Triptych closes
DESCRIPTION:
URL:https://rps.nz/event/triptych-closes/
CATEGORIES:Competition closes
END:VEVENT
BEGIN:VEVENT
DTSTART;TZID=Pacific/Auckland:20231108T233000
DTEND;TZID=Pacific/Auckland:20231108T233000
DTSTAMP:20260426T043029
CREATED:20221220T012803Z
LAST-MODIFIED:20221220T012803Z
UID:8199-1699486200-1699486200@rps.nz
SUMMARY:Supreme Image of the Year closes
DESCRIPTION:
URL:https://rps.nz/event/supreme-image-of-the-year-closes-3/
CATEGORIES:Competition closes
END:VEVENT
BEGIN:VEVENT
DTSTART;TZID=Pacific/Auckland:20231121T190000
DTEND;TZID=Pacific/Auckland:20231121T210000
DTSTAMP:20260426T043029
CREATED:20221220T011930Z
LAST-MODIFIED:20221220T011930Z
UID:8175-1700593200-1700600400@rps.nz
SUMMARY:Club Night
DESCRIPTION:Judging – Triptych
URL:https://rps.nz/event/club-night-114/
CATEGORIES:Club night,Judging
END:VEVENT
BEGIN:VEVENT
DTSTART;TZID=Pacific/Auckland:20231125T190000
DTEND;TZID=Pacific/Auckland:20231125T230000
DTSTAMP:20260426T043029
CREATED:20221220T012030Z
LAST-MODIFIED:20221220T012030Z
UID:8177-1700938800-1700953200@rps.nz
SUMMARY:Final Night
DESCRIPTION:Prizegiving and social \nDetails TBC
URL:https://rps.nz/event/final-night-5/
END:VEVENT
BEGIN:VEVENT
DTSTART;TZID=Pacific/Auckland:20240206T190000
DTEND;TZID=Pacific/Auckland:20240206T210000
DTSTAMP:20260426T043029
CREATED:20231222T221215Z
LAST-MODIFIED:20231222T221215Z
UID:9044-1707246000-1707253200@rps.nz
SUMMARY:Opening Night
DESCRIPTION:Cafe Style welcome
URL:https://rps.nz/event/opening-night-2/
LOCATION:McAlpines Pavilion\, 291/319 Coldstream Rd\, Rangiora\, Canterbury\, 7473\, New Zealand
CATEGORIES:Club night
END:VEVENT
BEGIN:VEVENT
DTSTART;TZID=Pacific/Auckland:20240220T190000
DTEND;TZID=Pacific/Auckland:20240220T210000
DTSTAMP:20260426T043029
CREATED:20231222T221317Z
LAST-MODIFIED:20231222T221317Z
UID:9046-1708455600-1708462800@rps.nz
SUMMARY:Club Night - Guest Speaker
DESCRIPTION:
URL:https://rps.nz/event/club-night-guest-speaker-2/
LOCATION:McAlpines Pavilion\, 291/319 Coldstream Rd\, Rangiora\, Canterbury\, 7473\, New Zealand
CATEGORIES:Club night
END:VEVENT
BEGIN:VEVENT
DTSTART;VALUE=DATE:20240221
DTEND;VALUE=DATE:20240222
DTSTAMP:20260426T043029
CREATED:20231222T223525Z
LAST-MODIFIED:20231222T223525Z
UID:9090-1708473600-1708559999@rps.nz
SUMMARY:1st Open closes
DESCRIPTION:
URL:https://rps.nz/event/1st-open-closes-3/
CATEGORIES:Competition closes
END:VEVENT
BEGIN:VEVENT
DTSTART;TZID=Pacific/Auckland:20240305T190000
DTEND;TZID=Pacific/Auckland:20240305T210000
DTSTAMP:20260426T043029
CREATED:20231222T221429Z
LAST-MODIFIED:20231222T221429Z
UID:9049-1709665200-1709672400@rps.nz
SUMMARY:Club Night - Camera Craft
DESCRIPTION:
URL:https://rps.nz/event/club-night-camera-craft/
LOCATION:McAlpines Pavilion\, 291/319 Coldstream Rd\, Rangiora\, Canterbury\, 7473\, New Zealand
CATEGORIES:Camera craft,Club night
END:VEVENT
BEGIN:VEVENT
DTSTART;TZID=Pacific/Auckland:20240319T190000
DTEND;TZID=Pacific/Auckland:20240319T210000
DTSTAMP:20260426T043029
CREATED:20231222T221755Z
LAST-MODIFIED:20231222T221755Z
UID:9052-1710874800-1710882000@rps.nz
SUMMARY:Club Night - Judging
DESCRIPTION:1st Open
URL:https://rps.nz/event/club-night-judging/
LOCATION:McAlpines Pavilion\, 291/319 Coldstream Rd\, Rangiora\, Canterbury\, 7473\, New Zealand
CATEGORIES:Club night,Judging
END:VEVENT
BEGIN:VEVENT
DTSTART;VALUE=DATE:20240320
DTEND;VALUE=DATE:20240321
DTSTAMP:20260426T043029
CREATED:20231222T223552Z
LAST-MODIFIED:20231222T223552Z
UID:9092-1710892800-1710979199@rps.nz
SUMMARY:Landscape closes
DESCRIPTION:
URL:https://rps.nz/event/landscape-closes-4/
CATEGORIES:Competition closes
END:VEVENT
BEGIN:VEVENT
DTSTART;VALUE=DATE:20240331
DTEND;VALUE=DATE:20240401
DTSTAMP:20260426T043029
CREATED:20231222T224153Z
LAST-MODIFIED:20231222T224153Z
UID:9112-1711843200-1711929599@rps.nz
SUMMARY:Online #1 closes
DESCRIPTION:
URL:https://rps.nz/event/online-1-closes/
CATEGORIES:Competition closes
END:VEVENT
BEGIN:VEVENT
DTSTART;TZID=Pacific/Auckland:20240402T190000
DTEND;TZID=Pacific/Auckland:20240402T210000
DTSTAMP:20260426T043029
CREATED:20231222T221859Z
LAST-MODIFIED:20231222T221859Z
UID:9054-1712084400-1712091600@rps.nz
SUMMARY:Club Night - Guest Speaker
DESCRIPTION:
URL:https://rps.nz/event/club-night-guest-speaker-3/
LOCATION:McAlpines Pavilion\, 291/319 Coldstream Rd\, Rangiora\, Canterbury\, 7473\, New Zealand
CATEGORIES:Club night
END:VEVENT
BEGIN:VEVENT
DTSTART;TZID=Pacific/Auckland:20240416T190000
DTEND;TZID=Pacific/Auckland:20240416T210000
DTSTAMP:20260426T043029
CREATED:20231222T221958Z
LAST-MODIFIED:20231222T224508Z
UID:9056-1713294000-1713301200@rps.nz
SUMMARY:Club Night - Judging
DESCRIPTION:Landscape
URL:https://rps.nz/event/club-night-judging-2/
LOCATION:McAlpines Pavilion\, 291/319 Coldstream Rd\, Rangiora\, Canterbury\, 7473\, New Zealand
CATEGORIES:Club night,Judging
END:VEVENT
BEGIN:VEVENT
DTSTART;VALUE=DATE:20240417
DTEND;VALUE=DATE:20240418
DTSTAMP:20260426T043029
CREATED:20231222T223622Z
LAST-MODIFIED:20231222T223622Z
UID:9094-1713312000-1713398399@rps.nz
SUMMARY:Natural History closes
DESCRIPTION:
URL:https://rps.nz/event/natural-history-closes-5/
CATEGORIES:Competition closes
END:VEVENT
BEGIN:VEVENT
DTSTART;TZID=Pacific/Auckland:20240507T190000
DTEND;TZID=Pacific/Auckland:20240507T210000
DTSTAMP:20260426T043029
CREATED:20231222T222045Z
LAST-MODIFIED:20231222T222045Z
UID:9058-1715108400-1715115600@rps.nz
SUMMARY:Club Night - Camera Craft
DESCRIPTION:
URL:https://rps.nz/event/club-night-camera-craft-2/
LOCATION:McAlpines Pavilion\, 291/319 Coldstream Rd\, Rangiora\, Canterbury\, 7473\, New Zealand
CATEGORIES:Camera craft,Club night
END:VEVENT
BEGIN:VEVENT
DTSTART;TZID=Pacific/Auckland:20240521T190000
DTEND;TZID=Pacific/Auckland:20240521T210000
DTSTAMP:20260426T043029
CREATED:20231222T222135Z
LAST-MODIFIED:20231222T224520Z
UID:9060-1716318000-1716325200@rps.nz
SUMMARY:Club Night - Judging
DESCRIPTION:Natural History
URL:https://rps.nz/event/club-night-judging-3/
LOCATION:McAlpines Pavilion\, 291/319 Coldstream Rd\, Rangiora\, Canterbury\, 7473\, New Zealand
CATEGORIES:Club night,Judging
END:VEVENT
BEGIN:VEVENT
DTSTART;VALUE=DATE:20240522
DTEND;VALUE=DATE:20240523
DTSTAMP:20260426T043029
CREATED:20231222T223700Z
LAST-MODIFIED:20231222T223700Z
UID:9096-1716336000-1716422399@rps.nz
SUMMARY:Portraiture closes
DESCRIPTION:
URL:https://rps.nz/event/portraiture-closes-5/
CATEGORIES:Competition closes
END:VEVENT
BEGIN:VEVENT
DTSTART;VALUE=DATE:20240531
DTEND;VALUE=DATE:20240601
DTSTAMP:20260426T043029
CREATED:20231222T224331Z
LAST-MODIFIED:20231222T224331Z
UID:9116-1717113600-1717199999@rps.nz
SUMMARY:1st Creative closes
DESCRIPTION:
URL:https://rps.nz/event/1st-creative-closes/
CATEGORIES:Competition closes
END:VEVENT
BEGIN:VEVENT
DTSTART;TZID=Pacific/Auckland:20240604T190000
DTEND;TZID=Pacific/Auckland:20240604T210000
DTSTAMP:20260426T043029
CREATED:20231222T222241Z
LAST-MODIFIED:20231222T224535Z
UID:9062-1717527600-1717534800@rps.nz
SUMMARY:Club Night
DESCRIPTION:Cafe Style \nImage Presentations
URL:https://rps.nz/event/club-night-115/
LOCATION:McAlpines Pavilion\, 291/319 Coldstream Rd\, Rangiora\, Canterbury\, 7473\, New Zealand
CATEGORIES:Club night
END:VEVENT
BEGIN:VEVENT
DTSTART;TZID=Pacific/Auckland:20240618T190000
DTEND;TZID=Pacific/Auckland:20240618T210000
DTSTAMP:20260426T043029
CREATED:20231222T222333Z
LAST-MODIFIED:20231222T222333Z
UID:9064-1718737200-1718744400@rps.nz
SUMMARY:Club Night - Judging
DESCRIPTION:Portraiture
URL:https://rps.nz/event/club-night-judging-4/
LOCATION:McAlpines Pavilion\, 291/319 Coldstream Rd\, Rangiora\, Canterbury\, 7473\, New Zealand
CATEGORIES:Club night,Judging
END:VEVENT
BEGIN:VEVENT
DTSTART;VALUE=DATE:20240619
DTEND;VALUE=DATE:20240620
DTSTAMP:20260426T043029
CREATED:20231222T223731Z
LAST-MODIFIED:20231222T223731Z
UID:9098-1718755200-1718841599@rps.nz
SUMMARY:Black & White closes
DESCRIPTION:
URL:https://rps.nz/event/black-white-closes-5/
CATEGORIES:Competition closes
END:VEVENT
BEGIN:VEVENT
DTSTART;TZID=Pacific/Auckland:20240702T190000
DTEND;TZID=Pacific/Auckland:20240702T210000
DTSTAMP:20260426T043029
CREATED:20231222T222435Z
LAST-MODIFIED:20231222T222435Z
UID:9066-1719946800-1719954000@rps.nz
SUMMARY:Club Night - Guest Speaker
DESCRIPTION:
URL:https://rps.nz/event/club-night-guest-speaker-4/
LOCATION:McAlpines Pavilion\, 291/319 Coldstream Rd\, Rangiora\, Canterbury\, 7473\, New Zealand
CATEGORIES:Club night
END:VEVENT
BEGIN:VEVENT
DTSTART;TZID=Pacific/Auckland:20240716T190000
DTEND;TZID=Pacific/Auckland:20240716T210000
DTSTAMP:20260426T043029
CREATED:20231222T222544Z
LAST-MODIFIED:20231222T222544Z
UID:9068-1721156400-1721163600@rps.nz
SUMMARY:Club Night - Judging
DESCRIPTION:Black & White
URL:https://rps.nz/event/club-night-judging-5/
LOCATION:McAlpines Pavilion\, 291/319 Coldstream Rd\, Rangiora\, Canterbury\, 7473\, New Zealand
CATEGORIES:Club night,Judging
END:VEVENT
BEGIN:VEVENT
DTSTART;VALUE=DATE:20240717
DTEND;VALUE=DATE:20240718
DTSTAMP:20260426T043029
CREATED:20231222T223805Z
LAST-MODIFIED:20231222T223805Z
UID:9100-1721174400-1721260799@rps.nz
SUMMARY:2nd Open closes
DESCRIPTION:
URL:https://rps.nz/event/2nd-open-closes-3/
CATEGORIES:Competition closes
END:VEVENT
BEGIN:VEVENT
DTSTART;VALUE=DATE:20240731
DTEND;VALUE=DATE:20240801
DTSTAMP:20260426T043029
CREATED:20231222T224253Z
LAST-MODIFIED:20231222T224253Z
UID:9114-1722384000-1722470399@rps.nz
SUMMARY:Online #2 closes
DESCRIPTION:
URL:https://rps.nz/event/online-2-closes/
CATEGORIES:Competition closes
END:VEVENT
BEGIN:VEVENT
DTSTART;TZID=Pacific/Auckland:20240806T190000
DTEND;TZID=Pacific/Auckland:20240806T210000
DTSTAMP:20260426T043029
CREATED:20231222T222634Z
LAST-MODIFIED:20231222T222634Z
UID:9070-1722970800-1722978000@rps.nz
SUMMARY:Club Night - Camera Craft
DESCRIPTION:
URL:https://rps.nz/event/club-night-camera-craft-3/
LOCATION:McAlpines Pavilion\, 291/319 Coldstream Rd\, Rangiora\, Canterbury\, 7473\, New Zealand
CATEGORIES:Camera craft,Club night
END:VEVENT
BEGIN:VEVENT
DTSTART;TZID=Pacific/Auckland:20240820T190000
DTEND;TZID=Pacific/Auckland:20240820T210000
DTSTAMP:20260426T043029
CREATED:20231222T222728Z
LAST-MODIFIED:20231222T222728Z
UID:9072-1724180400-1724187600@rps.nz
SUMMARY:Club Night - Judging
DESCRIPTION:2nd Open
URL:https://rps.nz/event/club-night-judging-6/
LOCATION:McAlpines Pavilion\, 291/319 Coldstream Rd\, Rangiora\, Canterbury\, 7473\, New Zealand
CATEGORIES:Club night,Judging
END:VEVENT
BEGIN:VEVENT
DTSTART;VALUE=DATE:20240821
DTEND;VALUE=DATE:20240822
DTSTAMP:20260426T043029
CREATED:20231222T223839Z
LAST-MODIFIED:20231222T223839Z
UID:9102-1724198400-1724284799@rps.nz
SUMMARY:Street Photography closes
DESCRIPTION:
URL:https://rps.nz/event/street-photography-closes/
CATEGORIES:Competition closes
END:VEVENT
END:VCALENDAR