BEGIN:VCALENDAR
VERSION:2.0
PRODID:-//Rangiora Photographic Society - ECPv6.15.20//NONSGML v1.0//EN
CALSCALE:GREGORIAN
METHOD:PUBLISH
X-WR-CALNAME:Rangiora Photographic Society
X-ORIGINAL-URL:https://rps.nz
X-WR-CALDESC:Events for Rangiora Photographic Society
REFRESH-INTERVAL;VALUE=DURATION:PT1H
X-Robots-Tag:noindex
X-PUBLISHED-TTL:PT1H
BEGIN:VTIMEZONE
TZID:UTC
BEGIN:STANDARD
TZOFFSETFROM:+0000
TZOFFSETTO:+0000
TZNAME:UTC
DTSTART:20180101T000000
END:STANDARD
END:VTIMEZONE
BEGIN:VTIMEZONE
TZID:Pacific/Auckland
BEGIN:STANDARD
TZOFFSETFROM:+1300
TZOFFSETTO:+1200
TZNAME:NZST
DTSTART:20180331T140000
END:STANDARD
BEGIN:DAYLIGHT
TZOFFSETFROM:+1200
TZOFFSETTO:+1300
TZNAME:NZDT
DTSTART:20180929T140000
END:DAYLIGHT
BEGIN:STANDARD
TZOFFSETFROM:+1300
TZOFFSETTO:+1200
TZNAME:NZST
DTSTART:20190406T140000
END:STANDARD
BEGIN:DAYLIGHT
TZOFFSETFROM:+1200
TZOFFSETTO:+1300
TZNAME:NZDT
DTSTART:20190928T140000
END:DAYLIGHT
BEGIN:STANDARD
TZOFFSETFROM:+1300
TZOFFSETTO:+1200
TZNAME:NZST
DTSTART:20200404T140000
END:STANDARD
BEGIN:DAYLIGHT
TZOFFSETFROM:+1200
TZOFFSETTO:+1300
TZNAME:NZDT
DTSTART:20200926T140000
END:DAYLIGHT
END:VTIMEZONE
BEGIN:VTIMEZONE
TZID:Pacific/Auckland
BEGIN:STANDARD
TZOFFSETFROM:+1300
TZOFFSETTO:+1200
TZNAME:NZST
DTSTART:20180331T140000
END:STANDARD
BEGIN:DAYLIGHT
TZOFFSETFROM:+1200
TZOFFSETTO:+1300
TZNAME:NZDT
DTSTART:20180929T140000
END:DAYLIGHT
BEGIN:STANDARD
TZOFFSETFROM:+1300
TZOFFSETTO:+1200
TZNAME:NZST
DTSTART:20190406T140000
END:STANDARD
BEGIN:DAYLIGHT
TZOFFSETFROM:+1200
TZOFFSETTO:+1300
TZNAME:NZDT
DTSTART:20190928T140000
END:DAYLIGHT
BEGIN:STANDARD
TZOFFSETFROM:+1300
TZOFFSETTO:+1200
TZNAME:NZST
DTSTART:20200404T140000
END:STANDARD
BEGIN:DAYLIGHT
TZOFFSETFROM:+1200
TZOFFSETTO:+1300
TZNAME:NZDT
DTSTART:20200926T140000
END:DAYLIGHT
END:VTIMEZONE
BEGIN:VEVENT
DTSTART;TZID=UTC:20190313T190000
DTEND;TZID=UTC:20190313T210000
DTSTAMP:20260426T003355
CREATED:20181212T173156Z
LAST-MODIFIED:20181212T173156Z
UID:696-1552503600-1552510800@rps.nz
SUMMARY:CLUB NIGHT
DESCRIPTION:Camera Craft
URL:https://rps.nz/event/club-night-5/
LOCATION:McAlpines Pavilion\, 291/319 Coldstream Rd\, Rangiora\, Canterbury\, 7473\, New Zealand
CATEGORIES:Camera craft,Club night
ORGANIZER;CN="RPS":MAILTO:admin@rps.nz
END:VEVENT
BEGIN:VEVENT
DTSTART;TZID=UTC:20190305T190000
DTEND;TZID=UTC:20190305T210000
DTSTAMP:20260426T003355
CREATED:20181212T172958Z
LAST-MODIFIED:20181212T172958Z
UID:694-1551812400-1551819600@rps.nz
SUMMARY:CLUB NIGHT
DESCRIPTION:Tutorial – Portraiture
URL:https://rps.nz/event/club-night-4/
LOCATION:McAlpines Pavilion\, 291/319 Coldstream Rd\, Rangiora\, Canterbury\, 7473\, New Zealand
CATEGORIES:Club night,Workshop
ORGANIZER;CN="RPS":MAILTO:admin@rps.nz
END:VEVENT
BEGIN:VEVENT
DTSTART;VALUE=DATE:20190228
DTEND;VALUE=DATE:20190301
DTSTAMP:20260426T003355
CREATED:20181212T191626Z
LAST-MODIFIED:20181212T191626Z
UID:794-1551312000-1551398399@rps.nz
SUMMARY:ONLINE CHALLENGE
DESCRIPTION:“HOT” \nCloses
URL:https://rps.nz/event/online-challenge/
CATEGORIES:Competition closes
END:VEVENT
BEGIN:VEVENT
DTSTART;TZID=UTC:20190224T100000
DTEND;TZID=UTC:20190224T140000
DTSTAMP:20260426T003355
CREATED:20181212T172617Z
LAST-MODIFIED:20181212T172617Z
UID:692-1551002400-1551016800@rps.nz
SUMMARY:WORKSHOP
DESCRIPTION:
URL:https://rps.nz/event/workshop/
CATEGORIES:Workshop
END:VEVENT
BEGIN:VEVENT
DTSTART;TZID=Pacific/Auckland:20190219T190000
DTEND;TZID=Pacific/Auckland:20190219T210000
DTSTAMP:20260426T003355
CREATED:20181212T172429Z
LAST-MODIFIED:20190108T201522Z
UID:690-1550602800-1550610000@rps.nz
SUMMARY:CLUB NIGHT
DESCRIPTION:Guest speaker \n1st Open closes
URL:https://rps.nz/event/club-night-3/
LOCATION:McAlpines Pavilion\, 291/319 Coldstream Rd\, Rangiora\, Canterbury\, 7473\, New Zealand
CATEGORIES:Club night,Competition closes
ORGANIZER;CN="RPS":MAILTO:admin@rps.nz
END:VEVENT
BEGIN:VEVENT
DTSTART;TZID=Pacific/Auckland:20190205T190000
DTEND;TZID=Pacific/Auckland:20190205T210000
DTSTAMP:20260426T003355
CREATED:20181212T171813Z
LAST-MODIFIED:20190108T201750Z
UID:686-1549393200-1549400400@rps.nz
SUMMARY:NEW YEAR WELCOME
DESCRIPTION:
URL:https://rps.nz/event/new-year-welcome/
LOCATION:McAlpines Pavilion\, 291/319 Coldstream Rd\, Rangiora\, Canterbury\, 7473\, New Zealand
CATEGORIES:Club night
ORGANIZER;CN="RPS":MAILTO:admin@rps.nz
END:VEVENT
BEGIN:VEVENT
DTSTART;TZID=Pacific/Auckland:20190127T140000
DTEND;TZID=Pacific/Auckland:20190127T170000
DTSTAMP:20260426T003355
CREATED:20181212T171545Z
LAST-MODIFIED:20190104T221423Z
UID:683-1548597600-1548608400@rps.nz
SUMMARY:GRAND LAUNCH
DESCRIPTION:Details to come.
URL:https://rps.nz/event/grand-launch/
ORGANIZER;CN="Steven Webb":MAILTO:president@rps.nz
END:VEVENT
END:VCALENDAR