BEGIN:VCALENDAR
VERSION:2.0
PRODID:-//Rangiora Photographic Society - ECPv6.15.20//NONSGML v1.0//EN
CALSCALE:GREGORIAN
METHOD:PUBLISH
X-WR-CALNAME:Rangiora Photographic Society
X-ORIGINAL-URL:https://rps.nz
X-WR-CALDESC:Events for Rangiora Photographic Society
REFRESH-INTERVAL;VALUE=DURATION:PT1H
X-Robots-Tag:noindex
X-PUBLISHED-TTL:PT1H
BEGIN:VTIMEZONE
TZID:UTC
BEGIN:STANDARD
TZOFFSETFROM:+0000
TZOFFSETTO:+0000
TZNAME:UTC
DTSTART:20180101T000000
END:STANDARD
END:VTIMEZONE
BEGIN:VTIMEZONE
TZID:Pacific/Auckland
BEGIN:STANDARD
TZOFFSETFROM:+1300
TZOFFSETTO:+1200
TZNAME:NZST
DTSTART:20180331T140000
END:STANDARD
BEGIN:DAYLIGHT
TZOFFSETFROM:+1200
TZOFFSETTO:+1300
TZNAME:NZDT
DTSTART:20180929T140000
END:DAYLIGHT
BEGIN:STANDARD
TZOFFSETFROM:+1300
TZOFFSETTO:+1200
TZNAME:NZST
DTSTART:20190406T140000
END:STANDARD
BEGIN:DAYLIGHT
TZOFFSETFROM:+1200
TZOFFSETTO:+1300
TZNAME:NZDT
DTSTART:20190928T140000
END:DAYLIGHT
BEGIN:STANDARD
TZOFFSETFROM:+1300
TZOFFSETTO:+1200
TZNAME:NZST
DTSTART:20200404T140000
END:STANDARD
BEGIN:DAYLIGHT
TZOFFSETFROM:+1200
TZOFFSETTO:+1300
TZNAME:NZDT
DTSTART:20200926T140000
END:DAYLIGHT
END:VTIMEZONE
BEGIN:VEVENT
DTSTART;TZID=UTC:20190820T190000
DTEND;TZID=UTC:20190820T210000
DTSTAMP:20260426T043321
CREATED:20181212T182443Z
LAST-MODIFIED:20181212T185546Z
UID:751-1566327600-1566334800@rps.nz
SUMMARY:CLUB NIGHT
DESCRIPTION:Judging Photojournalism \nBlack & White closes
URL:https://rps.nz/event/club-night-22/
LOCATION:Canterbury
CATEGORIES:Club night,Competition closes,Judging
END:VEVENT
BEGIN:VEVENT
DTSTART;VALUE=DATE:20190817
DTEND;VALUE=DATE:20190818
DTSTAMP:20260426T043321
CREATED:20181212T182340Z
LAST-MODIFIED:20190817T020439Z
UID:749-1566000000-1566086399@rps.nz
SUMMARY:NIGHT SHOOT - CANCELLED
DESCRIPTION:Sorry but due to the weather we have cancelled the Night Shoot at Ashworths Beach.
URL:https://rps.nz/event/night-shoot/
LOCATION:Canterbury
CATEGORIES:Field trip
ORGANIZER;CN="RPS":MAILTO:admin@rps.nz
END:VEVENT
BEGIN:VEVENT
DTSTART;TZID=Pacific/Auckland:20190814T190000
DTEND;TZID=Pacific/Auckland:20190814T210000
DTSTAMP:20260426T043321
CREATED:20181212T182124Z
LAST-MODIFIED:20190811T035426Z
UID:747-1565809200-1565816400@rps.nz
SUMMARY:CLUB NIGHT
DESCRIPTION:Camera Craft: Night Photography
URL:https://rps.nz/event/club-night-21/
LOCATION:McAlpines Pavilion\, 291/319 Coldstream Rd\, Rangiora\, Canterbury\, 7473\, New Zealand
CATEGORIES:Camera craft,Club night
ORGANIZER;CN="RPS":MAILTO:admin@rps.nz
END:VEVENT
BEGIN:VEVENT
DTSTART;TZID=Pacific/Auckland:20190811T100000
DTEND;TZID=Pacific/Auckland:20190811T140000
DTSTAMP:20260426T043321
CREATED:20181212T181911Z
LAST-MODIFIED:20190811T041837Z
UID:743-1565517600-1565532000@rps.nz
SUMMARY:HALF DAY WORKSHOP
DESCRIPTION:
URL:https://rps.nz/event/half-day-workshop-2/
LOCATION:McAlpines Pavilion\, 291/319 Coldstream Rd\, Rangiora\, Canterbury\, 7473\, New Zealand
CATEGORIES:Workshop
ORGANIZER;CN="RPS":MAILTO:admin@rps.nz
END:VEVENT
BEGIN:VEVENT
DTSTART;TZID=UTC:20190806T190000
DTEND;TZID=UTC:20190806T210000
DTSTAMP:20260426T043321
CREATED:20181212T182011Z
LAST-MODIFIED:20181212T182011Z
UID:745-1565118000-1565125200@rps.nz
SUMMARY:CLUB NIGHT
DESCRIPTION:Guest Speaker
URL:https://rps.nz/event/club-night-20/
LOCATION:McAlpines Pavilion\, 291/319 Coldstream Rd\, Rangiora\, Canterbury\, 7473\, New Zealand
CATEGORIES:Club night
END:VEVENT
BEGIN:VEVENT
DTSTART;VALUE=DATE:20190719
DTEND;VALUE=DATE:20190722
DTSTAMP:20260426T043321
CREATED:20181212T181816Z
LAST-MODIFIED:20181212T181816Z
UID:741-1563494400-1563753599@rps.nz
SUMMARY:RPS EXHIBITION
DESCRIPTION:Winter Festival
URL:https://rps.nz/event/rps-exhibition/
LOCATION:Canterbury
END:VEVENT
BEGIN:VEVENT
DTSTART;TZID=UTC:20190716T190000
DTEND;TZID=UTC:20190716T210000
DTSTAMP:20260426T043321
CREATED:20181212T181647Z
LAST-MODIFIED:20181212T185458Z
UID:739-1563303600-1563310800@rps.nz
SUMMARY:CLUB NIGHT
DESCRIPTION:Judging 2nd Open \nPhotojournalism closes
URL:https://rps.nz/event/club-night-19/
LOCATION:McAlpines Pavilion\, 291/319 Coldstream Rd\, Rangiora\, Canterbury\, 7473\, New Zealand
CATEGORIES:Club night,Competition closes,Judging
END:VEVENT
BEGIN:VEVENT
DTSTART;TZID=Pacific/Auckland:20190715T193000
DTEND;TZID=Pacific/Auckland:20190715T213000
DTSTAMP:20260426T043321
CREATED:20190702T080629Z
LAST-MODIFIED:20190702T080629Z
UID:1903-1563219000-1563226200@rps.nz
SUMMARY:Trenna Packer Judging
DESCRIPTION:Monday 15th July 7.30pm \nRock and Mineral Clubrooms\n110 Waltham Rd\nChristchurch
URL:https://rps.nz/event/trenna-packer-judging/
LOCATION:Canterbury
END:VEVENT
BEGIN:VEVENT
DTSTART;VALUE=DATE:20190712
DTEND;VALUE=DATE:20190715
DTSTAMP:20260426T043321
CREATED:20181212T181507Z
LAST-MODIFIED:20181212T181507Z
UID:737-1562889600-1563148799@rps.nz
SUMMARY:MID WINTER FIELD TRIP
DESCRIPTION:
URL:https://rps.nz/event/mid-winter-field-trip/
LOCATION:Canterbury
CATEGORIES:Field trip
END:VEVENT
BEGIN:VEVENT
DTSTART;TZID=UTC:20190710T190000
DTEND;TZID=UTC:20190710T210000
DTSTAMP:20260426T043321
CREATED:20181212T181403Z
LAST-MODIFIED:20181212T181403Z
UID:735-1562785200-1562792400@rps.nz
SUMMARY:CLUB NIGHT
DESCRIPTION:Camera Craft
URL:https://rps.nz/event/club-night-18/
LOCATION:McAlpines Pavilion\, 291/319 Coldstream Rd\, Rangiora\, Canterbury\, 7473\, New Zealand
CATEGORIES:Camera craft,Club night
END:VEVENT
BEGIN:VEVENT
DTSTART;TZID=UTC:20190702T190000
DTEND;TZID=UTC:20190702T210000
DTSTAMP:20260426T043321
CREATED:20181212T181238Z
LAST-MODIFIED:20181212T181238Z
UID:733-1562094000-1562101200@rps.nz
SUMMARY:CLUB NIGHT
DESCRIPTION:Guest Speaker
URL:https://rps.nz/event/club-night-17/
LOCATION:Canterbury
CATEGORIES:Club night
END:VEVENT
BEGIN:VEVENT
DTSTART;VALUE=DATE:20190630
DTEND;VALUE=DATE:20190701
DTSTAMP:20260426T043321
CREATED:20181212T191805Z
LAST-MODIFIED:20181212T191805Z
UID:798-1561852800-1561939199@rps.nz
SUMMARY:ONLINE CHALLENGE
DESCRIPTION:Closes
URL:https://rps.nz/event/online-challenge-3/
LOCATION:Canterbury
CATEGORIES:Competition closes
END:VEVENT
BEGIN:VEVENT
DTSTART;TZID=UTC:20190618T190000
DTEND;TZID=UTC:20190618T210000
DTSTAMP:20260426T043321
CREATED:20181212T181133Z
LAST-MODIFIED:20181212T185401Z
UID:731-1560884400-1560891600@rps.nz
SUMMARY:CLUB NIGHT
DESCRIPTION:Judging Portraiture \n2nd Open closes
URL:https://rps.nz/event/club-night-16/
LOCATION:McAlpines Pavilion\, 291/319 Coldstream Rd\, Rangiora\, Canterbury\, 7473\, New Zealand
CATEGORIES:Club night,Competition closes,Judging
END:VEVENT
BEGIN:VEVENT
DTSTART;TZID=UTC:20190612T190000
DTEND;TZID=UTC:20190612T210000
DTSTAMP:20260426T043321
CREATED:20181212T180855Z
LAST-MODIFIED:20181212T180855Z
UID:729-1560366000-1560373200@rps.nz
SUMMARY:CLUB NIGHT
DESCRIPTION:Camera Craft
URL:https://rps.nz/event/club-night-15/
LOCATION:McAlpines Pavilion\, 291/319 Coldstream Rd\, Rangiora\, Canterbury\, 7473\, New Zealand
CATEGORIES:Camera craft,Club night
END:VEVENT
BEGIN:VEVENT
DTSTART;TZID=UTC:20190611T190000
DTEND;TZID=UTC:20190611T210000
DTSTAMP:20260426T043321
CREATED:20181212T180742Z
LAST-MODIFIED:20181212T180742Z
UID:727-1560279600-1560286800@rps.nz
SUMMARY:CLUB NIGHT
DESCRIPTION:RPS vs New Brighton Photographic Club
URL:https://rps.nz/event/club-night-14/
LOCATION:Canterbury
CATEGORIES:Club night
END:VEVENT
BEGIN:VEVENT
DTSTART;VALUE=DATE:20190609
DTEND;VALUE=DATE:20190610
DTSTAMP:20260426T043321
CREATED:20181212T180535Z
LAST-MODIFIED:20181212T180535Z
UID:725-1560038400-1560124799@rps.nz
SUMMARY:FULL DAY FIELD TRIP
DESCRIPTION:
URL:https://rps.nz/event/full-day-field-trip/
LOCATION:Canterbury
CATEGORIES:Field trip
END:VEVENT
BEGIN:VEVENT
DTSTART;TZID=UTC:20190604T190000
DTEND;TZID=UTC:20190604T210000
DTSTAMP:20260426T043321
CREATED:20181212T180356Z
LAST-MODIFIED:20181212T180447Z
UID:723-1559674800-1559682000@rps.nz
SUMMARY:CLUB NIGHT
DESCRIPTION:Showtime
URL:https://rps.nz/event/club-night-13/
LOCATION:McAlpines Pavilion\, 291/319 Coldstream Rd\, Rangiora\, Canterbury\, 7473\, New Zealand
CATEGORIES:Club night
END:VEVENT
BEGIN:VEVENT
DTSTART;VALUE=DATE:20190526
DTEND;VALUE=DATE:20190527
DTSTAMP:20260426T043321
CREATED:20181212T180247Z
LAST-MODIFIED:20181212T180247Z
UID:721-1558828800-1558915199@rps.nz
SUMMARY:HALF DAY WORKSHOP
DESCRIPTION:
URL:https://rps.nz/event/half-day-workshop/
LOCATION:Canterbury
CATEGORIES:Workshop
END:VEVENT
BEGIN:VEVENT
DTSTART;TZID=UTC:20190521T190000
DTEND;TZID=UTC:20190521T210000
DTSTAMP:20260426T043321
CREATED:20181212T180055Z
LAST-MODIFIED:20181212T185312Z
UID:719-1558465200-1558472400@rps.nz
SUMMARY:CLUB NIGHT
DESCRIPTION:Judging Natural History \nPortraiture closes
URL:https://rps.nz/event/club-night-12/
LOCATION:Canterbury
CATEGORIES:Club night,Competition closes,Judging
END:VEVENT
BEGIN:VEVENT
DTSTART;TZID=UTC:20190515T190000
DTEND;TZID=UTC:20190515T210000
DTSTAMP:20260426T043321
CREATED:20181212T175914Z
LAST-MODIFIED:20181212T175914Z
UID:717-1557946800-1557954000@rps.nz
SUMMARY:CLUB NIGHT
DESCRIPTION:Camera Craft
URL:https://rps.nz/event/club-night-11/
LOCATION:Canterbury
CATEGORIES:Camera craft,Club night
END:VEVENT
BEGIN:VEVENT
DTSTART;TZID=UTC:20190507T190000
DTEND;TZID=UTC:20190507T210000
DTSTAMP:20260426T043321
CREATED:20181212T175712Z
LAST-MODIFIED:20181212T175712Z
UID:715-1557255600-1557262800@rps.nz
SUMMARY:CLUB NIGHT
DESCRIPTION:Tutorial – Creative Images
URL:https://rps.nz/event/club-night-10/
LOCATION:McAlpines Pavilion\, 291/319 Coldstream Rd\, Rangiora\, Canterbury\, 7473\, New Zealand
CATEGORIES:Club night,Workshop
END:VEVENT
BEGIN:VEVENT
DTSTART;VALUE=DATE:20190505
DTEND;VALUE=DATE:20190506
DTSTAMP:20260426T043321
CREATED:20181212T174755Z
LAST-MODIFIED:20190409T085223Z
UID:712-1557014400-1557100799@rps.nz
SUMMARY:DAWN SHOOT
DESCRIPTION:Sunrise 7.24am \nTaylors Mistake. 
URL:https://rps.nz/event/dawn-shoot/
LOCATION:Canterbury
CATEGORIES:Field trip
END:VEVENT
BEGIN:VEVENT
DTSTART;TZID=UTC:20190430T190000
DTEND;TZID=UTC:20190430T210000
DTSTAMP:20260426T043321
CREATED:20181212T174645Z
LAST-MODIFIED:20181212T174645Z
UID:710-1556650800-1556658000@rps.nz
SUMMARY:BOPI
DESCRIPTION:Battle of the Projected Images \nExternal Competition
URL:https://rps.nz/event/bopi/
LOCATION:Canterbury
END:VEVENT
BEGIN:VEVENT
DTSTART;VALUE=DATE:20190430
DTEND;VALUE=DATE:20190501
DTSTAMP:20260426T043321
CREATED:20181212T191713Z
LAST-MODIFIED:20181212T191713Z
UID:796-1556582400-1556668799@rps.nz
SUMMARY:ONLINE CHALLENGE
DESCRIPTION:Closes
URL:https://rps.nz/event/online-challenge-2/
LOCATION:Canterbury
CATEGORIES:Competition closes
END:VEVENT
BEGIN:VEVENT
DTSTART;VALUE=DATE:20190419
DTEND;VALUE=DATE:20190423
DTSTAMP:20260426T043321
CREATED:20181212T174520Z
LAST-MODIFIED:20181212T174520Z
UID:708-1555632000-1555977599@rps.nz
SUMMARY:FIELD TRIP - EASTER
DESCRIPTION:Takaka
URL:https://rps.nz/event/field-trip-easter/
LOCATION:Canterbury
CATEGORIES:Field trip
END:VEVENT
BEGIN:VEVENT
DTSTART;TZID=UTC:20190416T190000
DTEND;TZID=UTC:20190416T210000
DTSTAMP:20260426T043321
CREATED:20181212T174403Z
LAST-MODIFIED:20181212T185147Z
UID:706-1555441200-1555448400@rps.nz
SUMMARY:CLUB NIGHT
DESCRIPTION:Judging Landscape \nNatural History closes
URL:https://rps.nz/event/club-night-9/
LOCATION:McAlpines Pavilion\, 291/319 Coldstream Rd\, Rangiora\, Canterbury\, 7473\, New Zealand
CATEGORIES:Club night,Competition closes,Judging
ORGANIZER;CN="RPS":MAILTO:admin@rps.nz
END:VEVENT
BEGIN:VEVENT
DTSTART;TZID=UTC:20190410T190000
DTEND;TZID=UTC:20190410T210000
DTSTAMP:20260426T043321
CREATED:20181212T174219Z
LAST-MODIFIED:20181212T174219Z
UID:704-1554922800-1554930000@rps.nz
SUMMARY:CLUB NIGHT
DESCRIPTION:Camera Craft
URL:https://rps.nz/event/club-night-8/
LOCATION:McAlpines Pavilion\, 291/319 Coldstream Rd\, Rangiora\, Canterbury\, 7473\, New Zealand
CATEGORIES:Camera craft,Club night
ORGANIZER;CN="RPS":MAILTO:admin@rps.nz
END:VEVENT
BEGIN:VEVENT
DTSTART;TZID=UTC:20190402T190000
DTEND;TZID=UTC:20190402T230000
DTSTAMP:20260426T043321
CREATED:20181212T174031Z
LAST-MODIFIED:20181212T174046Z
UID:702-1554231600-1554246000@rps.nz
SUMMARY:CLUB NIGHT
DESCRIPTION:Guest speaker
URL:https://rps.nz/event/club-night-7/
LOCATION:McAlpines Pavilion\, 291/319 Coldstream Rd\, Rangiora\, Canterbury\, 7473\, New Zealand
CATEGORIES:Club night
ORGANIZER;CN="RPS":MAILTO:admin@rps.nz
END:VEVENT
BEGIN:VEVENT
DTSTART;VALUE=DATE:20190324
DTEND;VALUE=DATE:20190325
DTSTAMP:20260426T043321
CREATED:20181212T173807Z
LAST-MODIFIED:20190313T021023Z
UID:700-1553385600-1553471999@rps.nz
SUMMARY:DAY FIELD TRIP
DESCRIPTION:To Lake Coleridge. To register or for more information\, contact Russell Falconer on falconer765@gmail.com.
URL:https://rps.nz/event/day-field-trip/
LOCATION:Canterbury
CATEGORIES:Field trip
ORGANIZER;CN="RPS":MAILTO:admin@rps.nz
END:VEVENT
BEGIN:VEVENT
DTSTART;TZID=UTC:20190319T190000
DTEND;TZID=UTC:20190319T210000
DTSTAMP:20260426T043321
CREATED:20181212T173453Z
LAST-MODIFIED:20181212T185047Z
UID:698-1553022000-1553029200@rps.nz
SUMMARY:CLUB NIGHT
DESCRIPTION:Judging 1st Open \nLandscape closes
URL:https://rps.nz/event/club-night-6/
LOCATION:McAlpines Pavilion\, 291/319 Coldstream Rd\, Rangiora\, Canterbury\, 7473\, New Zealand
CATEGORIES:Club night,Competition closes,Judging
END:VEVENT
END:VCALENDAR