BEGIN:VCALENDAR
VERSION:2.0
PRODID:-//Rangiora Photographic Society - ECPv6.15.20//NONSGML v1.0//EN
CALSCALE:GREGORIAN
METHOD:PUBLISH
X-ORIGINAL-URL:https://rps.nz
X-WR-CALDESC:Events for Rangiora Photographic Society
REFRESH-INTERVAL;VALUE=DURATION:PT1H
X-Robots-Tag:noindex
X-PUBLISHED-TTL:PT1H
BEGIN:VTIMEZONE
TZID:Pacific/Auckland
BEGIN:STANDARD
TZOFFSETFROM:+1300
TZOFFSETTO:+1200
TZNAME:NZST
DTSTART:20180331T140000
END:STANDARD
BEGIN:DAYLIGHT
TZOFFSETFROM:+1200
TZOFFSETTO:+1300
TZNAME:NZDT
DTSTART:20180929T140000
END:DAYLIGHT
BEGIN:STANDARD
TZOFFSETFROM:+1300
TZOFFSETTO:+1200
TZNAME:NZST
DTSTART:20190406T140000
END:STANDARD
BEGIN:DAYLIGHT
TZOFFSETFROM:+1200
TZOFFSETTO:+1300
TZNAME:NZDT
DTSTART:20190928T140000
END:DAYLIGHT
BEGIN:STANDARD
TZOFFSETFROM:+1300
TZOFFSETTO:+1200
TZNAME:NZST
DTSTART:20200404T140000
END:STANDARD
BEGIN:DAYLIGHT
TZOFFSETFROM:+1200
TZOFFSETTO:+1300
TZNAME:NZDT
DTSTART:20200926T140000
END:DAYLIGHT
BEGIN:STANDARD
TZOFFSETFROM:+1300
TZOFFSETTO:+1200
TZNAME:NZST
DTSTART:20210403T140000
END:STANDARD
BEGIN:DAYLIGHT
TZOFFSETFROM:+1200
TZOFFSETTO:+1300
TZNAME:NZDT
DTSTART:20210925T140000
END:DAYLIGHT
END:VTIMEZONE
BEGIN:VTIMEZONE
TZID:UTC
BEGIN:STANDARD
TZOFFSETFROM:+0000
TZOFFSETTO:+0000
TZNAME:UTC
DTSTART:20180101T000000
END:STANDARD
END:VTIMEZONE
BEGIN:VEVENT
DTSTART;TZID=Pacific/Auckland:20200831T233000
DTEND;TZID=Pacific/Auckland:20200831T233000
DTSTAMP:20260425T142308
CREATED:20200801T071213Z
LAST-MODIFIED:20200801T071213Z
UID:3701-1598916600-1598916600@rps.nz
SUMMARY:Online challenge closes
DESCRIPTION:Prompt – “Doors”
URL:https://rps.nz/event/online-challenge-closes/
CATEGORIES:Competition closes
END:VEVENT
BEGIN:VEVENT
DTSTART;TZID=Pacific/Auckland:20200819T233000
DTEND;TZID=Pacific/Auckland:20200819T233000
DTSTAMP:20260425T142308
CREATED:20200121T074640Z
LAST-MODIFIED:20200121T074640Z
UID:2551-1597879800-1597879800@rps.nz
SUMMARY:2nd Open closes
DESCRIPTION:
URL:https://rps.nz/event/2nd-open-closes/
CATEGORIES:Competition closes
END:VEVENT
BEGIN:VEVENT
DTSTART;TZID=Pacific/Auckland:20200722T233000
DTEND;TZID=Pacific/Auckland:20200722T233000
DTSTAMP:20260425T142308
CREATED:20200121T074550Z
LAST-MODIFIED:20200121T074550Z
UID:2549-1595460600-1595460600@rps.nz
SUMMARY:Photojournalism closes
DESCRIPTION:
URL:https://rps.nz/event/photojournalism-closes/
CATEGORIES:Competition closes
END:VEVENT
BEGIN:VEVENT
DTSTART;TZID=Pacific/Auckland:20200617T233000
DTEND;TZID=Pacific/Auckland:20200617T233000
DTSTAMP:20260425T142308
CREATED:20200121T074506Z
LAST-MODIFIED:20200121T074506Z
UID:2547-1592436600-1592436600@rps.nz
SUMMARY:Black & White closes
DESCRIPTION:
URL:https://rps.nz/event/black-white-closes/
CATEGORIES:Competition closes
END:VEVENT
BEGIN:VEVENT
DTSTART;TZID=Pacific/Auckland:20200520T233000
DTEND;TZID=Pacific/Auckland:20200520T233000
DTSTAMP:20260425T142308
CREATED:20200121T074428Z
LAST-MODIFIED:20200121T074428Z
UID:2545-1590017400-1590017400@rps.nz
SUMMARY:Portraiture closes
DESCRIPTION:
URL:https://rps.nz/event/portraiture-closes/
CATEGORIES:Competition closes
END:VEVENT
BEGIN:VEVENT
DTSTART;TZID=Pacific/Auckland:20200422T233000
DTEND;TZID=Pacific/Auckland:20200422T233000
DTSTAMP:20260425T142308
CREATED:20200121T074346Z
LAST-MODIFIED:20200121T074346Z
UID:2543-1587598200-1587598200@rps.nz
SUMMARY:Natural History closes
DESCRIPTION:
URL:https://rps.nz/event/natural-history-closes/
CATEGORIES:Competition closes
END:VEVENT
BEGIN:VEVENT
DTSTART;TZID=Pacific/Auckland:20200331T080000
DTEND;TZID=Pacific/Auckland:20200331T233000
DTSTAMP:20260425T142308
CREATED:20200301T193619Z
LAST-MODIFIED:20200301T193710Z
UID:2750-1585641600-1585697400@rps.nz
SUMMARY:Extra C grade competition closes
DESCRIPTION:Entry closes at 11.30pm
URL:https://rps.nz/event/extra-c-grade-competition/
CATEGORIES:Competition closes
ORGANIZER;CN="RPS":MAILTO:admin@rps.nz
END:VEVENT
BEGIN:VEVENT
DTSTART;TZID=Pacific/Auckland:20200318T233000
DTEND;TZID=Pacific/Auckland:20200318T233000
DTSTAMP:20260425T142308
CREATED:20200121T074241Z
LAST-MODIFIED:20200121T074241Z
UID:2541-1584574200-1584574200@rps.nz
SUMMARY:Landscape closes
DESCRIPTION:
URL:https://rps.nz/event/landscape-closes/
CATEGORIES:Competition closes
END:VEVENT
BEGIN:VEVENT
DTSTART;TZID=Pacific/Auckland:20200219T233000
DTEND;TZID=Pacific/Auckland:20200219T233000
DTSTAMP:20260425T142308
CREATED:20200121T074145Z
LAST-MODIFIED:20200121T074145Z
UID:2539-1582155000-1582155000@rps.nz
SUMMARY:1st Open closes
DESCRIPTION:
URL:https://rps.nz/event/1st-open-closes/
CATEGORIES:Competition closes
END:VEVENT
BEGIN:VEVENT
DTSTART;TZID=UTC:20191112T190000
DTEND;TZID=UTC:20191112T233000
DTSTAMP:20260425T142308
CREATED:20190827T113803Z
LAST-MODIFIED:20191103T071240Z
UID:2153-1573585200-1573601400@rps.nz
SUMMARY:Supreme Image of the Year Closes
DESCRIPTION:Entries for the Supreme Image of the Year close at midnight. \nThis competition is for the ‘best of the best’ for 2019.  Images that have received an Honours or Acceptance during the year are eligible\, with a Supreme Image being chosen for each grade\, and an overall Champion. \nRefer to section 4.10 in the Competition Rules for details.
URL:https://rps.nz/event/club-night-31-2/
LOCATION:McAlpines Pavilion\, 291/319 Coldstream Rd\, Rangiora\, Canterbury\, 7473\, New Zealand
CATEGORIES:Competition closes
END:VEVENT
BEGIN:VEVENT
DTSTART;TZID=UTC:20191106T190000
DTEND;TZID=UTC:20191106T210000
DTSTAMP:20260425T142308
CREATED:20190827T113447Z
LAST-MODIFIED:20190827T113620Z
UID:2150-1573066800-1573074000@rps.nz
SUMMARY:Portfolio Closes
DESCRIPTION:Portfolio entries close at midnight.
URL:https://rps.nz/event/club-night-29-2/
CATEGORIES:Competition closes
END:VEVENT
BEGIN:VEVENT
DTSTART;VALUE=DATE:20191031
DTEND;VALUE=DATE:20191101
DTSTAMP:20260425T142308
CREATED:20181212T192020Z
LAST-MODIFIED:20181212T192020Z
UID:802-1572480000-1572566399@rps.nz
SUMMARY:ONLINE CHALLENGE
DESCRIPTION:Closes
URL:https://rps.nz/event/online-challenge-5/
CATEGORIES:Competition closes
END:VEVENT
BEGIN:VEVENT
DTSTART;TZID=Pacific/Auckland:20191002T050000
DTEND;TZID=Pacific/Auckland:20191002T235900
DTSTAMP:20260425T142308
CREATED:20190827T113427Z
LAST-MODIFIED:20190927T185601Z
UID:2148-1569992400-1570060740@rps.nz
SUMMARY:Comp - Best Field Trip Closes
DESCRIPTION:Best Field Trip competition entries close at midnight. \nClause 4.5 of our Competition Rules advise that these entries must have been taken on an RPS Field trip.  These include weekend or day trips\, as well as dawn and night shoots. No editing restrictions. \nThe period of a Field Trip commences from the time you leave home to when you return. Within reason…. it extends to a day or so either side of the official RPS dates\, but would exclude diversions during the journey to or from the RPS destination. \nExcluded are workshops\, tutorials\, camera craft etc (unless held during the field trip\, so the fun we had at the Labyrinth in Golden Bay would be eligible).
URL:https://rps.nz/event/best-field-trip-closes/
CATEGORIES:Competition closes
END:VEVENT
BEGIN:VEVENT
DTSTART;VALUE=DATE:20190831
DTEND;VALUE=DATE:20190901
DTSTAMP:20260425T142308
CREATED:20181212T191905Z
LAST-MODIFIED:20181212T191905Z
UID:800-1567209600-1567295999@rps.nz
SUMMARY:ONLINE CHALLENGE
DESCRIPTION:Closes
URL:https://rps.nz/event/online-challenge-4/
CATEGORIES:Competition closes
END:VEVENT
BEGIN:VEVENT
DTSTART;TZID=Pacific/Auckland:20190828T080000
DTEND;TZID=Pacific/Auckland:20190828T170000
DTSTAMP:20260425T142308
CREATED:20190827T112903Z
LAST-MODIFIED:20190827T112928Z
UID:2144-1566979200-1567011600@rps.nz
SUMMARY:Set Subject [Creative Images] closes
DESCRIPTION:Set Subject [Creative Images] entries close at midnight.
URL:https://rps.nz/event/set-subject-creative-images-closes/
CATEGORIES:Competition closes
END:VEVENT
BEGIN:VEVENT
DTSTART;TZID=UTC:20190820T190000
DTEND;TZID=UTC:20190820T210000
DTSTAMP:20260425T142308
CREATED:20181212T182443Z
LAST-MODIFIED:20181212T185546Z
UID:751-1566327600-1566334800@rps.nz
SUMMARY:CLUB NIGHT
DESCRIPTION:Judging Photojournalism \nBlack & White closes
URL:https://rps.nz/event/club-night-22/
CATEGORIES:Club night,Competition closes,Judging
END:VEVENT
BEGIN:VEVENT
DTSTART;TZID=UTC:20190716T190000
DTEND;TZID=UTC:20190716T210000
DTSTAMP:20260425T142308
CREATED:20181212T181647Z
LAST-MODIFIED:20181212T185458Z
UID:739-1563303600-1563310800@rps.nz
SUMMARY:CLUB NIGHT
DESCRIPTION:Judging 2nd Open \nPhotojournalism closes
URL:https://rps.nz/event/club-night-19/
LOCATION:McAlpines Pavilion\, 291/319 Coldstream Rd\, Rangiora\, Canterbury\, 7473\, New Zealand
CATEGORIES:Club night,Competition closes,Judging
END:VEVENT
BEGIN:VEVENT
DTSTART;VALUE=DATE:20190630
DTEND;VALUE=DATE:20190701
DTSTAMP:20260425T142308
CREATED:20181212T191805Z
LAST-MODIFIED:20181212T191805Z
UID:798-1561852800-1561939199@rps.nz
SUMMARY:ONLINE CHALLENGE
DESCRIPTION:Closes
URL:https://rps.nz/event/online-challenge-3/
CATEGORIES:Competition closes
END:VEVENT
BEGIN:VEVENT
DTSTART;TZID=UTC:20190618T190000
DTEND;TZID=UTC:20190618T210000
DTSTAMP:20260425T142308
CREATED:20181212T181133Z
LAST-MODIFIED:20181212T185401Z
UID:731-1560884400-1560891600@rps.nz
SUMMARY:CLUB NIGHT
DESCRIPTION:Judging Portraiture \n2nd Open closes
URL:https://rps.nz/event/club-night-16/
LOCATION:McAlpines Pavilion\, 291/319 Coldstream Rd\, Rangiora\, Canterbury\, 7473\, New Zealand
CATEGORIES:Club night,Competition closes,Judging
END:VEVENT
BEGIN:VEVENT
DTSTART;TZID=UTC:20190521T190000
DTEND;TZID=UTC:20190521T210000
DTSTAMP:20260425T142308
CREATED:20181212T180055Z
LAST-MODIFIED:20181212T185312Z
UID:719-1558465200-1558472400@rps.nz
SUMMARY:CLUB NIGHT
DESCRIPTION:Judging Natural History \nPortraiture closes
URL:https://rps.nz/event/club-night-12/
CATEGORIES:Club night,Competition closes,Judging
END:VEVENT
BEGIN:VEVENT
DTSTART;VALUE=DATE:20190430
DTEND;VALUE=DATE:20190501
DTSTAMP:20260425T142308
CREATED:20181212T191713Z
LAST-MODIFIED:20181212T191713Z
UID:796-1556582400-1556668799@rps.nz
SUMMARY:ONLINE CHALLENGE
DESCRIPTION:Closes
URL:https://rps.nz/event/online-challenge-2/
CATEGORIES:Competition closes
END:VEVENT
BEGIN:VEVENT
DTSTART;TZID=UTC:20190416T190000
DTEND;TZID=UTC:20190416T210000
DTSTAMP:20260425T142308
CREATED:20181212T174403Z
LAST-MODIFIED:20181212T185147Z
UID:706-1555441200-1555448400@rps.nz
SUMMARY:CLUB NIGHT
DESCRIPTION:Judging Landscape \nNatural History closes
URL:https://rps.nz/event/club-night-9/
LOCATION:McAlpines Pavilion\, 291/319 Coldstream Rd\, Rangiora\, Canterbury\, 7473\, New Zealand
CATEGORIES:Club night,Competition closes,Judging
ORGANIZER;CN="RPS":MAILTO:admin@rps.nz
END:VEVENT
BEGIN:VEVENT
DTSTART;TZID=UTC:20190319T190000
DTEND;TZID=UTC:20190319T210000
DTSTAMP:20260425T142308
CREATED:20181212T173453Z
LAST-MODIFIED:20181212T185047Z
UID:698-1553022000-1553029200@rps.nz
SUMMARY:CLUB NIGHT
DESCRIPTION:Judging 1st Open \nLandscape closes
URL:https://rps.nz/event/club-night-6/
LOCATION:McAlpines Pavilion\, 291/319 Coldstream Rd\, Rangiora\, Canterbury\, 7473\, New Zealand
CATEGORIES:Club night,Competition closes,Judging
END:VEVENT
BEGIN:VEVENT
DTSTART;VALUE=DATE:20190228
DTEND;VALUE=DATE:20190301
DTSTAMP:20260425T142308
CREATED:20181212T191626Z
LAST-MODIFIED:20181212T191626Z
UID:794-1551312000-1551398399@rps.nz
SUMMARY:ONLINE CHALLENGE
DESCRIPTION:“HOT” \nCloses
URL:https://rps.nz/event/online-challenge/
CATEGORIES:Competition closes
END:VEVENT
BEGIN:VEVENT
DTSTART;TZID=Pacific/Auckland:20190219T190000
DTEND;TZID=Pacific/Auckland:20190219T210000
DTSTAMP:20260425T142308
CREATED:20181212T172429Z
LAST-MODIFIED:20190108T201522Z
UID:690-1550602800-1550610000@rps.nz
SUMMARY:CLUB NIGHT
DESCRIPTION:Guest speaker \n1st Open closes
URL:https://rps.nz/event/club-night-3/
LOCATION:McAlpines Pavilion\, 291/319 Coldstream Rd\, Rangiora\, Canterbury\, 7473\, New Zealand
CATEGORIES:Club night,Competition closes
ORGANIZER;CN="RPS":MAILTO:admin@rps.nz
END:VEVENT
END:VCALENDAR