BEGIN:VCALENDAR
VERSION:2.0
PRODID:-//Rangiora Photographic Society - ECPv6.15.20//NONSGML v1.0//EN
CALSCALE:GREGORIAN
METHOD:PUBLISH
X-ORIGINAL-URL:https://rps.nz
X-WR-CALDESC:Events for Rangiora Photographic Society
REFRESH-INTERVAL;VALUE=DURATION:PT1H
X-Robots-Tag:noindex
X-PUBLISHED-TTL:PT1H
BEGIN:VTIMEZONE
TZID:Pacific/Auckland
BEGIN:STANDARD
TZOFFSETFROM:+1300
TZOFFSETTO:+1200
TZNAME:NZST
DTSTART:20210403T140000
END:STANDARD
BEGIN:DAYLIGHT
TZOFFSETFROM:+1200
TZOFFSETTO:+1300
TZNAME:NZDT
DTSTART:20210925T140000
END:DAYLIGHT
BEGIN:STANDARD
TZOFFSETFROM:+1300
TZOFFSETTO:+1200
TZNAME:NZST
DTSTART:20220402T140000
END:STANDARD
BEGIN:DAYLIGHT
TZOFFSETFROM:+1200
TZOFFSETTO:+1300
TZNAME:NZDT
DTSTART:20220924T140000
END:DAYLIGHT
BEGIN:STANDARD
TZOFFSETFROM:+1300
TZOFFSETTO:+1200
TZNAME:NZST
DTSTART:20230401T140000
END:STANDARD
BEGIN:DAYLIGHT
TZOFFSETFROM:+1200
TZOFFSETTO:+1300
TZNAME:NZDT
DTSTART:20230923T140000
END:DAYLIGHT
BEGIN:STANDARD
TZOFFSETFROM:+1300
TZOFFSETTO:+1200
TZNAME:NZST
DTSTART:20240406T140000
END:STANDARD
BEGIN:DAYLIGHT
TZOFFSETFROM:+1200
TZOFFSETTO:+1300
TZNAME:NZDT
DTSTART:20240928T140000
END:DAYLIGHT
BEGIN:STANDARD
TZOFFSETFROM:+1300
TZOFFSETTO:+1200
TZNAME:NZST
DTSTART:20250405T140000
END:STANDARD
BEGIN:DAYLIGHT
TZOFFSETFROM:+1200
TZOFFSETTO:+1300
TZNAME:NZDT
DTSTART:20250927T140000
END:DAYLIGHT
END:VTIMEZONE
BEGIN:VEVENT
DTSTART;VALUE=DATE:20240522
DTEND;VALUE=DATE:20240523
DTSTAMP:20260425T055503
CREATED:20231222T223700Z
LAST-MODIFIED:20231222T223700Z
UID:9096-1716336000-1716422399@rps.nz
SUMMARY:Portraiture closes
DESCRIPTION:
URL:https://rps.nz/event/portraiture-closes-5/
CATEGORIES:Competition closes
END:VEVENT
BEGIN:VEVENT
DTSTART;VALUE=DATE:20240417
DTEND;VALUE=DATE:20240418
DTSTAMP:20260425T055503
CREATED:20231222T223622Z
LAST-MODIFIED:20231222T223622Z
UID:9094-1713312000-1713398399@rps.nz
SUMMARY:Natural History closes
DESCRIPTION:
URL:https://rps.nz/event/natural-history-closes-5/
CATEGORIES:Competition closes
END:VEVENT
BEGIN:VEVENT
DTSTART;VALUE=DATE:20240331
DTEND;VALUE=DATE:20240401
DTSTAMP:20260425T055503
CREATED:20231222T224153Z
LAST-MODIFIED:20231222T224153Z
UID:9112-1711843200-1711929599@rps.nz
SUMMARY:Online #1 closes
DESCRIPTION:
URL:https://rps.nz/event/online-1-closes/
CATEGORIES:Competition closes
END:VEVENT
BEGIN:VEVENT
DTSTART;VALUE=DATE:20240320
DTEND;VALUE=DATE:20240321
DTSTAMP:20260425T055503
CREATED:20231222T223552Z
LAST-MODIFIED:20231222T223552Z
UID:9092-1710892800-1710979199@rps.nz
SUMMARY:Landscape closes
DESCRIPTION:
URL:https://rps.nz/event/landscape-closes-4/
CATEGORIES:Competition closes
END:VEVENT
BEGIN:VEVENT
DTSTART;VALUE=DATE:20240221
DTEND;VALUE=DATE:20240222
DTSTAMP:20260425T055503
CREATED:20231222T223525Z
LAST-MODIFIED:20231222T223525Z
UID:9090-1708473600-1708559999@rps.nz
SUMMARY:1st Open closes
DESCRIPTION:
URL:https://rps.nz/event/1st-open-closes-3/
CATEGORIES:Competition closes
END:VEVENT
BEGIN:VEVENT
DTSTART;TZID=Pacific/Auckland:20231108T233000
DTEND;TZID=Pacific/Auckland:20231108T233000
DTSTAMP:20260425T055503
CREATED:20221220T012803Z
LAST-MODIFIED:20221220T012803Z
UID:8199-1699486200-1699486200@rps.nz
SUMMARY:Supreme Image of the Year closes
DESCRIPTION:
URL:https://rps.nz/event/supreme-image-of-the-year-closes-3/
CATEGORIES:Competition closes
END:VEVENT
BEGIN:VEVENT
DTSTART;TZID=Pacific/Auckland:20231108T233000
DTEND;TZID=Pacific/Auckland:20231108T233000
DTSTAMP:20260425T055503
CREATED:20221220T012721Z
LAST-MODIFIED:20221220T012721Z
UID:8197-1699486200-1699486200@rps.nz
SUMMARY:Triptych closes
DESCRIPTION:
URL:https://rps.nz/event/triptych-closes/
CATEGORIES:Competition closes
END:VEVENT
BEGIN:VEVENT
DTSTART;TZID=Pacific/Auckland:20231004T233000
DTEND;TZID=Pacific/Auckland:20231004T233000
DTSTAMP:20260425T055503
CREATED:20221220T012542Z
LAST-MODIFIED:20221220T012635Z
UID:8195-1696462200-1696462200@rps.nz
SUMMARY:Macro closes
DESCRIPTION:
URL:https://rps.nz/event/macro-closes-2/
CATEGORIES:Competition closes
END:VEVENT
BEGIN:VEVENT
DTSTART;TZID=Pacific/Auckland:20230930T230000
DTEND;TZID=Pacific/Auckland:20230930T230000
DTSTAMP:20260425T055503
CREATED:20221220T011339Z
LAST-MODIFIED:20221220T011339Z
UID:8165-1696114800-1696114800@rps.nz
SUMMARY:Online closes - Complementary Colours
DESCRIPTION:
URL:https://rps.nz/event/online-closes-complementary-colours/
CATEGORIES:Competition closes
END:VEVENT
BEGIN:VEVENT
DTSTART;TZID=Pacific/Auckland:20230920T233000
DTEND;TZID=Pacific/Auckland:20230920T233000
DTSTAMP:20260425T055503
CREATED:20221220T012512Z
LAST-MODIFIED:20221220T012512Z
UID:8193-1695252600-1695252600@rps.nz
SUMMARY:Architecture [Set Subject] closes
DESCRIPTION:
URL:https://rps.nz/event/architecture-set-subject-closes/
CATEGORIES:Competition closes
END:VEVENT
BEGIN:VEVENT
DTSTART;TZID=Pacific/Auckland:20230816T233000
DTEND;TZID=Pacific/Auckland:20230816T233000
DTSTAMP:20260425T055503
CREATED:20221220T012426Z
LAST-MODIFIED:20221220T012426Z
UID:8191-1692228600-1692228600@rps.nz
SUMMARY:Photojournalism closes
DESCRIPTION:
URL:https://rps.nz/event/photojournalism-closes-3/
CATEGORIES:Competition closes
END:VEVENT
BEGIN:VEVENT
DTSTART;TZID=Pacific/Auckland:20230731T230000
DTEND;TZID=Pacific/Auckland:20230731T230000
DTSTAMP:20260425T055503
CREATED:20221220T010831Z
LAST-MODIFIED:20221220T010831Z
UID:8153-1690844400-1690844400@rps.nz
SUMMARY:Online closes - Leading Lines
DESCRIPTION:
URL:https://rps.nz/event/online-closes-leading-lines/
CATEGORIES:Competition closes
END:VEVENT
BEGIN:VEVENT
DTSTART;TZID=Pacific/Auckland:20230719T233000
DTEND;TZID=Pacific/Auckland:20230719T233000
DTSTAMP:20260425T055503
CREATED:20221220T012347Z
LAST-MODIFIED:20221220T012347Z
UID:8189-1689809400-1689809400@rps.nz
SUMMARY:Second Open closes
DESCRIPTION:
URL:https://rps.nz/event/second-open-closes/
CATEGORIES:Competition closes
END:VEVENT
BEGIN:VEVENT
DTSTART;TZID=Pacific/Auckland:20230621T233000
DTEND;TZID=Pacific/Auckland:20230621T233000
DTSTAMP:20260425T055503
CREATED:20221220T012318Z
LAST-MODIFIED:20221220T012318Z
UID:8187-1687390200-1687390200@rps.nz
SUMMARY:Black & White closes
DESCRIPTION:
URL:https://rps.nz/event/black-white-closes-4/
CATEGORIES:Competition closes
END:VEVENT
BEGIN:VEVENT
DTSTART;TZID=Pacific/Auckland:20230531T230000
DTEND;TZID=Pacific/Auckland:20230531T230000
DTSTAMP:20260425T055503
CREATED:20221220T010228Z
LAST-MODIFIED:20221220T010228Z
UID:8142-1685574000-1685574000@rps.nz
SUMMARY:Online closes - Song Title
DESCRIPTION:
URL:https://rps.nz/event/online-closes-song-title/
CATEGORIES:Competition closes
END:VEVENT
BEGIN:VEVENT
DTSTART;TZID=Pacific/Auckland:20230517T233000
DTEND;TZID=Pacific/Auckland:20230517T233000
DTSTAMP:20260425T055503
CREATED:20221220T012243Z
LAST-MODIFIED:20221220T012243Z
UID:8185-1684366200-1684366200@rps.nz
SUMMARY:Portraiture closes
DESCRIPTION:
URL:https://rps.nz/event/portraiture-closes-4/
CATEGORIES:Competition closes
END:VEVENT
BEGIN:VEVENT
DTSTART;TZID=Pacific/Auckland:20230419T233000
DTEND;TZID=Pacific/Auckland:20230419T233000
DTSTAMP:20260425T055503
CREATED:20221220T012211Z
LAST-MODIFIED:20221220T012211Z
UID:8183-1681947000-1681947000@rps.nz
SUMMARY:Natural History closes
DESCRIPTION:
URL:https://rps.nz/event/natural-history-closes-4/
CATEGORIES:Competition closes
END:VEVENT
BEGIN:VEVENT
DTSTART;TZID=Pacific/Auckland:20230331T230000
DTEND;TZID=Pacific/Auckland:20230331T230000
DTSTAMP:20260425T055503
CREATED:20221220T005715Z
LAST-MODIFIED:20221220T005715Z
UID:8131-1680303600-1680303600@rps.nz
SUMMARY:Online closes - Flora/Fauna
DESCRIPTION:
URL:https://rps.nz/event/online-closes-flora-fauna/
CATEGORIES:Competition closes
END:VEVENT
BEGIN:VEVENT
DTSTART;TZID=Pacific/Auckland:20230322T233000
DTEND;TZID=Pacific/Auckland:20230322T233000
DTSTAMP:20260425T055503
CREATED:20221220T012132Z
LAST-MODIFIED:20221220T012132Z
UID:8181-1679527800-1679527800@rps.nz
SUMMARY:First Open closes
DESCRIPTION:
URL:https://rps.nz/event/first-open-closes-2/
CATEGORIES:Competition closes
END:VEVENT
BEGIN:VEVENT
DTSTART;TZID=Pacific/Auckland:20230222T233000
DTEND;TZID=Pacific/Auckland:20230222T233000
DTSTAMP:20260425T055503
CREATED:20221220T012101Z
LAST-MODIFIED:20221220T012101Z
UID:8179-1677108600-1677108600@rps.nz
SUMMARY:Landscape closes
DESCRIPTION:
URL:https://rps.nz/event/landscape-closes-3/
CATEGORIES:Competition closes
END:VEVENT
BEGIN:VEVENT
DTSTART;VALUE=DATE:20221109
DTEND;VALUE=DATE:20221110
DTSTAMP:20260425T055503
CREATED:20211130T044613Z
LAST-MODIFIED:20211130T044613Z
UID:6937-1667952000-1668038399@rps.nz
SUMMARY:Supreme Image of the Year
DESCRIPTION:
URL:https://rps.nz/event/supreme-image-of-the-year/
CATEGORIES:Competition closes
END:VEVENT
BEGIN:VEVENT
DTSTART;VALUE=DATE:20221102
DTEND;VALUE=DATE:20221103
DTSTAMP:20260425T055503
CREATED:20211130T044541Z
LAST-MODIFIED:20211130T044541Z
UID:6935-1667347200-1667433599@rps.nz
SUMMARY:Themed Portfolio Closes
DESCRIPTION:
URL:https://rps.nz/event/themed-portfolio-closes-2/
CATEGORIES:Competition closes
END:VEVENT
BEGIN:VEVENT
DTSTART;VALUE=DATE:20221005
DTEND;VALUE=DATE:20221006
DTSTAMP:20260425T055503
CREATED:20211130T044500Z
LAST-MODIFIED:20211130T044500Z
UID:6933-1664928000-1665014399@rps.nz
SUMMARY:Macro Closes
DESCRIPTION:
URL:https://rps.nz/event/macro-closes/
CATEGORIES:Competition closes
END:VEVENT
BEGIN:VEVENT
DTSTART;VALUE=DATE:20220930
DTEND;VALUE=DATE:20221001
DTSTAMP:20260425T055503
CREATED:20211130T044923Z
LAST-MODIFIED:20211130T044923Z
UID:6945-1664496000-1664582399@rps.nz
SUMMARY:Online Challenge Closes - Water
DESCRIPTION:
URL:https://rps.nz/event/online-challenge-closes-water/
CATEGORIES:Competition closes
END:VEVENT
BEGIN:VEVENT
DTSTART;VALUE=DATE:20220914
DTEND;VALUE=DATE:20220915
DTSTAMP:20260425T055503
CREATED:20211130T044432Z
LAST-MODIFIED:20211130T044432Z
UID:6931-1663113600-1663199999@rps.nz
SUMMARY:Food / Still Life Closes
DESCRIPTION:
URL:https://rps.nz/event/food-still-life-closes/
CATEGORIES:Competition closes
END:VEVENT
BEGIN:VEVENT
DTSTART;VALUE=DATE:20220817
DTEND;VALUE=DATE:20220818
DTSTAMP:20260425T055503
CREATED:20211130T044358Z
LAST-MODIFIED:20211130T044358Z
UID:6929-1660694400-1660780799@rps.nz
SUMMARY:Photojournalism Closes
DESCRIPTION:
URL:https://rps.nz/event/photojournalism-closes-2/
CATEGORIES:Competition closes
END:VEVENT
BEGIN:VEVENT
DTSTART;TZID=Pacific/Auckland:20220731T080000
DTEND;TZID=Pacific/Auckland:20220731T170000
DTSTAMP:20260425T055503
CREATED:20211130T044845Z
LAST-MODIFIED:20211130T044845Z
UID:6943-1659254400-1659286800@rps.nz
SUMMARY:Online Challenge Closes - Fire
DESCRIPTION:
URL:https://rps.nz/event/online-challenge-closes-fire/
CATEGORIES:Competition closes
END:VEVENT
BEGIN:VEVENT
DTSTART;VALUE=DATE:20220720
DTEND;VALUE=DATE:20220721
DTSTAMP:20260425T055503
CREATED:20211130T044327Z
LAST-MODIFIED:20211130T044327Z
UID:6927-1658275200-1658361599@rps.nz
SUMMARY:2nd Open Closes (Prints & Digital)
DESCRIPTION:
URL:https://rps.nz/event/2nd-open-closes-prints-digital/
CATEGORIES:Competition closes
END:VEVENT
BEGIN:VEVENT
DTSTART;TZID=Pacific/Auckland:20220622T080000
DTEND;TZID=Pacific/Auckland:20220622T170000
DTSTAMP:20260425T055503
CREATED:20211130T044250Z
LAST-MODIFIED:20220126T013011Z
UID:6925-1655884800-1655917200@rps.nz
SUMMARY:Black & White Closes
DESCRIPTION:
URL:https://rps.nz/event/black-white-closes-3/
CATEGORIES:Competition closes
END:VEVENT
BEGIN:VEVENT
DTSTART;VALUE=DATE:20220531
DTEND;VALUE=DATE:20220601
DTSTAMP:20260425T055503
CREATED:20211130T044805Z
LAST-MODIFIED:20211130T044805Z
UID:6941-1653955200-1654041599@rps.nz
SUMMARY:Online Challenge Closes - Wind
DESCRIPTION:
URL:https://rps.nz/event/online-challenge-closes-wind/
CATEGORIES:Competition closes
END:VEVENT
END:VCALENDAR