BEGIN:VCALENDAR
VERSION:2.0
PRODID:-//Rangiora Photographic Society - ECPv6.15.20//NONSGML v1.0//EN
CALSCALE:GREGORIAN
METHOD:PUBLISH
X-WR-CALNAME:Rangiora Photographic Society
X-ORIGINAL-URL:https://rps.nz
X-WR-CALDESC:Events for Rangiora Photographic Society
REFRESH-INTERVAL;VALUE=DURATION:PT1H
X-Robots-Tag:noindex
X-PUBLISHED-TTL:PT1H
BEGIN:VTIMEZONE
TZID:UTC
BEGIN:STANDARD
TZOFFSETFROM:+0000
TZOFFSETTO:+0000
TZNAME:UTC
DTSTART:20180101T000000
END:STANDARD
END:VTIMEZONE
BEGIN:VEVENT
DTSTART;TZID=UTC:20190515T190000
DTEND;TZID=UTC:20190515T210000
DTSTAMP:20260425T090435
CREATED:20181212T175914Z
LAST-MODIFIED:20181212T175914Z
UID:717-1557946800-1557954000@rps.nz
SUMMARY:CLUB NIGHT
DESCRIPTION:Camera Craft
URL:https://rps.nz/event/club-night-11/
CATEGORIES:Camera craft,Club night
END:VEVENT
BEGIN:VEVENT
DTSTART;TZID=UTC:20190410T190000
DTEND;TZID=UTC:20190410T210000
DTSTAMP:20260425T090435
CREATED:20181212T174219Z
LAST-MODIFIED:20181212T174219Z
UID:704-1554922800-1554930000@rps.nz
SUMMARY:CLUB NIGHT
DESCRIPTION:Camera Craft
URL:https://rps.nz/event/club-night-8/
LOCATION:McAlpines Pavilion\, 291/319 Coldstream Rd\, Rangiora\, Canterbury\, 7473\, New Zealand
CATEGORIES:Camera craft,Club night
ORGANIZER;CN="RPS":MAILTO:admin@rps.nz
END:VEVENT
BEGIN:VEVENT
DTSTART;TZID=UTC:20190313T190000
DTEND;TZID=UTC:20190313T210000
DTSTAMP:20260425T090435
CREATED:20181212T173156Z
LAST-MODIFIED:20181212T173156Z
UID:696-1552503600-1552510800@rps.nz
SUMMARY:CLUB NIGHT
DESCRIPTION:Camera Craft
URL:https://rps.nz/event/club-night-5/
LOCATION:McAlpines Pavilion\, 291/319 Coldstream Rd\, Rangiora\, Canterbury\, 7473\, New Zealand
CATEGORIES:Camera craft,Club night
ORGANIZER;CN="RPS":MAILTO:admin@rps.nz
END:VEVENT
END:VCALENDAR