BEGIN:VCALENDAR
VERSION:2.0
PRODID:-//Rangiora Photographic Society - ECPv6.15.20//NONSGML v1.0//EN
CALSCALE:GREGORIAN
METHOD:PUBLISH
X-ORIGINAL-URL:https://rps.nz
X-WR-CALDESC:Events for Rangiora Photographic Society
REFRESH-INTERVAL;VALUE=DURATION:PT1H
X-Robots-Tag:noindex
X-PUBLISHED-TTL:PT1H
BEGIN:VTIMEZONE
TZID:Pacific/Auckland
BEGIN:STANDARD
TZOFFSETFROM:+1300
TZOFFSETTO:+1200
TZNAME:NZST
DTSTART:20180331T140000
END:STANDARD
BEGIN:DAYLIGHT
TZOFFSETFROM:+1200
TZOFFSETTO:+1300
TZNAME:NZDT
DTSTART:20180929T140000
END:DAYLIGHT
BEGIN:STANDARD
TZOFFSETFROM:+1300
TZOFFSETTO:+1200
TZNAME:NZST
DTSTART:20190406T140000
END:STANDARD
BEGIN:DAYLIGHT
TZOFFSETFROM:+1200
TZOFFSETTO:+1300
TZNAME:NZDT
DTSTART:20190928T140000
END:DAYLIGHT
BEGIN:STANDARD
TZOFFSETFROM:+1300
TZOFFSETTO:+1200
TZNAME:NZST
DTSTART:20200404T140000
END:STANDARD
BEGIN:DAYLIGHT
TZOFFSETFROM:+1200
TZOFFSETTO:+1300
TZNAME:NZDT
DTSTART:20200926T140000
END:DAYLIGHT
BEGIN:STANDARD
TZOFFSETFROM:+1300
TZOFFSETTO:+1200
TZNAME:NZST
DTSTART:20210403T140000
END:STANDARD
BEGIN:DAYLIGHT
TZOFFSETFROM:+1200
TZOFFSETTO:+1300
TZNAME:NZDT
DTSTART:20210925T140000
END:DAYLIGHT
BEGIN:STANDARD
TZOFFSETFROM:+1300
TZOFFSETTO:+1200
TZNAME:NZST
DTSTART:20220402T140000
END:STANDARD
BEGIN:DAYLIGHT
TZOFFSETFROM:+1200
TZOFFSETTO:+1300
TZNAME:NZDT
DTSTART:20220924T140000
END:DAYLIGHT
BEGIN:STANDARD
TZOFFSETFROM:+1300
TZOFFSETTO:+1200
TZNAME:NZST
DTSTART:20230401T140000
END:STANDARD
BEGIN:DAYLIGHT
TZOFFSETFROM:+1200
TZOFFSETTO:+1300
TZNAME:NZDT
DTSTART:20230923T140000
END:DAYLIGHT
BEGIN:STANDARD
TZOFFSETFROM:+1300
TZOFFSETTO:+1200
TZNAME:NZST
DTSTART:20240406T140000
END:STANDARD
BEGIN:DAYLIGHT
TZOFFSETFROM:+1200
TZOFFSETTO:+1300
TZNAME:NZDT
DTSTART:20240928T140000
END:DAYLIGHT
BEGIN:STANDARD
TZOFFSETFROM:+1300
TZOFFSETTO:+1200
TZNAME:NZST
DTSTART:20250405T140000
END:STANDARD
BEGIN:DAYLIGHT
TZOFFSETFROM:+1200
TZOFFSETTO:+1300
TZNAME:NZDT
DTSTART:20250927T140000
END:DAYLIGHT
END:VTIMEZONE
BEGIN:VTIMEZONE
TZID:UTC
BEGIN:STANDARD
TZOFFSETFROM:+0000
TZOFFSETTO:+0000
TZNAME:UTC
DTSTART:20180101T000000
END:STANDARD
END:VTIMEZONE
BEGIN:VEVENT
DTSTART;TZID=Pacific/Auckland:20240806T190000
DTEND;TZID=Pacific/Auckland:20240806T210000
DTSTAMP:20260425T041809
CREATED:20231222T222634Z
LAST-MODIFIED:20231222T222634Z
UID:9070-1722970800-1722978000@rps.nz
SUMMARY:Club Night - Camera Craft
DESCRIPTION:
URL:https://rps.nz/event/club-night-camera-craft-3/
LOCATION:McAlpines Pavilion\, 291/319 Coldstream Rd\, Rangiora\, Canterbury\, 7473\, New Zealand
CATEGORIES:Camera craft,Club night
END:VEVENT
BEGIN:VEVENT
DTSTART;TZID=Pacific/Auckland:20240507T190000
DTEND;TZID=Pacific/Auckland:20240507T210000
DTSTAMP:20260425T041809
CREATED:20231222T222045Z
LAST-MODIFIED:20231222T222045Z
UID:9058-1715108400-1715115600@rps.nz
SUMMARY:Club Night - Camera Craft
DESCRIPTION:
URL:https://rps.nz/event/club-night-camera-craft-2/
LOCATION:McAlpines Pavilion\, 291/319 Coldstream Rd\, Rangiora\, Canterbury\, 7473\, New Zealand
CATEGORIES:Camera craft,Club night
END:VEVENT
BEGIN:VEVENT
DTSTART;TZID=Pacific/Auckland:20240305T190000
DTEND;TZID=Pacific/Auckland:20240305T210000
DTSTAMP:20260425T041809
CREATED:20231222T221429Z
LAST-MODIFIED:20231222T221429Z
UID:9049-1709665200-1709672400@rps.nz
SUMMARY:Club Night - Camera Craft
DESCRIPTION:
URL:https://rps.nz/event/club-night-camera-craft/
LOCATION:McAlpines Pavilion\, 291/319 Coldstream Rd\, Rangiora\, Canterbury\, 7473\, New Zealand
CATEGORIES:Camera craft,Club night
END:VEVENT
BEGIN:VEVENT
DTSTART;TZID=Pacific/Auckland:20230801T190000
DTEND;TZID=Pacific/Auckland:20230801T210000
DTSTAMP:20260425T041809
CREATED:20221220T010917Z
LAST-MODIFIED:20221220T010917Z
UID:8155-1690916400-1690923600@rps.nz
SUMMARY:Club Night
DESCRIPTION:Camera Craft
URL:https://rps.nz/event/club-night-107/
LOCATION:Canterbury
CATEGORIES:Camera craft,Club night
END:VEVENT
BEGIN:VEVENT
DTSTART;TZID=Pacific/Auckland:20230502T190000
DTEND;TZID=Pacific/Auckland:20230502T210000
DTSTAMP:20260425T041809
CREATED:20221220T010027Z
LAST-MODIFIED:20221220T010027Z
UID:8138-1683054000-1683061200@rps.nz
SUMMARY:Club Night
DESCRIPTION:Camera Craft – Astro [weather dependant]
URL:https://rps.nz/event/club-night-101/
LOCATION:Canterbury
CATEGORIES:Camera craft,Club night
END:VEVENT
BEGIN:VEVENT
DTSTART;TZID=Pacific/Auckland:20230307T190000
DTEND;TZID=Pacific/Auckland:20230307T210000
DTSTAMP:20260425T041809
CREATED:20221220T005522Z
LAST-MODIFIED:20221220T005522Z
UID:8126-1678215600-1678222800@rps.nz
SUMMARY:Club Night
DESCRIPTION:Camera Craft
URL:https://rps.nz/event/club-night-97/
LOCATION:McAlpines Pavilion\, 291/319 Coldstream Rd\, Rangiora\, Canterbury\, 7473\, New Zealand
CATEGORIES:Camera craft,Club night
END:VEVENT
BEGIN:VEVENT
DTSTART;TZID=Pacific/Auckland:20220802T190000
DTEND;TZID=Pacific/Auckland:20220802T213000
DTSTAMP:20260425T041809
CREATED:20211130T042854Z
LAST-MODIFIED:20211130T042854Z
UID:6898-1659466800-1659475800@rps.nz
SUMMARY:Club Night
DESCRIPTION:Still life – Camera Craft
URL:https://rps.nz/event/club-night-88/
LOCATION:McAlpines Pavilion\, 291/319 Coldstream Rd\, Rangiora\, Canterbury\, 7473\, New Zealand
CATEGORIES:Camera craft,Club night
END:VEVENT
BEGIN:VEVENT
DTSTART;TZID=Pacific/Auckland:20220607T190000
DTEND;TZID=Pacific/Auckland:20220607T213000
DTSTAMP:20260425T041809
CREATED:20211130T035158Z
LAST-MODIFIED:20211130T035158Z
UID:6884-1654628400-1654637400@rps.nz
SUMMARY:Club Night
DESCRIPTION:Cafe Style Image Presentation
URL:https://rps.nz/event/club-night-84/
LOCATION:McAlpines Pavilion\, 291/319 Coldstream Rd\, Rangiora\, Canterbury\, 7473\, New Zealand
CATEGORIES:Camera craft,Club night
END:VEVENT
BEGIN:VEVENT
DTSTART;TZID=Pacific/Auckland:20220503T190000
DTEND;TZID=Pacific/Auckland:20220503T213000
DTSTAMP:20260425T041809
CREATED:20211130T034930Z
LAST-MODIFIED:20211130T034930Z
UID:6880-1651604400-1651613400@rps.nz
SUMMARY:Club Night
DESCRIPTION:
URL:https://rps.nz/event/club-night-82/
LOCATION:McAlpines Pavilion\, 291/319 Coldstream Rd\, Rangiora\, Canterbury\, 7473\, New Zealand
CATEGORIES:Camera craft
END:VEVENT
BEGIN:VEVENT
DTSTART;TZID=Pacific/Auckland:20220301T190000
DTEND;TZID=Pacific/Auckland:20220301T213000
DTSTAMP:20260425T041809
CREATED:20211130T033903Z
LAST-MODIFIED:20211130T034152Z
UID:6863-1646161200-1646170200@rps.nz
SUMMARY:Club Night
DESCRIPTION:Pets in Action with Sarah Perrins
URL:https://rps.nz/event/club-night-78/
LOCATION:McAlpines Pavilion\, 291/319 Coldstream Rd\, Rangiora\, Canterbury\, 7473\, New Zealand
CATEGORIES:Camera craft
END:VEVENT
BEGIN:VEVENT
DTSTART;TZID=Pacific/Auckland:20211005T190000
DTEND;TZID=Pacific/Auckland:20211005T210000
DTSTAMP:20260425T041809
CREATED:20210112T084557Z
LAST-MODIFIED:20210929T054658Z
UID:4576-1633460400-1633467600@rps.nz
SUMMARY:Club Night - portfolio presentation and Custard in your Face
DESCRIPTION:We will be having a short presentation on creating a portfolio. This is closing soon ( Nov 3rd) so time to really get started if you haven’t already! If you have never created a portfolio or have any questions then we can offer some guidance. \nPlease wear a mask and use COVID app to sign in. \nAfter this we move to the main event! “CUSTARD IN YA FACE!” and yes it is exactly what it sounds like\, we will be throwing stuff at people (they are all willing volunteers\, Mr President for one) Bring along your cameras and capture some fun times\, even maybe portfolio worthy!!!
URL:https://rps.nz/event/club-night-73/
LOCATION:Canterbury
CATEGORIES:Camera craft,Club night
END:VEVENT
BEGIN:VEVENT
DTSTART;TZID=Pacific/Auckland:20210929T190000
DTEND;TZID=Pacific/Auckland:20210929T210000
DTSTAMP:20260425T041809
CREATED:20210112T084422Z
LAST-MODIFIED:20210926T023300Z
UID:4573-1632942000-1632949200@rps.nz
SUMMARY:Camera Craft postponed
DESCRIPTION:Software Workshop
URL:https://rps.nz/event/camera-craft-4/
LOCATION:Canterbury
CATEGORIES:Camera craft,Workshop
END:VEVENT
BEGIN:VEVENT
DTSTART;TZID=Pacific/Auckland:20210803T190000
DTEND;TZID=Pacific/Auckland:20210803T210000
DTSTAMP:20260425T041809
CREATED:20210112T083831Z
LAST-MODIFIED:20210112T083831Z
UID:4561-1628017200-1628024400@rps.nz
SUMMARY:Club Night
DESCRIPTION:Motion Capture
URL:https://rps.nz/event/club-night-69/
LOCATION:Canterbury
CATEGORIES:Camera craft,Club night
END:VEVENT
BEGIN:VEVENT
DTSTART;TZID=Pacific/Auckland:20210721T190000
DTEND;TZID=Pacific/Auckland:20210721T210000
DTSTAMP:20260425T041809
CREATED:20210112T083658Z
LAST-MODIFIED:20210706T102704Z
UID:4558-1626894000-1626901200@rps.nz
SUMMARY:Camera Craft
DESCRIPTION:Camera Craft: Light Painting
URL:https://rps.nz/event/camera-craft-3/
LOCATION:Canterbury
CATEGORIES:Camera craft
END:VEVENT
BEGIN:VEVENT
DTSTART;TZID=Pacific/Auckland:20210602T190000
DTEND;TZID=Pacific/Auckland:20210602T210000
DTSTAMP:20260425T041809
CREATED:20210112T082649Z
LAST-MODIFIED:20210112T082649Z
UID:4546-1622660400-1622667600@rps.nz
SUMMARY:Camera Craft
DESCRIPTION:Get creative with Jill Jackson
URL:https://rps.nz/event/camera-craft-2/
LOCATION:Canterbury
CATEGORIES:Camera craft
END:VEVENT
BEGIN:VEVENT
DTSTART;TZID=Pacific/Auckland:20210601T190000
DTEND;TZID=Pacific/Auckland:20210601T210000
DTSTAMP:20260425T041809
CREATED:20210112T082531Z
LAST-MODIFIED:20210112T082531Z
UID:4543-1622574000-1622581200@rps.nz
SUMMARY:Club Night
DESCRIPTION:Sports PJ tutorial [bring camera]
URL:https://rps.nz/event/club-night-65/
LOCATION:Canterbury
CATEGORIES:Camera craft,Club night
END:VEVENT
BEGIN:VEVENT
DTSTART;TZID=Pacific/Auckland:20210331T190000
DTEND;TZID=Pacific/Auckland:20210331T210000
DTSTAMP:20260425T041809
CREATED:20210112T081832Z
LAST-MODIFIED:20210330T083447Z
UID:4525-1617217200-1617224400@rps.nz
SUMMARY:Camera Craft - Creating abstract
DESCRIPTION:We are lucky enough to have Rina take us on a short feild trip \nWhere: Waikuku Beach Surf Club car park \nWhen: 6 pm or whenever you can make it after that \nWhat to bring: camera\, tripod\, lenses\, SD card\, battery and spare\, remote trigger and anything else you think you will need
URL:https://rps.nz/event/camera-craft/
LOCATION:Canterbury
CATEGORIES:Camera craft
END:VEVENT
BEGIN:VEVENT
DTSTART;TZID=Pacific/Auckland:20201111T190000
DTEND;TZID=Pacific/Auckland:20201111T213000
DTSTAMP:20260425T041809
CREATED:20200121T073836Z
LAST-MODIFIED:20200625T222618Z
UID:2533-1605121200-1605130200@rps.nz
SUMMARY:Club Night
DESCRIPTION:Camera Craft – macro photography
URL:https://rps.nz/event/club-night-54/
LOCATION:McAlpines Pavilion\, 291/319 Coldstream Rd\, Rangiora\, Canterbury\, 7473\, New Zealand
CATEGORIES:Camera craft,Club night
END:VEVENT
BEGIN:VEVENT
DTSTART;TZID=Pacific/Auckland:20201014T190000
DTEND;TZID=Pacific/Auckland:20201014T213000
DTSTAMP:20260425T041809
CREATED:20200121T072928Z
LAST-MODIFIED:20200928T094214Z
UID:2525-1602702000-1602711000@rps.nz
SUMMARY:Club Night - Nature: Taking Great Shots
DESCRIPTION:We have our super talented\, amazing Sandra Fleet presenting this evening \nShe will be covering: \n\nSettings\nTechniques\nWhat Can Possibly Go Wrong?\n\nAs Henri Cartier-Bressen said\, the first 10\,000 photos are your worst\nI’m past 10\,000 just with birds\, how can they still be going wrong!!\n\n\nHunting and Shooting\nRPS Rules for Natural History\n\nBring: \n\nCamera (with card and battery – in the past these have been forgotten by some!)\n\n\nTelephoto lens and macro/extension tubes\n\n\nPen and paper\n\nPre-work:\nIt is a very full night\, so come along with the familiarity of knowing how to quickly change settings for ISO\, Shutter and Aperture. Using Auto ISO – find out where in your camera you go to you set the limit for your ISO range
URL:https://rps.nz/event/club-night-51/
LOCATION:Canterbury
CATEGORIES:Camera craft,Club night
END:VEVENT
BEGIN:VEVENT
DTSTART;TZID=Pacific/Auckland:20200812T190000
DTEND;TZID=Pacific/Auckland:20200812T213000
DTSTAMP:20260425T041809
CREATED:20200121T071820Z
LAST-MODIFIED:20200801T071003Z
UID:2509-1597258800-1597267800@rps.nz
SUMMARY:Camera craft – Flash for fun
DESCRIPTION:Starts at 7 pm in the clubrooms. Please bring along your camera\, flash and pen and paper for notes if you want. If you don’t have a flash there will be plenty there for you to have a go with. Steven will be sending out for registrations – he will want to know what type of camera you have
URL:https://rps.nz/event/club-night-46/
LOCATION:McAlpines Pavilion\, 291/319 Coldstream Rd\, Rangiora\, Canterbury\, 7473\, New Zealand
CATEGORIES:Camera craft,Club night
END:VEVENT
BEGIN:VEVENT
DTSTART;TZID=Pacific/Auckland:20200715T190000
DTEND;TZID=Pacific/Auckland:20200715T210000
DTSTAMP:20260425T041809
CREATED:20200610T093939Z
LAST-MODIFIED:20200610T094019Z
UID:3420-1594839600-1594846800@rps.nz
SUMMARY:Club night
DESCRIPTION:Camera craft – AV
URL:https://rps.nz/event/club-night-56/
LOCATION:Canterbury
CATEGORIES:Camera craft
END:VEVENT
BEGIN:VEVENT
DTSTART;TZID=Pacific/Auckland:20200610T190000
DTEND;TZID=Pacific/Auckland:20200610T213000
DTSTAMP:20260425T041809
CREATED:20200110T074642Z
LAST-MODIFIED:20200609T074208Z
UID:2487-1591815600-1591824600@rps.nz
SUMMARY:Club Night - Postponed
DESCRIPTION:Camera Craft – AV \nWe have decided to postpone this to to combine with the Club Night on Tuesday 7 July.
URL:https://rps.nz/event/club-night-41/
LOCATION:Canterbury
CATEGORIES:Camera craft,Club night
END:VEVENT
BEGIN:VEVENT
DTSTART;TZID=Pacific/Auckland:20200513T190000
DTEND;TZID=Pacific/Auckland:20200513T213000
DTSTAMP:20260425T041809
CREATED:20200110T073731Z
LAST-MODIFIED:20200422T051500Z
UID:2477-1589396400-1589405400@rps.nz
SUMMARY:Club Night - postponed
DESCRIPTION:Camera Craft
URL:https://rps.nz/event/club-night-38/
LOCATION:McAlpines Pavilion\, 291/319 Coldstream Rd\, Rangiora\, Canterbury\, 7473\, New Zealand
CATEGORIES:Camera craft,Club night
END:VEVENT
BEGIN:VEVENT
DTSTART;TZID=Pacific/Auckland:20200415T190000
DTEND;TZID=Pacific/Auckland:20200415T213000
DTSTAMP:20260425T041809
CREATED:20200110T073002Z
LAST-MODIFIED:20200110T073002Z
UID:2469-1586977200-1586986200@rps.nz
SUMMARY:Club Night
DESCRIPTION:Camera craft
URL:https://rps.nz/event/club-night-35/
LOCATION:McAlpines Pavilion\, 291/319 Coldstream Rd\, Rangiora\, Canterbury\, 7473\, New Zealand
CATEGORIES:Camera craft,Club night
END:VEVENT
BEGIN:VEVENT
DTSTART;TZID=Pacific/Auckland:20200311T190000
DTEND;TZID=Pacific/Auckland:20200311T210000
DTSTAMP:20260425T041809
CREATED:20200110T072109Z
LAST-MODIFIED:20200301T192947Z
UID:2461-1583953200-1583960400@rps.nz
SUMMARY:Club Night
DESCRIPTION:Camera Craft – Cropping Workshop run by Steven. You don’t need to bring anything but a willingness to learn
URL:https://rps.nz/event/club-night-32/
LOCATION:McAlpines Pavilion\, 291/319 Coldstream Rd\, Rangiora\, Canterbury\, 7473\, New Zealand
CATEGORIES:Camera craft,Club night
ORGANIZER;CN="RPS":MAILTO:admin@rps.nz
END:VEVENT
BEGIN:VEVENT
DTSTART;TZID=UTC:20191113T190000
DTEND;TZID=UTC:20191113T210000
DTSTAMP:20260425T041809
CREATED:20181212T184434Z
LAST-MODIFIED:20191022T080217Z
UID:775-1573671600-1573678800@rps.nz
SUMMARY:CLUB NIGHT
DESCRIPTION:Camera Craft – Nature Photography 
URL:https://rps.nz/event/club-night-30/
LOCATION:McAlpines Pavilion\, 291/319 Coldstream Rd\, Rangiora\, Canterbury\, 7473\, New Zealand
CATEGORIES:Camera craft,Club night
END:VEVENT
BEGIN:VEVENT
DTSTART;TZID=UTC:20191009T190000
DTEND;TZID=UTC:20191009T210000
DTSTAMP:20260425T041809
CREATED:20181212T183833Z
LAST-MODIFIED:20181212T183833Z
UID:767-1570647600-1570654800@rps.nz
SUMMARY:CLUB NIGHT
DESCRIPTION:Camera Craft
URL:https://rps.nz/event/club-night-27/
LOCATION:McAlpines Pavilion\, 291/319 Coldstream Rd\, Rangiora\, Canterbury\, 7473\, New Zealand
CATEGORIES:Camera craft,Club night
END:VEVENT
BEGIN:VEVENT
DTSTART;TZID=Pacific/Auckland:20190814T190000
DTEND;TZID=Pacific/Auckland:20190814T210000
DTSTAMP:20260425T041809
CREATED:20181212T182124Z
LAST-MODIFIED:20190811T035426Z
UID:747-1565809200-1565816400@rps.nz
SUMMARY:CLUB NIGHT
DESCRIPTION:Camera Craft: Night Photography
URL:https://rps.nz/event/club-night-21/
LOCATION:McAlpines Pavilion\, 291/319 Coldstream Rd\, Rangiora\, Canterbury\, 7473\, New Zealand
CATEGORIES:Camera craft,Club night
ORGANIZER;CN="RPS":MAILTO:admin@rps.nz
END:VEVENT
BEGIN:VEVENT
DTSTART;TZID=UTC:20190710T190000
DTEND;TZID=UTC:20190710T210000
DTSTAMP:20260425T041809
CREATED:20181212T181403Z
LAST-MODIFIED:20181212T181403Z
UID:735-1562785200-1562792400@rps.nz
SUMMARY:CLUB NIGHT
DESCRIPTION:Camera Craft
URL:https://rps.nz/event/club-night-18/
LOCATION:McAlpines Pavilion\, 291/319 Coldstream Rd\, Rangiora\, Canterbury\, 7473\, New Zealand
CATEGORIES:Camera craft,Club night
END:VEVENT
BEGIN:VEVENT
DTSTART;TZID=UTC:20190612T190000
DTEND;TZID=UTC:20190612T210000
DTSTAMP:20260425T041809
CREATED:20181212T180855Z
LAST-MODIFIED:20181212T180855Z
UID:729-1560366000-1560373200@rps.nz
SUMMARY:CLUB NIGHT
DESCRIPTION:Camera Craft
URL:https://rps.nz/event/club-night-15/
LOCATION:McAlpines Pavilion\, 291/319 Coldstream Rd\, Rangiora\, Canterbury\, 7473\, New Zealand
CATEGORIES:Camera craft,Club night
END:VEVENT
END:VCALENDAR